This page was generated on 2021-05-06 12:27:25 -0400 (Thu, 06 May 2021).
##############################################################################
##############################################################################
###
### Running command:
###
###   /home/biocbuild/bbs-3.12-bioc/R/bin/R CMD INSTALL DropletUtils
###
##############################################################################
##############################################################################
* installing to library ‘/home/biocbuild/bbs-3.12-bioc/R/library’
* installing *source* package ‘DropletUtils’ ...
** using staged installation
** libs
g++ -std=gnu++11 -I"/home/biocbuild/bbs-3.12-bioc/R/include" -DNDEBUG  -I'/home/biocbuild/bbs-3.12-bioc/R/library/Rcpp/include' -I'/home/biocbuild/bbs-3.12-bioc/R/library/beachmat/include' -I'/home/biocbuild/bbs-3.12-bioc/R/library/Rhdf5lib/include' -I'/home/biocbuild/bbs-3.12-bioc/R/library/BH/include' -I'/home/biocbuild/bbs-3.12-bioc/R/library/dqrng/include' -I'/home/biocbuild/bbs-3.12-bioc/R/library/scuttle/include' -I/usr/local/include   -fpic  -g -O2  -Wall -c RcppExports.cpp -o RcppExports.o
g++ -std=gnu++11 -I"/home/biocbuild/bbs-3.12-bioc/R/include" -DNDEBUG  -I'/home/biocbuild/bbs-3.12-bioc/R/library/Rcpp/include' -I'/home/biocbuild/bbs-3.12-bioc/R/library/beachmat/include' -I'/home/biocbuild/bbs-3.12-bioc/R/library/Rhdf5lib/include' -I'/home/biocbuild/bbs-3.12-bioc/R/library/BH/include' -I'/home/biocbuild/bbs-3.12-bioc/R/library/dqrng/include' -I'/home/biocbuild/bbs-3.12-bioc/R/library/scuttle/include' -I/usr/local/include   -fpic  -g -O2  -Wall -c downsample_run.cpp -o downsample_run.o
g++ -std=gnu++11 -I"/home/biocbuild/bbs-3.12-bioc/R/include" -DNDEBUG  -I'/home/biocbuild/bbs-3.12-bioc/R/library/Rcpp/include' -I'/home/biocbuild/bbs-3.12-bioc/R/library/beachmat/include' -I'/home/biocbuild/bbs-3.12-bioc/R/library/Rhdf5lib/include' -I'/home/biocbuild/bbs-3.12-bioc/R/library/BH/include' -I'/home/biocbuild/bbs-3.12-bioc/R/library/dqrng/include' -I'/home/biocbuild/bbs-3.12-bioc/R/library/scuttle/include' -I/usr/local/include   -fpic  -g -O2  -Wall -c encode_sequences.cpp -o encode_sequences.o
encode_sequences.cpp: In function ‘Rcpp::IntegerVector encode_sequences(Rcpp::StringVector)’:
encode_sequences.cpp:8:23: warning: comparison between signed and unsigned integer expressions [-Wsign-compare]
     for (size_t i=0; i<output.size(); ++i) {
                      ~^~~~~~~~~~~~~~
g++ -std=gnu++11 -I"/home/biocbuild/bbs-3.12-bioc/R/include" -DNDEBUG  -I'/home/biocbuild/bbs-3.12-bioc/R/library/Rcpp/include' -I'/home/biocbuild/bbs-3.12-bioc/R/library/beachmat/include' -I'/home/biocbuild/bbs-3.12-bioc/R/library/Rhdf5lib/include' -I'/home/biocbuild/bbs-3.12-bioc/R/library/BH/include' -I'/home/biocbuild/bbs-3.12-bioc/R/library/dqrng/include' -I'/home/biocbuild/bbs-3.12-bioc/R/library/scuttle/include' -I/usr/local/include   -fpic  -g -O2  -Wall -c find_chimeric.cpp -o find_chimeric.o
find_chimeric.cpp: In function ‘Rcpp::List find_chimeric(Rcpp::StringVector, Rcpp::IntegerVector, Rcpp::IntegerVector, double, bool)’:
find_chimeric.cpp:28:23: warning: comparison between signed and unsigned integer expressions [-Wsign-compare]
     for (size_t i=0; i<nmolecules; ++i, ++uIt) {
                      ~^~~~~~~~~~~
g++ -std=gnu++11 -I"/home/biocbuild/bbs-3.12-bioc/R/include" -DNDEBUG  -I'/home/biocbuild/bbs-3.12-bioc/R/library/Rcpp/include' -I'/home/biocbuild/bbs-3.12-bioc/R/library/beachmat/include' -I'/home/biocbuild/bbs-3.12-bioc/R/library/Rhdf5lib/include' -I'/home/biocbuild/bbs-3.12-bioc/R/library/BH/include' -I'/home/biocbuild/bbs-3.12-bioc/R/library/dqrng/include' -I'/home/biocbuild/bbs-3.12-bioc/R/library/scuttle/include' -I/usr/local/include   -fpic  -g -O2  -Wall -c find_swapped.cpp -o find_swapped.o
In file included from /home/biocbuild/bbs-3.12-bioc/R/library/beachmat/include/beachmat3/lin_matrix.h:12:0,
                 from /home/biocbuild/bbs-3.12-bioc/R/library/beachmat/include/beachmat3/read_lin_block.h:11,
                 from /home/biocbuild/bbs-3.12-bioc/R/library/beachmat/include/beachmat3/beachmat.h:24,
                 from find_swapped.cpp:2:
/home/biocbuild/bbs-3.12-bioc/R/library/beachmat/include/beachmat3/Csparse_reader.h: In instantiation of ‘beachmat::SparseArraySeed_reader<V, TIT>::SparseArraySeed_reader(Rcpp::RObject) [with V = Rcpp::Vector<13>; TIT = const int*; Rcpp::RObject = Rcpp::RObject_Impl<Rcpp::PreserveStorage>]’:
/home/biocbuild/bbs-3.12-bioc/R/library/beachmat/include/beachmat3/lin_matrix.h:561:56:   required from ‘beachmat::lin_SparseArraySeed<V, TIT>::lin_SparseArraySeed(Rcpp::RObject) [with V = Rcpp::Vector<13>; TIT = const int*; Rcpp::RObject = Rcpp::RObject_Impl<Rcpp::PreserveStorage>]’
/home/biocbuild/bbs-3.12-bioc/R/library/beachmat/include/beachmat3/read_lin_block.h:36:39:   required from ‘std::unique_ptr<_Codecvt> beachmat::read_lin_sparse_block_raw(Rcpp::RObject) [with M = beachmat::lin_matrix; Rcpp::RObject = Rcpp::RObject_Impl<Rcpp::PreserveStorage>]’
/home/biocbuild/bbs-3.12-bioc/R/library/beachmat/include/beachmat3/read_lin_block.h:65:63:   required from here
/home/biocbuild/bbs-3.12-bioc/R/library/beachmat/include/beachmat3/Csparse_reader.h:535:17: warning: comparison between signed and unsigned integer expressions [-Wsign-compare]
         if (nnz != x.size()) {
/home/biocbuild/bbs-3.12-bioc/R/library/beachmat/include/beachmat3/Csparse_reader.h:551:45: warning: comparison between signed and unsigned integer expressions [-Wsign-compare]
                     if (lastR <= 0 || lastR > NR || lastC <= 0 || lastC > NC) {
                                       ~~~~~~^~~~
/home/biocbuild/bbs-3.12-bioc/R/library/beachmat/include/beachmat3/Csparse_reader.h:551:73: warning: comparison between signed and unsigned integer expressions [-Wsign-compare]
                     if (lastR <= 0 || lastR > NR || lastC <= 0 || lastC > NC) {
                                                                   ~~~~~~^~~~
/home/biocbuild/bbs-3.12-bioc/R/library/beachmat/include/beachmat3/Csparse_reader.h:593:35: warning: comparison between signed and unsigned integer expressions [-Wsign-compare]
                 for (int v = 0; v < nnz; ++v, ++rowIt, ++colIt, ++xIt) {
                                 ~~^~~~~
/home/biocbuild/bbs-3.12-bioc/R/library/beachmat/include/beachmat3/Csparse_reader.h: In instantiation of ‘beachmat::SparseArraySeed_reader<V, TIT>::SparseArraySeed_reader(Rcpp::RObject) [with V = Rcpp::Vector<14, Rcpp::PreserveStorage>; TIT = const double*; Rcpp::RObject = Rcpp::RObject_Impl<Rcpp::PreserveStorage>]’:
/home/biocbuild/bbs-3.12-bioc/R/library/beachmat/include/beachmat3/lin_matrix.h:561:56:   required from ‘beachmat::lin_SparseArraySeed<V, TIT>::lin_SparseArraySeed(Rcpp::RObject) [with V = Rcpp::Vector<14, Rcpp::PreserveStorage>; TIT = const double*; Rcpp::RObject = Rcpp::RObject_Impl<Rcpp::PreserveStorage>]’
/home/biocbuild/bbs-3.12-bioc/R/library/beachmat/include/beachmat3/read_lin_block.h:38:39:   required from ‘std::unique_ptr<_Codecvt> beachmat::read_lin_sparse_block_raw(Rcpp::RObject) [with M = beachmat::lin_matrix; Rcpp::RObject = Rcpp::RObject_Impl<Rcpp::PreserveStorage>]’
/home/biocbuild/bbs-3.12-bioc/R/library/beachmat/include/beachmat3/read_lin_block.h:65:63:   required from here
/home/biocbuild/bbs-3.12-bioc/R/library/beachmat/include/beachmat3/Csparse_reader.h:535:17: warning: comparison between signed and unsigned integer expressions [-Wsign-compare]
         if (nnz != x.size()) {
/home/biocbuild/bbs-3.12-bioc/R/library/beachmat/include/beachmat3/Csparse_reader.h:551:45: warning: comparison between signed and unsigned integer expressions [-Wsign-compare]
                     if (lastR <= 0 || lastR > NR || lastC <= 0 || lastC > NC) {
                                       ~~~~~~^~~~
/home/biocbuild/bbs-3.12-bioc/R/library/beachmat/include/beachmat3/Csparse_reader.h:551:73: warning: comparison between signed and unsigned integer expressions [-Wsign-compare]
                     if (lastR <= 0 || lastR > NR || lastC <= 0 || lastC > NC) {
                                                                   ~~~~~~^~~~
/home/biocbuild/bbs-3.12-bioc/R/library/beachmat/include/beachmat3/Csparse_reader.h:593:35: warning: comparison between signed and unsigned integer expressions [-Wsign-compare]
                 for (int v = 0; v < nnz; ++v, ++rowIt, ++colIt, ++xIt) {
                                 ~~^~~~~
/home/biocbuild/bbs-3.12-bioc/R/library/beachmat/include/beachmat3/Csparse_reader.h: In instantiation of ‘beachmat::SparseArraySeed_reader<V, TIT>::SparseArraySeed_reader(Rcpp::RObject) [with V = Rcpp::Vector<10, Rcpp::PreserveStorage>; TIT = const int*; Rcpp::RObject = Rcpp::RObject_Impl<Rcpp::PreserveStorage>]’:
/home/biocbuild/bbs-3.12-bioc/R/library/beachmat/include/beachmat3/lin_matrix.h:561:56:   required from ‘beachmat::lin_SparseArraySeed<V, TIT>::lin_SparseArraySeed(Rcpp::RObject) [with V = Rcpp::Vector<10, Rcpp::PreserveStorage>; TIT = const int*; Rcpp::RObject = Rcpp::RObject_Impl<Rcpp::PreserveStorage>]’
/home/biocbuild/bbs-3.12-bioc/R/library/beachmat/include/beachmat3/read_lin_block.h:40:39:   required from ‘std::unique_ptr<_Codecvt> beachmat::read_lin_sparse_block_raw(Rcpp::RObject) [with M = beachmat::lin_matrix; Rcpp::RObject = Rcpp::RObject_Impl<Rcpp::PreserveStorage>]’
/home/biocbuild/bbs-3.12-bioc/R/library/beachmat/include/beachmat3/read_lin_block.h:65:63:   required from here
/home/biocbuild/bbs-3.12-bioc/R/library/beachmat/include/beachmat3/Csparse_reader.h:535:17: warning: comparison between signed and unsigned integer expressions [-Wsign-compare]
         if (nnz != x.size()) {
/home/biocbuild/bbs-3.12-bioc/R/library/beachmat/include/beachmat3/Csparse_reader.h:551:45: warning: comparison between signed and unsigned integer expressions [-Wsign-compare]
                     if (lastR <= 0 || lastR > NR || lastC <= 0 || lastC > NC) {
                                       ~~~~~~^~~~
/home/biocbuild/bbs-3.12-bioc/R/library/beachmat/include/beachmat3/Csparse_reader.h:551:73: warning: comparison between signed and unsigned integer expressions [-Wsign-compare]
                     if (lastR <= 0 || lastR > NR || lastC <= 0 || lastC > NC) {
                                                                   ~~~~~~^~~~
/home/biocbuild/bbs-3.12-bioc/R/library/beachmat/include/beachmat3/Csparse_reader.h:593:35: warning: comparison between signed and unsigned integer expressions [-Wsign-compare]
                 for (int v = 0; v < nnz; ++v, ++rowIt, ++colIt, ++xIt) {
                                 ~~^~~~~
/home/biocbuild/bbs-3.12-bioc/R/library/beachmat/include/beachmat3/Csparse_reader.h: In instantiation of ‘beachmat::sparse_index<OUT, I> beachmat::Csparse_core<TIT, I, P>::get_row(size_t, ALT, I*, size_t, size_t) [with OUT = const int*; ALT = int*; TIT = const double*; I = int; P = long unsigned int; size_t = long unsigned int]’:
/home/biocbuild/bbs-3.12-bioc/R/library/beachmat/include/beachmat3/Csparse_reader.h:650:73:   required from ‘beachmat::sparse_index<OUT, int> beachmat::SparseArraySeed_reader<V, TIT>::get_row(size_t, ALT, int*, size_t, size_t) [with OUT = const int*; ALT = int*; V = Rcpp::Vector<14, Rcpp::PreserveStorage>; TIT = const double*; size_t = long unsigned int]’
/home/biocbuild/bbs-3.12-bioc/R/library/beachmat/include/beachmat3/lin_matrix.h:596:82:   required from ‘beachmat::sparse_index<const int*, int> beachmat::lin_SparseArraySeed<V, TIT>::get_row(size_t, int*, int*, size_t, size_t) [with V = Rcpp::Vector<14, Rcpp::PreserveStorage>; TIT = const double*; size_t = long unsigned int]’
find_swapped.cpp:172:1:   required from here
/home/biocbuild/bbs-3.12-bioc/R/library/beachmat/include/beachmat3/Csparse_reader.h:250:22: warning: comparison between signed and unsigned integer expressions [-Wsign-compare]
             if (idex != *pIt && static_cast<size_t>(i[idex]) == r) {
                 ~~~~~^~~~~~~
/home/biocbuild/bbs-3.12-bioc/R/library/beachmat/include/beachmat3/Csparse_reader.h: In instantiation of ‘beachmat::sparse_index<OUT, I> beachmat::Csparse_core<TIT, I, P>::get_row(size_t, ALT, I*, size_t, size_t) [with OUT = const double*; ALT = double*; TIT = const double*; I = int; P = long unsigned int; size_t = long unsigned int]’:
/home/biocbuild/bbs-3.12-bioc/R/library/beachmat/include/beachmat3/Csparse_reader.h:650:73:   required from ‘beachmat::sparse_index<OUT, int> beachmat::SparseArraySeed_reader<V, TIT>::get_row(size_t, ALT, int*, size_t, size_t) [with OUT = const double*; ALT = double*; V = Rcpp::Vector<14, Rcpp::PreserveStorage>; TIT = const double*; size_t = long unsigned int]’
/home/biocbuild/bbs-3.12-bioc/R/library/beachmat/include/beachmat3/lin_matrix.h:602:85:   required from ‘beachmat::sparse_index<const double*, int> beachmat::lin_SparseArraySeed<V, TIT>::get_row(size_t, double*, int*, size_t, size_t) [with V = Rcpp::Vector<14, Rcpp::PreserveStorage>; TIT = const double*; size_t = long unsigned int]’
find_swapped.cpp:172:1:   required from here
/home/biocbuild/bbs-3.12-bioc/R/library/beachmat/include/beachmat3/Csparse_reader.h:250:22: warning: comparison between signed and unsigned integer expressions [-Wsign-compare]
/home/biocbuild/bbs-3.12-bioc/R/library/beachmat/include/beachmat3/Csparse_reader.h: In instantiation of ‘beachmat::sparse_index<OUT, I> beachmat::Csparse_core<TIT, I, P>::get_row(size_t, ALT, I*, size_t, size_t) [with OUT = const int*; ALT = int*; TIT = const int*; I = int; P = long unsigned int; size_t = long unsigned int]’:
/home/biocbuild/bbs-3.12-bioc/R/library/beachmat/include/beachmat3/Csparse_reader.h:650:73:   required from ‘beachmat::sparse_index<OUT, int> beachmat::SparseArraySeed_reader<V, TIT>::get_row(size_t, ALT, int*, size_t, size_t) [with OUT = const int*; ALT = int*; V = Rcpp::Vector<10, Rcpp::PreserveStorage>; TIT = const int*; size_t = long unsigned int]’
/home/biocbuild/bbs-3.12-bioc/R/library/beachmat/include/beachmat3/lin_matrix.h:596:82:   required from ‘beachmat::sparse_index<const int*, int> beachmat::lin_SparseArraySeed<V, TIT>::get_row(size_t, int*, int*, size_t, size_t) [with V = Rcpp::Vector<10, Rcpp::PreserveStorage>; TIT = const int*; size_t = long unsigned int]’
find_swapped.cpp:172:1:   required from here
/home/biocbuild/bbs-3.12-bioc/R/library/beachmat/include/beachmat3/Csparse_reader.h:250:22: warning: comparison between signed and unsigned integer expressions [-Wsign-compare]
/home/biocbuild/bbs-3.12-bioc/R/library/beachmat/include/beachmat3/Csparse_reader.h: In instantiation of ‘beachmat::sparse_index<OUT, I> beachmat::Csparse_core<TIT, I, P>::get_row(size_t, ALT, I*, size_t, size_t) [with OUT = const double*; ALT = double*; TIT = const int*; I = int; P = long unsigned int; size_t = long unsigned int]’:
/home/biocbuild/bbs-3.12-bioc/R/library/beachmat/include/beachmat3/Csparse_reader.h:650:73:   required from ‘beachmat::sparse_index<OUT, int> beachmat::SparseArraySeed_reader<V, TIT>::get_row(size_t, ALT, int*, size_t, size_t) [with OUT = const double*; ALT = double*; V = Rcpp::Vector<10, Rcpp::PreserveStorage>; TIT = const int*; size_t = long unsigned int]’
/home/biocbuild/bbs-3.12-bioc/R/library/beachmat/include/beachmat3/lin_matrix.h:602:85:   required from ‘beachmat::sparse_index<const double*, int> beachmat::lin_SparseArraySeed<V, TIT>::get_row(size_t, double*, int*, size_t, size_t) [with V = Rcpp::Vector<10, Rcpp::PreserveStorage>; TIT = const int*; size_t = long unsigned int]’
find_swapped.cpp:172:1:   required from here
/home/biocbuild/bbs-3.12-bioc/R/library/beachmat/include/beachmat3/Csparse_reader.h:250:22: warning: comparison between signed and unsigned integer expressions [-Wsign-compare]
g++ -std=gnu++11 -I"/home/biocbuild/bbs-3.12-bioc/R/include" -DNDEBUG  -I'/home/biocbuild/bbs-3.12-bioc/R/library/Rcpp/include' -I'/home/biocbuild/bbs-3.12-bioc/R/library/beachmat/include' -I'/home/biocbuild/bbs-3.12-bioc/R/library/Rhdf5lib/include' -I'/home/biocbuild/bbs-3.12-bioc/R/library/BH/include' -I'/home/biocbuild/bbs-3.12-bioc/R/library/dqrng/include' -I'/home/biocbuild/bbs-3.12-bioc/R/library/scuttle/include' -I/usr/local/include   -fpic  -g -O2  -Wall -c get_cell_barcodes.cpp -o get_cell_barcodes.o
g++ -std=gnu++11 -I"/home/biocbuild/bbs-3.12-bioc/R/include" -DNDEBUG  -I'/home/biocbuild/bbs-3.12-bioc/R/library/Rcpp/include' -I'/home/biocbuild/bbs-3.12-bioc/R/library/beachmat/include' -I'/home/biocbuild/bbs-3.12-bioc/R/library/Rhdf5lib/include' -I'/home/biocbuild/bbs-3.12-bioc/R/library/BH/include' -I'/home/biocbuild/bbs-3.12-bioc/R/library/dqrng/include' -I'/home/biocbuild/bbs-3.12-bioc/R/library/scuttle/include' -I/usr/local/include   -fpic  -g -O2  -Wall -c group_cells.cpp -o group_cells.o
group_cells.cpp: In function ‘Rcpp::List group_cells(Rcpp::StringVector, Rcpp::IntegerVector)’:
group_cells.cpp:10:10: warning: comparison between signed and unsigned integer expressions [-Wsign-compare]
     if (N!=gems.size()) {
         ~^~~~~~~~~~~~~
g++ -std=gnu++11 -I"/home/biocbuild/bbs-3.12-bioc/R/include" -DNDEBUG  -I'/home/biocbuild/bbs-3.12-bioc/R/library/Rcpp/include' -I'/home/biocbuild/bbs-3.12-bioc/R/library/beachmat/include' -I'/home/biocbuild/bbs-3.12-bioc/R/library/Rhdf5lib/include' -I'/home/biocbuild/bbs-3.12-bioc/R/library/BH/include' -I'/home/biocbuild/bbs-3.12-bioc/R/library/dqrng/include' -I'/home/biocbuild/bbs-3.12-bioc/R/library/scuttle/include' -I/usr/local/include   -fpic  -g -O2  -Wall -c hashed_deltas.cpp -o hashed_deltas.o
In file included from /home/biocbuild/bbs-3.12-bioc/R/library/beachmat/include/beachmat3/lin_matrix.h:12:0,
                 from /home/biocbuild/bbs-3.12-bioc/R/library/beachmat/include/beachmat3/read_lin_block.h:11,
                 from /home/biocbuild/bbs-3.12-bioc/R/library/beachmat/include/beachmat3/beachmat.h:24,
                 from hashed_deltas.cpp:2:
/home/biocbuild/bbs-3.12-bioc/R/library/beachmat/include/beachmat3/Csparse_reader.h: In instantiation of ‘beachmat::SparseArraySeed_reader<V, TIT>::SparseArraySeed_reader(Rcpp::RObject) [with V = Rcpp::Vector<13>; TIT = const int*; Rcpp::RObject = Rcpp::RObject_Impl<Rcpp::PreserveStorage>]’:
/home/biocbuild/bbs-3.12-bioc/R/library/beachmat/include/beachmat3/lin_matrix.h:561:56:   required from ‘beachmat::lin_SparseArraySeed<V, TIT>::lin_SparseArraySeed(Rcpp::RObject) [with V = Rcpp::Vector<13>; TIT = const int*; Rcpp::RObject = Rcpp::RObject_Impl<Rcpp::PreserveStorage>]’
/home/biocbuild/bbs-3.12-bioc/R/library/beachmat/include/beachmat3/read_lin_block.h:36:39:   required from ‘std::unique_ptr<_Codecvt> beachmat::read_lin_sparse_block_raw(Rcpp::RObject) [with M = beachmat::lin_matrix; Rcpp::RObject = Rcpp::RObject_Impl<Rcpp::PreserveStorage>]’
/home/biocbuild/bbs-3.12-bioc/R/library/beachmat/include/beachmat3/read_lin_block.h:65:63:   required from here
/home/biocbuild/bbs-3.12-bioc/R/library/beachmat/include/beachmat3/Csparse_reader.h:535:17: warning: comparison between signed and unsigned integer expressions [-Wsign-compare]
         if (nnz != x.size()) {
/home/biocbuild/bbs-3.12-bioc/R/library/beachmat/include/beachmat3/Csparse_reader.h:551:45: warning: comparison between signed and unsigned integer expressions [-Wsign-compare]
                     if (lastR <= 0 || lastR > NR || lastC <= 0 || lastC > NC) {
                                       ~~~~~~^~~~
/home/biocbuild/bbs-3.12-bioc/R/library/beachmat/include/beachmat3/Csparse_reader.h:551:73: warning: comparison between signed and unsigned integer expressions [-Wsign-compare]
                     if (lastR <= 0 || lastR > NR || lastC <= 0 || lastC > NC) {
                                                                   ~~~~~~^~~~
/home/biocbuild/bbs-3.12-bioc/R/library/beachmat/include/beachmat3/Csparse_reader.h:593:35: warning: comparison between signed and unsigned integer expressions [-Wsign-compare]
                 for (int v = 0; v < nnz; ++v, ++rowIt, ++colIt, ++xIt) {
                                 ~~^~~~~
/home/biocbuild/bbs-3.12-bioc/R/library/beachmat/include/beachmat3/Csparse_reader.h: In instantiation of ‘beachmat::SparseArraySeed_reader<V, TIT>::SparseArraySeed_reader(Rcpp::RObject) [with V = Rcpp::Vector<14, Rcpp::PreserveStorage>; TIT = const double*; Rcpp::RObject = Rcpp::RObject_Impl<Rcpp::PreserveStorage>]’:
/home/biocbuild/bbs-3.12-bioc/R/library/beachmat/include/beachmat3/lin_matrix.h:561:56:   required from ‘beachmat::lin_SparseArraySeed<V, TIT>::lin_SparseArraySeed(Rcpp::RObject) [with V = Rcpp::Vector<14, Rcpp::PreserveStorage>; TIT = const double*; Rcpp::RObject = Rcpp::RObject_Impl<Rcpp::PreserveStorage>]’
/home/biocbuild/bbs-3.12-bioc/R/library/beachmat/include/beachmat3/read_lin_block.h:38:39:   required from ‘std::unique_ptr<_Codecvt> beachmat::read_lin_sparse_block_raw(Rcpp::RObject) [with M = beachmat::lin_matrix; Rcpp::RObject = Rcpp::RObject_Impl<Rcpp::PreserveStorage>]’
/home/biocbuild/bbs-3.12-bioc/R/library/beachmat/include/beachmat3/read_lin_block.h:65:63:   required from here
/home/biocbuild/bbs-3.12-bioc/R/library/beachmat/include/beachmat3/Csparse_reader.h:535:17: warning: comparison between signed and unsigned integer expressions [-Wsign-compare]
         if (nnz != x.size()) {
/home/biocbuild/bbs-3.12-bioc/R/library/beachmat/include/beachmat3/Csparse_reader.h:551:45: warning: comparison between signed and unsigned integer expressions [-Wsign-compare]
                     if (lastR <= 0 || lastR > NR || lastC <= 0 || lastC > NC) {
                                       ~~~~~~^~~~
/home/biocbuild/bbs-3.12-bioc/R/library/beachmat/include/beachmat3/Csparse_reader.h:551:73: warning: comparison between signed and unsigned integer expressions [-Wsign-compare]
                     if (lastR <= 0 || lastR > NR || lastC <= 0 || lastC > NC) {
                                                                   ~~~~~~^~~~
/home/biocbuild/bbs-3.12-bioc/R/library/beachmat/include/beachmat3/Csparse_reader.h:593:35: warning: comparison between signed and unsigned integer expressions [-Wsign-compare]
                 for (int v = 0; v < nnz; ++v, ++rowIt, ++colIt, ++xIt) {
                                 ~~^~~~~
/home/biocbuild/bbs-3.12-bioc/R/library/beachmat/include/beachmat3/Csparse_reader.h: In instantiation of ‘beachmat::SparseArraySeed_reader<V, TIT>::SparseArraySeed_reader(Rcpp::RObject) [with V = Rcpp::Vector<10, Rcpp::PreserveStorage>; TIT = const int*; Rcpp::RObject = Rcpp::RObject_Impl<Rcpp::PreserveStorage>]’:
/home/biocbuild/bbs-3.12-bioc/R/library/beachmat/include/beachmat3/lin_matrix.h:561:56:   required from ‘beachmat::lin_SparseArraySeed<V, TIT>::lin_SparseArraySeed(Rcpp::RObject) [with V = Rcpp::Vector<10, Rcpp::PreserveStorage>; TIT = const int*; Rcpp::RObject = Rcpp::RObject_Impl<Rcpp::PreserveStorage>]’
/home/biocbuild/bbs-3.12-bioc/R/library/beachmat/include/beachmat3/read_lin_block.h:40:39:   required from ‘std::unique_ptr<_Codecvt> beachmat::read_lin_sparse_block_raw(Rcpp::RObject) [with M = beachmat::lin_matrix; Rcpp::RObject = Rcpp::RObject_Impl<Rcpp::PreserveStorage>]’
/home/biocbuild/bbs-3.12-bioc/R/library/beachmat/include/beachmat3/read_lin_block.h:65:63:   required from here
/home/biocbuild/bbs-3.12-bioc/R/library/beachmat/include/beachmat3/Csparse_reader.h:535:17: warning: comparison between signed and unsigned integer expressions [-Wsign-compare]
         if (nnz != x.size()) {
/home/biocbuild/bbs-3.12-bioc/R/library/beachmat/include/beachmat3/Csparse_reader.h:551:45: warning: comparison between signed and unsigned integer expressions [-Wsign-compare]
                     if (lastR <= 0 || lastR > NR || lastC <= 0 || lastC > NC) {
                                       ~~~~~~^~~~
/home/biocbuild/bbs-3.12-bioc/R/library/beachmat/include/beachmat3/Csparse_reader.h:551:73: warning: comparison between signed and unsigned integer expressions [-Wsign-compare]
                     if (lastR <= 0 || lastR > NR || lastC <= 0 || lastC > NC) {
                                                                   ~~~~~~^~~~
/home/biocbuild/bbs-3.12-bioc/R/library/beachmat/include/beachmat3/Csparse_reader.h:593:35: warning: comparison between signed and unsigned integer expressions [-Wsign-compare]
                 for (int v = 0; v < nnz; ++v, ++rowIt, ++colIt, ++xIt) {
                                 ~~^~~~~
/home/biocbuild/bbs-3.12-bioc/R/library/beachmat/include/beachmat3/Csparse_reader.h: In instantiation of ‘beachmat::sparse_index<OUT, I> beachmat::Csparse_core<TIT, I, P>::get_row(size_t, ALT, I*, size_t, size_t) [with OUT = const int*; ALT = int*; TIT = const double*; I = int; P = long unsigned int; size_t = long unsigned int]’:
/home/biocbuild/bbs-3.12-bioc/R/library/beachmat/include/beachmat3/Csparse_reader.h:650:73:   required from ‘beachmat::sparse_index<OUT, int> beachmat::SparseArraySeed_reader<V, TIT>::get_row(size_t, ALT, int*, size_t, size_t) [with OUT = const int*; ALT = int*; V = Rcpp::Vector<14, Rcpp::PreserveStorage>; TIT = const double*; size_t = long unsigned int]’
/home/biocbuild/bbs-3.12-bioc/R/library/beachmat/include/beachmat3/lin_matrix.h:596:82:   required from ‘beachmat::sparse_index<const int*, int> beachmat::lin_SparseArraySeed<V, TIT>::get_row(size_t, int*, int*, size_t, size_t) [with V = Rcpp::Vector<14, Rcpp::PreserveStorage>; TIT = const double*; size_t = long unsigned int]’
hashed_deltas.cpp:120:1:   required from here
/home/biocbuild/bbs-3.12-bioc/R/library/beachmat/include/beachmat3/Csparse_reader.h:250:22: warning: comparison between signed and unsigned integer expressions [-Wsign-compare]
             if (idex != *pIt && static_cast<size_t>(i[idex]) == r) {
                 ~~~~~^~~~~~~
/home/biocbuild/bbs-3.12-bioc/R/library/beachmat/include/beachmat3/Csparse_reader.h: In instantiation of ‘beachmat::sparse_index<OUT, I> beachmat::Csparse_core<TIT, I, P>::get_row(size_t, ALT, I*, size_t, size_t) [with OUT = const double*; ALT = double*; TIT = const double*; I = int; P = long unsigned int; size_t = long unsigned int]’:
/home/biocbuild/bbs-3.12-bioc/R/library/beachmat/include/beachmat3/Csparse_reader.h:650:73:   required from ‘beachmat::sparse_index<OUT, int> beachmat::SparseArraySeed_reader<V, TIT>::get_row(size_t, ALT, int*, size_t, size_t) [with OUT = const double*; ALT = double*; V = Rcpp::Vector<14, Rcpp::PreserveStorage>; TIT = const double*; size_t = long unsigned int]’
/home/biocbuild/bbs-3.12-bioc/R/library/beachmat/include/beachmat3/lin_matrix.h:602:85:   required from ‘beachmat::sparse_index<const double*, int> beachmat::lin_SparseArraySeed<V, TIT>::get_row(size_t, double*, int*, size_t, size_t) [with V = Rcpp::Vector<14, Rcpp::PreserveStorage>; TIT = const double*; size_t = long unsigned int]’
hashed_deltas.cpp:120:1:   required from here
/home/biocbuild/bbs-3.12-bioc/R/library/beachmat/include/beachmat3/Csparse_reader.h:250:22: warning: comparison between signed and unsigned integer expressions [-Wsign-compare]
/home/biocbuild/bbs-3.12-bioc/R/library/beachmat/include/beachmat3/Csparse_reader.h: In instantiation of ‘beachmat::sparse_index<OUT, I> beachmat::Csparse_core<TIT, I, P>::get_row(size_t, ALT, I*, size_t, size_t) [with OUT = const int*; ALT = int*; TIT = const int*; I = int; P = long unsigned int; size_t = long unsigned int]’:
/home/biocbuild/bbs-3.12-bioc/R/library/beachmat/include/beachmat3/Csparse_reader.h:650:73:   required from ‘beachmat::sparse_index<OUT, int> beachmat::SparseArraySeed_reader<V, TIT>::get_row(size_t, ALT, int*, size_t, size_t) [with OUT = const int*; ALT = int*; V = Rcpp::Vector<10, Rcpp::PreserveStorage>; TIT = const int*; size_t = long unsigned int]’
/home/biocbuild/bbs-3.12-bioc/R/library/beachmat/include/beachmat3/lin_matrix.h:596:82:   required from ‘beachmat::sparse_index<const int*, int> beachmat::lin_SparseArraySeed<V, TIT>::get_row(size_t, int*, int*, size_t, size_t) [with V = Rcpp::Vector<10, Rcpp::PreserveStorage>; TIT = const int*; size_t = long unsigned int]’
hashed_deltas.cpp:120:1:   required from here
/home/biocbuild/bbs-3.12-bioc/R/library/beachmat/include/beachmat3/Csparse_reader.h:250:22: warning: comparison between signed and unsigned integer expressions [-Wsign-compare]
/home/biocbuild/bbs-3.12-bioc/R/library/beachmat/include/beachmat3/Csparse_reader.h: In instantiation of ‘beachmat::sparse_index<OUT, I> beachmat::Csparse_core<TIT, I, P>::get_row(size_t, ALT, I*, size_t, size_t) [with OUT = const double*; ALT = double*; TIT = const int*; I = int; P = long unsigned int; size_t = long unsigned int]’:
/home/biocbuild/bbs-3.12-bioc/R/library/beachmat/include/beachmat3/Csparse_reader.h:650:73:   required from ‘beachmat::sparse_index<OUT, int> beachmat::SparseArraySeed_reader<V, TIT>::get_row(size_t, ALT, int*, size_t, size_t) [with OUT = const double*; ALT = double*; V = Rcpp::Vector<10, Rcpp::PreserveStorage>; TIT = const int*; size_t = long unsigned int]’
/home/biocbuild/bbs-3.12-bioc/R/library/beachmat/include/beachmat3/lin_matrix.h:602:85:   required from ‘beachmat::sparse_index<const double*, int> beachmat::lin_SparseArraySeed<V, TIT>::get_row(size_t, double*, int*, size_t, size_t) [with V = Rcpp::Vector<10, Rcpp::PreserveStorage>; TIT = const int*; size_t = long unsigned int]’
hashed_deltas.cpp:120:1:   required from here
/home/biocbuild/bbs-3.12-bioc/R/library/beachmat/include/beachmat3/Csparse_reader.h:250:22: warning: comparison between signed and unsigned integer expressions [-Wsign-compare]
g++ -std=gnu++11 -I"/home/biocbuild/bbs-3.12-bioc/R/include" -DNDEBUG  -I'/home/biocbuild/bbs-3.12-bioc/R/library/Rcpp/include' -I'/home/biocbuild/bbs-3.12-bioc/R/library/beachmat/include' -I'/home/biocbuild/bbs-3.12-bioc/R/library/Rhdf5lib/include' -I'/home/biocbuild/bbs-3.12-bioc/R/library/BH/include' -I'/home/biocbuild/bbs-3.12-bioc/R/library/dqrng/include' -I'/home/biocbuild/bbs-3.12-bioc/R/library/scuttle/include' -I/usr/local/include   -fpic  -g -O2  -Wall -c montecarlo_pval.cpp -o montecarlo_pval.o
montecarlo_pval.cpp: In function ‘Rcpp::IntegerVector montecarlo_pval(Rcpp::IntegerVector, Rcpp::IntegerVector, Rcpp::NumericVector, Rcpp::NumericVector, int, double, Rcpp::List, Rcpp::IntegerVector)’:
montecarlo_pval.cpp:99:23: warning: comparison between signed and unsigned integer expressions [-Wsign-compare]
             if (higher<curlen) {
                 ~~~~~~^~~~~~~
g++ -std=gnu++11 -I"/home/biocbuild/bbs-3.12-bioc/R/include" -DNDEBUG  -I'/home/biocbuild/bbs-3.12-bioc/R/library/Rcpp/include' -I'/home/biocbuild/bbs-3.12-bioc/R/library/beachmat/include' -I'/home/biocbuild/bbs-3.12-bioc/R/library/Rhdf5lib/include' -I'/home/biocbuild/bbs-3.12-bioc/R/library/BH/include' -I'/home/biocbuild/bbs-3.12-bioc/R/library/dqrng/include' -I'/home/biocbuild/bbs-3.12-bioc/R/library/scuttle/include' -I/usr/local/include   -fpic  -g -O2  -Wall -c rand_custom.cpp -o rand_custom.o
rand_custom.cpp: In function ‘void check_pcg_vectors(Rcpp::List, Rcpp::IntegerVector, size_t, const char*)’:
rand_custom.cpp:8:21: warning: comparison between signed and unsigned integer expressions [-Wsign-compare]
     if (seeds.size()!=N) {
         ~~~~~~~~~~~~^~~
rand_custom.cpp:14:23: warning: comparison between signed and unsigned integer expressions [-Wsign-compare]
     if (streams.size()!=N) {
         ~~~~~~~~~~~~~~^~~
g++ -std=gnu++11 -I"/home/biocbuild/bbs-3.12-bioc/R/include" -DNDEBUG  -I'/home/biocbuild/bbs-3.12-bioc/R/library/Rcpp/include' -I'/home/biocbuild/bbs-3.12-bioc/R/library/beachmat/include' -I'/home/biocbuild/bbs-3.12-bioc/R/library/Rhdf5lib/include' -I'/home/biocbuild/bbs-3.12-bioc/R/library/BH/include' -I'/home/biocbuild/bbs-3.12-bioc/R/library/dqrng/include' -I'/home/biocbuild/bbs-3.12-bioc/R/library/scuttle/include' -I/usr/local/include   -fpic  -g -O2  -Wall -c utils.cpp -o utils.o
g++ -std=gnu++11 -shared -L/home/biocbuild/bbs-3.12-bioc/R/lib -L/usr/local/lib -o DropletUtils.so RcppExports.o downsample_run.o encode_sequences.o find_chimeric.o find_swapped.o get_cell_barcodes.o group_cells.o hashed_deltas.o montecarlo_pval.o rand_custom.o utils.o /home/biocbuild/bbs-3.12-bioc/R/library/Rhdf5lib/lib/libhdf5_cpp.a /home/biocbuild/bbs-3.12-bioc/R/library/Rhdf5lib/lib/libhdf5.a /home/biocbuild/bbs-3.12-bioc/R/library/Rhdf5lib/lib/libsz.a -lcrypto -lcurl -lz -L/home/biocbuild/bbs-3.12-bioc/R/lib -lR
installing to /home/biocbuild/bbs-3.12-bioc/R/library/00LOCK-DropletUtils/00new/DropletUtils/libs
** R
** inst
** byte-compile and prepare package for lazy loading
** help
*** installing help indices
** building package indices
** installing vignettes
** testing if installed package can be loaded from temporary location
** checking absolute paths in shared objects and dynamic libraries
** testing if installed package can be loaded from final location
** testing if installed package keeps a record of temporary installation path
* DONE (DropletUtils)
 
R version 4.0.5 (2021-03-31) -- "Shake and Throw"
Copyright (C) 2021 The R Foundation for Statistical Computing
Platform: x86_64-pc-linux-gnu (64-bit)
R is free software and comes with ABSOLUTELY NO WARRANTY.
You are welcome to redistribute it under certain conditions.
Type 'license()' or 'licence()' for distribution details.
R is a collaborative project with many contributors.
Type 'contributors()' for more information and
'citation()' on how to cite R or R packages in publications.
Type 'demo()' for some demos, 'help()' for on-line help, or
'help.start()' for an HTML browser interface to help.
Type 'q()' to quit R.
> library(testthat)
> library(DropletUtils)
Loading required package: SingleCellExperiment
Loading required package: SummarizedExperiment
Loading required package: MatrixGenerics
Loading required package: matrixStats
Attaching package: 'MatrixGenerics'
The following objects are masked from 'package:matrixStats':
    colAlls, colAnyNAs, colAnys, colAvgsPerRowSet, colCollapse,
    colCounts, colCummaxs, colCummins, colCumprods, colCumsums,
    colDiffs, colIQRDiffs, colIQRs, colLogSumExps, colMadDiffs,
    colMads, colMaxs, colMeans2, colMedians, colMins, colOrderStats,
    colProds, colQuantiles, colRanges, colRanks, colSdDiffs, colSds,
    colSums2, colTabulates, colVarDiffs, colVars, colWeightedMads,
    colWeightedMeans, colWeightedMedians, colWeightedSds,
    colWeightedVars, rowAlls, rowAnyNAs, rowAnys, rowAvgsPerColSet,
    rowCollapse, rowCounts, rowCummaxs, rowCummins, rowCumprods,
    rowCumsums, rowDiffs, rowIQRDiffs, rowIQRs, rowLogSumExps,
    rowMadDiffs, rowMads, rowMaxs, rowMeans2, rowMedians, rowMins,
    rowOrderStats, rowProds, rowQuantiles, rowRanges, rowRanks,
    rowSdDiffs, rowSds, rowSums2, rowTabulates, rowVarDiffs, rowVars,
    rowWeightedMads, rowWeightedMeans, rowWeightedMedians,
    rowWeightedSds, rowWeightedVars
Loading required package: GenomicRanges
Loading required package: stats4
Loading required package: BiocGenerics
Loading required package: parallel
Attaching package: 'BiocGenerics'
The following objects are masked from 'package:parallel':
    clusterApply, clusterApplyLB, clusterCall, clusterEvalQ,
    clusterExport, clusterMap, parApply, parCapply, parLapply,
    parLapplyLB, parRapply, parSapply, parSapplyLB
The following objects are masked from 'package:stats':
    IQR, mad, sd, var, xtabs
The following objects are masked from 'package:base':
    Filter, Find, Map, Position, Reduce, anyDuplicated, append,
    as.data.frame, basename, cbind, colnames, dirname, do.call,
    duplicated, eval, evalq, get, grep, grepl, intersect, is.unsorted,
    lapply, mapply, match, mget, order, paste, pmax, pmax.int, pmin,
    pmin.int, rank, rbind, rownames, sapply, setdiff, sort, table,
    tapply, union, unique, unsplit, which.max, which.min
Loading required package: S4Vectors
Attaching package: 'S4Vectors'
The following object is masked from 'package:base':
    expand.grid
Loading required package: IRanges
Loading required package: GenomeInfoDb
Loading required package: Biobase
Welcome to Bioconductor
    Vignettes contain introductory material; view with
    'browseVignettes()'. To cite Bioconductor, see
    'citation("Biobase")', and for packages 'citation("pkgname")'.
Attaching package: 'Biobase'
The following object is masked from 'package:MatrixGenerics':
    rowMedians
The following objects are masked from 'package:matrixStats':
    anyMissing, rowMedians
> test_check("DropletUtils")
[ FAIL 0 | WARN 4 | SKIP 0 | PASS 950 ]
> 
> proc.time()
   user  system elapsed 
163.804   1.476 161.950