| Back to Multiple platform build/check report for BioC 3.12 |
|
This page was generated on 2021-05-06 12:27:20 -0400 (Thu, 06 May 2021).
|
To the developers/maintainers of the DiffLogo package: Please make sure to use the following settings in order to reproduce any error or warning you see on this page. |
| Package 479/1974 | Hostname | OS / Arch | INSTALL | BUILD | CHECK | BUILD BIN | ||||||||
| DiffLogo 2.14.0 (landing page) Hendrik Treutler
| malbec1 | Linux (Ubuntu 18.04.5 LTS) / x86_64 | OK | OK | OK | |||||||||
| tokay1 | Windows Server 2012 R2 Standard / x64 | OK | OK | OK | OK | |||||||||
| merida1 | macOS 10.14.6 Mojave / x86_64 | OK | OK | OK | OK | |||||||||
| Package: DiffLogo |
| Version: 2.14.0 |
| Command: /home/biocbuild/bbs-3.12-bioc/R/bin/R CMD check --install=check:DiffLogo.install-out.txt --library=/home/biocbuild/bbs-3.12-bioc/R/library --no-vignettes --timings DiffLogo_2.14.0.tar.gz |
| StartedAt: 2021-05-06 00:57:42 -0400 (Thu, 06 May 2021) |
| EndedAt: 2021-05-06 00:58:20 -0400 (Thu, 06 May 2021) |
| EllapsedTime: 37.5 seconds |
| RetCode: 0 |
| Status: OK |
| CheckDir: DiffLogo.Rcheck |
| Warnings: 0 |
##############################################################################
##############################################################################
###
### Running command:
###
### /home/biocbuild/bbs-3.12-bioc/R/bin/R CMD check --install=check:DiffLogo.install-out.txt --library=/home/biocbuild/bbs-3.12-bioc/R/library --no-vignettes --timings DiffLogo_2.14.0.tar.gz
###
##############################################################################
##############################################################################
* using log directory ‘/home/biocbuild/bbs-3.12-bioc/meat/DiffLogo.Rcheck’
* using R version 4.0.5 (2021-03-31)
* using platform: x86_64-pc-linux-gnu (64-bit)
* using session charset: UTF-8
* using option ‘--no-vignettes’
* checking for file ‘DiffLogo/DESCRIPTION’ ... OK
* checking extension type ... Package
* this is package ‘DiffLogo’ version ‘2.14.0’
* checking package namespace information ... OK
* checking package dependencies ... OK
* checking if this is a source package ... OK
* checking if there is a namespace ... OK
* checking for hidden files and directories ... OK
* checking for portable file names ... OK
* checking for sufficient/correct file permissions ... OK
* checking whether package ‘DiffLogo’ can be installed ... OK
* checking installed package size ... OK
* checking package directory ... OK
* checking ‘build’ directory ... OK
* checking DESCRIPTION meta-information ... OK
* checking top-level files ... OK
* checking for left-over files ... OK
* checking index information ... OK
* checking package subdirectories ... OK
* checking R files for non-ASCII characters ... OK
* checking R files for syntax errors ... OK
* checking whether the package can be loaded ... OK
* checking whether the package can be loaded with stated dependencies ... OK
* checking whether the package can be unloaded cleanly ... OK
* checking whether the namespace can be loaded with stated dependencies ... OK
* checking whether the namespace can be unloaded cleanly ... OK
* checking dependencies in R code ... OK
* checking S3 generic/method consistency ... OK
* checking replacement functions ... OK
* checking foreign function calls ... OK
* checking R code for possible problems ... NOTE
diffLogo: no visible global function definition for ‘is’
preconditionTransformPWM: no visible global function definition for
‘is’
Undefined global functions or variables:
is
Consider adding
importFrom("methods", "is")
to your NAMESPACE file (and ensure that your DESCRIPTION Imports field
contains 'methods').
* checking Rd files ... OK
* checking Rd metadata ... OK
* checking Rd cross-references ... OK
* checking for missing documentation entries ... OK
* checking for code/documentation mismatches ... OK
* checking Rd \usage sections ... OK
* checking Rd contents ... OK
* checking for unstated dependencies in examples ... OK
* checking files in ‘vignettes’ ... OK
* checking examples ... OK
* checking for unstated dependencies in ‘tests’ ... OK
* checking tests ...
Running ‘testthat.R’
OK
* checking for unstated dependencies in vignettes ... OK
* checking package vignettes in ‘inst/doc’ ... OK
* checking running R code from vignettes ... SKIPPED
* checking re-building of vignette outputs ... SKIPPED
* checking PDF version of manual ... OK
* DONE
Status: 1 NOTE
See
‘/home/biocbuild/bbs-3.12-bioc/meat/DiffLogo.Rcheck/00check.log’
for details.
DiffLogo.Rcheck/00install.out
############################################################################## ############################################################################## ### ### Running command: ### ### /home/biocbuild/bbs-3.12-bioc/R/bin/R CMD INSTALL DiffLogo ### ############################################################################## ############################################################################## * installing to library ‘/home/biocbuild/bbs-3.12-bioc/R/library’ * installing *source* package ‘DiffLogo’ ... ** using staged installation ** R ** inst ** byte-compile and prepare package for lazy loading ** help *** installing help indices ** building package indices ** installing vignettes ** testing if installed package can be loaded from temporary location ** testing if installed package can be loaded from final location ** testing if installed package keeps a record of temporary installation path * DONE (DiffLogo)
DiffLogo.Rcheck/tests/testthat.Rout
R version 4.0.5 (2021-03-31) -- "Shake and Throw" Copyright (C) 2021 The R Foundation for Statistical Computing Platform: x86_64-pc-linux-gnu (64-bit) R is free software and comes with ABSOLUTELY NO WARRANTY. You are welcome to redistribute it under certain conditions. Type 'license()' or 'licence()' for distribution details. R is a collaborative project with many contributors. Type 'contributors()' for more information and 'citation()' on how to cite R or R packages in publications. Type 'demo()' for some demos, 'help()' for on-line help, or 'help.start()' for an HTML browser interface to help. Type 'q()' to quit R. > > proc.time() user system elapsed 0.244 0.036 0.280
DiffLogo.Rcheck/DiffLogo-Ex.timings
| name | user | system | elapsed | |
| ASN | 0 | 0 | 0 | |
| Alphabet | 0 | 0 | 0 | |
| DNA | 0 | 0 | 0 | |
| FULL_ALPHABET | 0 | 0 | 0 | |
| RNA | 0 | 0 | 0 | |
| calculatePvalue | 0.028 | 0.004 | 0.032 | |
| createDiffLogoObject | 0.092 | 0.008 | 0.121 | |
| diffLogo | 0.092 | 0.000 | 0.093 | |
| diffLogoFromPwm | 0.088 | 0.000 | 0.088 | |
| diffLogoTable | 2.052 | 0.032 | 2.104 | |
| diffLogoTableConfiguration | 0.000 | 0.000 | 0.001 | |
| differenceOfICs | 0.408 | 0.008 | 0.419 | |
| drawDiffLogoTable | 1.904 | 0.012 | 1.924 | |
| enrichDiffLogoObjectWithPvalues | 0.184 | 0.000 | 0.181 | |
| enrichDiffLogoTableWithPvalues | 4.364 | 0.000 | 4.389 | |
| extendPwmsFromAlignmentVector | 0.080 | 0.004 | 0.142 | |
| getAlphabetFromCharacters | 0.004 | 0.000 | 0.000 | |
| getAlphabetFromSequences | 0.000 | 0.000 | 0.001 | |
| getPwmFromAlignment | 0.516 | 0.016 | 0.533 | |
| getPwmFromAlignmentFile | 0.008 | 0.000 | 0.009 | |
| getPwmFromFastaFile | 0.020 | 0.000 | 0.023 | |
| getPwmFromFile | 0.004 | 0.000 | 0.012 | |
| getPwmFromHomerFile | 0.004 | 0.000 | 0.008 | |
| getPwmFromPfmOrJasparFile | 0.004 | 0.000 | 0.020 | |
| getPwmFromPwmFile | 0.004 | 0.000 | 0.003 | |
| getSequencesFromAlignmentFile | 0.004 | 0.000 | 0.002 | |
| getSequencesFromFastaFile | 0.000 | 0.000 | 0.002 | |
| informationContent | 0.096 | 0.004 | 0.105 | |
| lossOfAbsICDifferences | 0.084 | 0.004 | 0.091 | |
| multipleLocalPwmsAlignment | 0.060 | 0.000 | 0.056 | |
| normalizePWM | 0.000 | 0.000 | 0.001 | |
| normalizedDifferenceOfProbabilities | 0.084 | 0.004 | 0.086 | |
| prepareDiffLogoTable | 1.336 | 0.008 | 1.345 | |
| probabilities | 0.064 | 0.000 | 0.063 | |
| seqLogo | 0.068 | 0.000 | 0.066 | |
| shannonDivergence | 0.084 | 0.000 | 0.084 | |
| sumOfAbsICDifferences | 0.084 | 0.000 | 0.085 | |
| sumOfAbsProbabilityDifferences | 0.084 | 0.000 | 0.086 | |
| sumProbabilities | 0.068 | 0.000 | 0.066 | |