| Back to Multiple platform build/check report for BioC 3.12 |
|
This page was generated on 2021-05-06 12:27:19 -0400 (Thu, 06 May 2021).
|
To the developers/maintainers of the DegNorm package: Please make sure to use the following settings in order to reproduce any error or warning you see on this page. |
| Package 445/1974 | Hostname | OS / Arch | INSTALL | BUILD | CHECK | BUILD BIN | ||||||||
| DegNorm 1.0.0 (landing page) Ji-Ping Wang
| malbec1 | Linux (Ubuntu 18.04.5 LTS) / x86_64 | OK | OK | OK | |||||||||
| tokay1 | Windows Server 2012 R2 Standard / x64 | OK | OK | OK | OK | |||||||||
| merida1 | macOS 10.14.6 Mojave / x86_64 | OK | OK | OK | OK | |||||||||
| Package: DegNorm |
| Version: 1.0.0 |
| Command: /home/biocbuild/bbs-3.12-bioc/R/bin/R CMD build --keep-empty-dirs --no-resave-data DegNorm |
| StartedAt: 2021-05-05 18:35:04 -0400 (Wed, 05 May 2021) |
| EndedAt: 2021-05-05 18:40:56 -0400 (Wed, 05 May 2021) |
| EllapsedTime: 351.6 seconds |
| RetCode: 0 |
| Status: OK |
| PackageFile: DegNorm_1.0.0.tar.gz |
| PackageFileSize: 3.236 MiB |
##############################################################################
##############################################################################
###
### Running command:
###
### /home/biocbuild/bbs-3.12-bioc/R/bin/R CMD build --keep-empty-dirs --no-resave-data DegNorm
###
##############################################################################
##############################################################################
* checking for file ‘DegNorm/DESCRIPTION’ ... OK
* preparing ‘DegNorm’:
* checking DESCRIPTION meta-information ... OK
* cleaning src
* installing the package to build vignettes
* creating vignettes ... OK
Warning: ‘inst/doc’ files
‘DegNorm.html’, ‘DegNorm.R’
ignored as vignettes have been rebuilt.
Run R CMD build with --no-build-vignettes to prevent rebuilding.
* cleaning src
* checking for LF line-endings in source and make files and shell scripts
* checking for empty or unneeded directories
* looking to see if a ‘data/datalist’ file should be added
* building ‘DegNorm_1.0.0.tar.gz’