| Back to Multiple platform build/check report for BioC 3.12 |
|
This page was generated on 2021-05-06 12:27:19 -0400 (Thu, 06 May 2021).
|
To the developers/maintainers of the DEFormats package: Please make sure to use the following settings in order to reproduce any error or warning you see on this page. |
| Package 444/1974 | Hostname | OS / Arch | INSTALL | BUILD | CHECK | BUILD BIN | ||||||||
| DEFormats 1.18.0 (landing page) Andrzej Oleś
| malbec1 | Linux (Ubuntu 18.04.5 LTS) / x86_64 | OK | OK | OK | |||||||||
| tokay1 | Windows Server 2012 R2 Standard / x64 | OK | OK | OK | OK | |||||||||
| merida1 | macOS 10.14.6 Mojave / x86_64 | OK | OK | OK | OK | |||||||||
| Package: DEFormats |
| Version: 1.18.0 |
| Command: /home/biocbuild/bbs-3.12-bioc/R/bin/R CMD build --keep-empty-dirs --no-resave-data DEFormats |
| StartedAt: 2021-05-05 18:35:00 -0400 (Wed, 05 May 2021) |
| EndedAt: 2021-05-05 18:35:45 -0400 (Wed, 05 May 2021) |
| EllapsedTime: 45.2 seconds |
| RetCode: 0 |
| Status: OK |
| PackageFile: DEFormats_1.18.0.tar.gz |
| PackageFileSize: 228.2 KiB |
############################################################################## ############################################################################## ### ### Running command: ### ### /home/biocbuild/bbs-3.12-bioc/R/bin/R CMD build --keep-empty-dirs --no-resave-data DEFormats ### ############################################################################## ############################################################################## * checking for file ‘DEFormats/DESCRIPTION’ ... OK * preparing ‘DEFormats’: * checking DESCRIPTION meta-information ... OK * installing the package to build vignettes * creating vignettes ... OK * checking for LF line-endings in source and make files and shell scripts * checking for empty or unneeded directories * building ‘DEFormats_1.18.0.tar.gz’