| Back to Multiple platform build/check report for BioC 3.12 | 
 | 
This page was generated on 2021-05-06 12:27:15 -0400 (Thu, 06 May 2021).
| To the developers/maintainers of the CoreGx package: Please make sure to use the following settings in order to reproduce any error or warning you see on this page. | 
| Package 379/1974 | Hostname | OS / Arch | INSTALL | BUILD | CHECK | BUILD BIN | ||||||||
| CoreGx 1.2.0  (landing page) Benjamin Haibe-Kains 
 | malbec1 | Linux (Ubuntu 18.04.5 LTS) / x86_64 | OK | OK | OK |  | ||||||||
| tokay1 | Windows Server 2012 R2 Standard / x64 | OK | OK | OK | OK |  | ||||||||
| merida1 | macOS 10.14.6 Mojave / x86_64 | OK | OK | OK | OK |  | ||||||||
| Package: CoreGx | 
| Version: 1.2.0 | 
| Command: /home/biocbuild/bbs-3.12-bioc/R/bin/R CMD check --install=check:CoreGx.install-out.txt --library=/home/biocbuild/bbs-3.12-bioc/R/library --no-vignettes --timings CoreGx_1.2.0.tar.gz | 
| StartedAt: 2021-05-06 00:27:49 -0400 (Thu, 06 May 2021) | 
| EndedAt: 2021-05-06 00:31:38 -0400 (Thu, 06 May 2021) | 
| EllapsedTime: 229.6 seconds | 
| RetCode: 0 | 
| Status: OK | 
| CheckDir: CoreGx.Rcheck | 
| Warnings: 0 | 
############################################################################## ############################################################################## ### ### Running command: ### ### /home/biocbuild/bbs-3.12-bioc/R/bin/R CMD check --install=check:CoreGx.install-out.txt --library=/home/biocbuild/bbs-3.12-bioc/R/library --no-vignettes --timings CoreGx_1.2.0.tar.gz ### ############################################################################## ############################################################################## * using log directory ‘/home/biocbuild/bbs-3.12-bioc/meat/CoreGx.Rcheck’ * using R version 4.0.5 (2021-03-31) * using platform: x86_64-pc-linux-gnu (64-bit) * using session charset: UTF-8 * using option ‘--no-vignettes’ * checking for file ‘CoreGx/DESCRIPTION’ ... OK * checking extension type ... Package * this is package ‘CoreGx’ version ‘1.2.0’ * package encoding: UTF-8 * checking package namespace information ... OK * checking package dependencies ... OK * checking if this is a source package ... OK * checking if there is a namespace ... OK * checking for hidden files and directories ... OK * checking for portable file names ... OK * checking for sufficient/correct file permissions ... OK * checking whether package ‘CoreGx’ can be installed ... OK * checking installed package size ... OK * checking package directory ... OK * checking ‘build’ directory ... OK * checking DESCRIPTION meta-information ... OK * checking top-level files ... OK * checking for left-over files ... OK * checking index information ... OK * checking package subdirectories ... OK * checking R files for non-ASCII characters ... OK * checking R files for syntax errors ... OK * checking whether the package can be loaded ... OK * checking whether the package can be loaded with stated dependencies ... OK * checking whether the package can be unloaded cleanly ... OK * checking whether the namespace can be loaded with stated dependencies ... OK * checking whether the namespace can be unloaded cleanly ... OK * checking dependencies in R code ... OK * checking S3 generic/method consistency ... OK * checking replacement functions ... OK * checking foreign function calls ... OK * checking R code for possible problems ... OK * checking Rd files ... OK * checking Rd metadata ... OK * checking Rd cross-references ... OK * checking for missing documentation entries ... OK * checking for code/documentation mismatches ... OK * checking Rd \usage sections ... OK * checking Rd contents ... OK * checking for unstated dependencies in examples ... OK * checking contents of ‘data’ directory ... OK * checking data for non-ASCII characters ... NOTE Note: found 8 marked UTF-8 strings * checking data for ASCII and uncompressed saves ... OK * checking files in ‘vignettes’ ... OK * checking examples ... OK * checking for unstated dependencies in ‘tests’ ... OK * checking tests ... Running ‘testthat.R’ OK * checking for unstated dependencies in vignettes ... OK * checking package vignettes in ‘inst/doc’ ... OK * checking running R code from vignettes ... SKIPPED * checking re-building of vignette outputs ... SKIPPED * checking PDF version of manual ... OK * DONE Status: 1 NOTE See ‘/home/biocbuild/bbs-3.12-bioc/meat/CoreGx.Rcheck/00check.log’ for details.
CoreGx.Rcheck/00install.out
############################################################################## ############################################################################## ### ### Running command: ### ### /home/biocbuild/bbs-3.12-bioc/R/bin/R CMD INSTALL CoreGx ### ############################################################################## ############################################################################## * installing to library ‘/home/biocbuild/bbs-3.12-bioc/R/library’ * installing *source* package ‘CoreGx’ ... ** using staged installation ** R ** data *** moving datasets to lazyload DB Registered S3 method overwritten by 'ggplot2': method from print.element sets Creating a generic function for ‘colnames’ from package ‘base’ in package ‘CoreGx’ Creating a generic function for ‘rownames’ from package ‘base’ in package ‘CoreGx’ ** inst ** byte-compile and prepare package for lazy loading Creating a generic function for ‘colnames’ from package ‘base’ in package ‘CoreGx’ Creating a generic function for ‘rownames’ from package ‘base’ in package ‘CoreGx’ ** help *** installing help indices ** building package indices ** installing vignettes ** testing if installed package can be loaded from temporary location ** testing if installed package can be loaded from final location ** testing if installed package keeps a record of temporary installation path * DONE (CoreGx)
CoreGx.Rcheck/tests/testthat.Rout
R version 4.0.5 (2021-03-31) -- "Shake and Throw"
Copyright (C) 2021 The R Foundation for Statistical Computing
Platform: x86_64-pc-linux-gnu (64-bit)
R is free software and comes with ABSOLUTELY NO WARRANTY.
You are welcome to redistribute it under certain conditions.
Type 'license()' or 'licence()' for distribution details.
R is a collaborative project with many contributors.
Type 'contributors()' for more information and
'citation()' on how to cite R or R packages in publications.
Type 'demo()' for some demos, 'help()' for on-line help, or
'help.start()' for an HTML browser interface to help.
Type 'q()' to quit R.
> library(testthat)
> library(CoreGx)
> 
> test_check("CoreGx")
[ FAIL 0 | WARN 0 | SKIP 0 | PASS 32 ]
> 
> proc.time()
   user  system elapsed 
 11.516   0.304  11.663 
CoreGx.Rcheck/CoreGx-Ex.timings
| name | user | system | elapsed | |
| CoreSet-class | 0.736 | 0.008 | 0.745 | |
| Create | 0.192 | 0.000 | 0.153 | |
| LongTable-class | 0.712 | 0.016 | 0.594 | |
| RadioSet | 0 | 0 | 0 | |
| amcc | 2.560 | 0.460 | 3.043 | |
| as | 0.172 | 0.000 | 0.136 | |
| as.data.frame.LongTable | 0.176 | 0.048 | 0.214 | |
| as.long.table | 0.100 | 0.004 | 0.071 | |
| assayCols | 0 | 0 | 0 | |
| buildLongTable | 0 | 0 | 0 | |
| callingWaterfall | 0 | 0 | 0 | |
| cash-LongTable-method | 0.024 | 0.000 | 0.018 | |
| cellInfo-set | 0.000 | 0.000 | 0.001 | |
| cellInfo | 0.000 | 0.000 | 0.001 | |
| cellNames-set | 0.204 | 0.004 | 0.210 | |
| cellNames | 0 | 0 | 0 | |
| checkCsetStructure | 0.048 | 0.000 | 0.048 | |
| colIDs | 0 | 0 | 0 | |
| colMeta | 0 | 0 | 0 | |
| connectivityScore | 0.108 | 0.000 | 0.107 | |
| cosinePerm | 0.076 | 0.000 | 0.075 | |
| curation | 0.016 | 0.000 | 0.014 | |
| datasetType-set | 0.008 | 0.004 | 0.012 | |
| datasetType | 0.012 | 0.000 | 0.012 | |
| dateCreated-set | 0 | 0 | 0 | |
| dateCreated | 0 | 0 | 0 | |
| dot- | 0 | 0 | 0 | |
| dot-distancePointLine | 0.000 | 0.000 | 0.001 | |
| dot-distancePointSegment | 0.000 | 0.000 | 0.001 | |
| dot-intersectList | 0 | 0 | 0 | |
| dot-symSetDiffList | 0.000 | 0.000 | 0.001 | |
| dot-unionList | 0.000 | 0.000 | 0.001 | |
| fNames-set | 0.024 | 0.004 | 0.028 | |
| fNames | 0.008 | 0.004 | 0.010 | |
| featureInfo-set | 0.004 | 0.000 | 0.006 | |
| featureInfo | 0.044 | 0.000 | 0.046 | |
| getIntern | 0 | 0 | 0 | |
| gwc | 0.112 | 0.004 | 0.123 | |
| idCols-LongTable-method | 0 | 0 | 0 | |
| idCols | 0 | 0 | 0 | |
| is.items | 0 | 0 | 0 | |
| mDataNames-set | 0.004 | 0.000 | 0.001 | |
| mDataNames | 0 | 0 | 0 | |
| mcc | 2.480 | 0.040 | 2.527 | |
| molecularProfiles-set | 0.032 | 0.000 | 0.034 | |
| molecularProfiles | 0.052 | 0.028 | 0.081 | |
| molecularProfilesSlot-set | 0.008 | 0.000 | 0.007 | |
| molecularProfilesSlot | 0.016 | 0.000 | 0.019 | |
| name-set | 0 | 0 | 0 | |
| name | 0 | 0 | 0 | |
| pertNumber-set | 0.000 | 0.000 | 0.001 | |
| pertNumber | 0 | 0 | 0 | |
| phenoInfo-set | 0.016 | 0.000 | 0.013 | |
| phenoInfo | 0.004 | 0.004 | 0.010 | |
| reindex | 0 | 0 | 0 | |
| rowIDs | 0 | 0 | 0 | |
| rowMeta | 0 | 0 | 0 | |
| sensNumber-set | 0 | 0 | 0 | |
| sensNumber | 0 | 0 | 0 | |
| sensitivityInfo-set | 0 | 0 | 0 | |
| sensitivityInfo | 0 | 0 | 0 | |
| sensitivityMeasures-set | 0 | 0 | 0 | |
| sensitivityMeasures | 0.000 | 0.000 | 0.001 | |
| sensitivityProfiles | 0 | 0 | 0 | |
| sensitivityRaw | 0 | 0 | 0 | |
| sensitivitySlot-set | 0.008 | 0.000 | 0.008 | |
| sensitivitySlot | 0.016 | 0.000 | 0.013 | |
| sensitivitySlotToLongTable | 0 | 0 | 0 | |
| show-CoreSet-method | 0.008 | 0.000 | 0.007 | |
| show-LongTable-method | 0.004 | 0.000 | 0.005 | |
| showSigAnnot | 0 | 0 | 0 | |
| sub-LongTable-ANY-ANY-ANY-method | 0.256 | 0.000 | 0.252 | |
| subset-LongTable-method | 0.188 | 0.004 | 0.191 | |
| summarizeMolecularProfiles | 0 | 0 | 0 | |
| summarizeSensitivityProfiles | 0 | 0 | 0 | |
| updateCellId | 0.040 | 0.004 | 0.045 | |