| Back to Multiple platform build/check report for BioC 3.12 | 
 | 
This page was generated on 2021-05-06 12:30:29 -0400 (Thu, 06 May 2021).
| To the developers/maintainers of the CopywriteR package: Please make sure to use the following settings in order to reproduce any error or warning you see on this page. | 
| Package 375/1974 | Hostname | OS / Arch | INSTALL | BUILD | CHECK | BUILD BIN | ||||||||
| CopywriteR 2.22.0  (landing page) Oscar Krijgsman 
 | malbec1 | Linux (Ubuntu 18.04.5 LTS) / x86_64 | OK | OK | OK |  | ||||||||
| tokay1 | Windows Server 2012 R2 Standard / x64 | OK | OK | OK | OK |  | ||||||||
| merida1 | macOS 10.14.6 Mojave / x86_64 | OK | OK | OK | OK |  | ||||||||
| Package: CopywriteR | 
| Version: 2.22.0 | 
| Command: rm -rf CopywriteR.buildbin-libdir && mkdir CopywriteR.buildbin-libdir && C:\Users\biocbuild\bbs-3.12-bioc\R\bin\R.exe CMD INSTALL --merge-multiarch --build --library=CopywriteR.buildbin-libdir CopywriteR_2.22.0.tar.gz | 
| StartedAt: 2021-05-06 08:48:03 -0400 (Thu, 06 May 2021) | 
| EndedAt: 2021-05-06 08:49:09 -0400 (Thu, 06 May 2021) | 
| EllapsedTime: 66.1 seconds | 
| RetCode: 0 | 
| Status: OK | 
| PackageFile: CopywriteR_2.22.0.zip | 
| PackageFileSize: 313.4 KiB | 
##############################################################################
##############################################################################
###
### Running command:
###
###   rm -rf CopywriteR.buildbin-libdir && mkdir CopywriteR.buildbin-libdir && C:\Users\biocbuild\bbs-3.12-bioc\R\bin\R.exe CMD INSTALL --merge-multiarch --build --library=CopywriteR.buildbin-libdir CopywriteR_2.22.0.tar.gz
###
##############################################################################
##############################################################################
install for i386
* installing *source* package 'CopywriteR' ...
** using staged installation
** R
** inst
** byte-compile and prepare package for lazy loading
** help
*** installing help indices
  converting help for package 'CopywriteR'
    finding HTML links ... done
    CopywriteR                              html  
    plotCNA                                 html  
    preCopywriteR                           html  
** building package indices
** installing vignettes
** testing if installed package can be loaded from temporary location
** testing if installed package can be loaded from final location
** testing if installed package keeps a record of temporary installation path
install for x64
* installing *source* package 'CopywriteR' ...
** testing if installed package can be loaded
* MD5 sums
packaged installation of 'CopywriteR' as CopywriteR_2.22.0.zip
* DONE (CopywriteR)