| Back to Multiple platform build/check report for BioC 3.12 |
|
This page was generated on 2021-05-06 12:30:28 -0400 (Thu, 06 May 2021).
|
To the developers/maintainers of the CompGO package: Please make sure to use the following settings in order to reproduce any error or warning you see on this page. |
| Package 361/1974 | Hostname | OS / Arch | INSTALL | BUILD | CHECK | BUILD BIN | ||||||||
| CompGO 1.26.0 (landing page) Ashley J. Waardenberg
| malbec1 | Linux (Ubuntu 18.04.5 LTS) / x86_64 | OK | OK | OK | |||||||||
| tokay1 | Windows Server 2012 R2 Standard / x64 | OK | OK | OK | OK | |||||||||
| merida1 | macOS 10.14.6 Mojave / x86_64 | OK | OK | OK | OK | |||||||||
| Package: CompGO |
| Version: 1.26.0 |
| Command: rm -rf CompGO.buildbin-libdir && mkdir CompGO.buildbin-libdir && C:\Users\biocbuild\bbs-3.12-bioc\R\bin\R.exe --arch x64 CMD INSTALL --no-multiarch --build --library=CompGO.buildbin-libdir CompGO_1.26.0.tar.gz |
| StartedAt: 2021-05-06 08:47:05 -0400 (Thu, 06 May 2021) |
| EndedAt: 2021-05-06 08:47:56 -0400 (Thu, 06 May 2021) |
| EllapsedTime: 51.4 seconds |
| RetCode: 0 |
| Status: OK |
| PackageFile: CompGO_1.26.0.zip |
| PackageFileSize: 313.1 KiB |
##############################################################################
##############################################################################
###
### Running command:
###
### rm -rf CompGO.buildbin-libdir && mkdir CompGO.buildbin-libdir && C:\Users\biocbuild\bbs-3.12-bioc\R\bin\R.exe --arch x64 CMD INSTALL --no-multiarch --build --library=CompGO.buildbin-libdir CompGO_1.26.0.tar.gz
###
##############################################################################
##############################################################################
* installing *source* package 'CompGO' ...
** using staged installation
** R
** data
** inst
** byte-compile and prepare package for lazy loading
** help
*** installing help indices
converting help for package 'CompGO'
finding HTML links ... done
PCAplot html
annotateBedFromDb html
bed.sample html
compareZscores html
doZtrans.single html
gata4 html
getFnAnot_genome html
mef2a html
nkx25 html
p300 html
plotDendrogram html
plotInteractive html
plotPairwise html
plotTwoGODags html
plotZRankedDAG html
plotZScores html
slidingJaccard html
srf html
tbx5 html
viewKegg html
zTransformDirectory html
** building package indices
** installing vignettes
** testing if installed package can be loaded from temporary location
** testing if installed package can be loaded from final location
** testing if installed package keeps a record of temporary installation path
* MD5 sums
packaged installation of 'CompGO' as CompGO_1.26.0.zip
* DONE (CompGO)