| Back to Multiple platform build/check report for BioC 3.12 | 
 | 
This page was generated on 2021-05-06 12:27:15 -0400 (Thu, 06 May 2021).
| To the developers/maintainers of the CoRegFlux package: Please make sure to use the following settings in order to reproduce any error or warning you see on this page. | 
| Package 377/1974 | Hostname | OS / Arch | INSTALL | BUILD | CHECK | BUILD BIN | ||||||||
| CoRegFlux 1.6.0  (landing page) Pauline Trébulle and Mohamed Elati 
 | malbec1 | Linux (Ubuntu 18.04.5 LTS) / x86_64 | OK | OK | ERROR | |||||||||
| tokay1 | Windows Server 2012 R2 Standard / x64 | OK | OK | ERROR | OK | |||||||||
| merida1 | macOS 10.14.6 Mojave / x86_64 | OK | OK | ERROR | OK | |||||||||
| Package: CoRegFlux | 
| Version: 1.6.0 | 
| Command: /home/biocbuild/bbs-3.12-bioc/R/bin/R CMD build --keep-empty-dirs --no-resave-data CoRegFlux | 
| StartedAt: 2021-05-05 18:26:12 -0400 (Wed, 05 May 2021) | 
| EndedAt: 2021-05-05 18:28:05 -0400 (Wed, 05 May 2021) | 
| EllapsedTime: 113.8 seconds | 
| RetCode: 0 | 
| Status: OK | 
| PackageFile: CoRegFlux_1.6.0.tar.gz | 
| PackageFileSize: 4.737 MiB | 
############################################################################## ############################################################################## ### ### Running command: ### ### /home/biocbuild/bbs-3.12-bioc/R/bin/R CMD build --keep-empty-dirs --no-resave-data CoRegFlux ### ############################################################################## ############################################################################## * checking for file ‘CoRegFlux/DESCRIPTION’ ... OK * preparing ‘CoRegFlux’: * checking DESCRIPTION meta-information ... OK * installing the package to build vignettes * creating vignettes ... OK * checking for LF line-endings in source and make files and shell scripts * checking for empty or unneeded directories * looking to see if a ‘data/datalist’ file should be added * building ‘CoRegFlux_1.6.0.tar.gz’