| Back to Multiple platform build/check report for BioC 3.12 |
|
This page was generated on 2021-05-06 12:30:14 -0400 (Thu, 06 May 2021).
|
To the developers/maintainers of the ChromSCape package: Please make sure to use the following settings in order to reproduce any error or warning you see on this page. |
| Package 298/1974 | Hostname | OS / Arch | INSTALL | BUILD | CHECK | BUILD BIN | ||||||||
| ChromSCape 1.0.0 (landing page) Pacome Prompsy
| malbec1 | Linux (Ubuntu 18.04.5 LTS) / x86_64 | OK | OK | OK | |||||||||
| tokay1 | Windows Server 2012 R2 Standard / x64 | OK | OK | OK | OK | |||||||||
| merida1 | macOS 10.14.6 Mojave / x86_64 | OK | OK | OK | OK | |||||||||
| Package: ChromSCape |
| Version: 1.0.0 |
| Command: chmod a+r ChromSCape -R && C:\Users\biocbuild\bbs-3.12-bioc\R\bin\R.exe CMD build --keep-empty-dirs --no-resave-data ChromSCape |
| StartedAt: 2021-05-05 20:11:54 -0400 (Wed, 05 May 2021) |
| EndedAt: 2021-05-05 20:13:11 -0400 (Wed, 05 May 2021) |
| EllapsedTime: 76.4 seconds |
| RetCode: 0 |
| Status: OK |
| PackageFile: ChromSCape_1.0.0.tar.gz |
| PackageFileSize: 3.535 MiB |
############################################################################## ############################################################################## ### ### Running command: ### ### chmod a+r ChromSCape -R && C:\Users\biocbuild\bbs-3.12-bioc\R\bin\R.exe CMD build --keep-empty-dirs --no-resave-data ChromSCape ### ############################################################################## ############################################################################## * checking for file 'ChromSCape/DESCRIPTION' ... OK * preparing 'ChromSCape': * checking DESCRIPTION meta-information ... OK * installing the package to build vignettes * creating vignettes ... OK * checking for LF line-endings in source and make files and shell scripts * checking for empty or unneeded directories * building 'ChromSCape_1.0.0.tar.gz'