| Back to Multiple platform build/check report for BioC 3.12 | 
  | 
This page was generated on 2021-05-06 12:30:13 -0400 (Thu, 06 May 2021).
| 
To the developers/maintainers of the ChIPQC package: Please make sure to use the following settings in order to reproduce any error or warning you see on this page.  | 
| Package 287/1974 | Hostname | OS / Arch | INSTALL | BUILD | CHECK | BUILD BIN | ||||||||
| ChIPQC 1.26.0  (landing page) Tom Carroll 
  | malbec1 | Linux (Ubuntu 18.04.5 LTS) / x86_64 | OK | OK | WARNINGS | |||||||||
| tokay1 | Windows Server 2012 R2 Standard / x64 | OK | OK | WARNINGS | OK | |||||||||
| merida1 | macOS 10.14.6 Mojave / x86_64 | OK | OK | WARNINGS | OK | |||||||||
| Package: ChIPQC | 
| Version: 1.26.0 | 
| Command: rm -rf ChIPQC.buildbin-libdir && mkdir ChIPQC.buildbin-libdir && C:\Users\biocbuild\bbs-3.12-bioc\R\bin\R.exe CMD INSTALL --merge-multiarch --build --library=ChIPQC.buildbin-libdir ChIPQC_1.26.0.tar.gz | 
| StartedAt: 2021-05-06 08:41:32 -0400 (Thu, 06 May 2021) | 
| EndedAt: 2021-05-06 08:43:29 -0400 (Thu, 06 May 2021) | 
| EllapsedTime: 117.2 seconds | 
| RetCode: 0 | 
| Status: OK | 
| PackageFile: ChIPQC_1.26.0.zip | 
| PackageFileSize: 2.137 MiB | 
##############################################################################
##############################################################################
###
### Running command:
###
###   rm -rf ChIPQC.buildbin-libdir && mkdir ChIPQC.buildbin-libdir && C:\Users\biocbuild\bbs-3.12-bioc\R\bin\R.exe CMD INSTALL --merge-multiarch --build --library=ChIPQC.buildbin-libdir ChIPQC_1.26.0.tar.gz
###
##############################################################################
##############################################################################
install for i386
* installing *source* package 'ChIPQC' ...
** using staged installation
** R
** data
** inst
** byte-compile and prepare package for lazy loading
** help
*** installing help indices
  converting help for package 'ChIPQC'
    finding HTML links ... done
    ChIPQC-data                             html  
    finding level-2 HTML links ... done
    ChIPQC-package                          html  
    ChIPQC                                  html  
    ChIPQCexperiment-class                  html  
    ChIPQCreport                            html  
    ChIPQCsample-class                      html  
    FragmentLengthCrossCoverage-methods     html  
    Normalisedaveragepeaksignal-methods     html  
    QCannotation-methods                    html  
    QCcontrol-methods                       html  
    QCdba-methods                           html  
    QCmetadata-methods                      html  
    QCmetrics-methods                       html  
    QCsample-methods                        html  
    ReadLengthCrossCoverage-methods         html  
    RelativeCrossCoverage-methods           html  
    averagepeaksignal-methods               html  
    coveragehistogram-methods               html  
    crosscoverage-methods                   html  
    duplicateRate-methods                   html  
    duplicates-methods                      html  
    flagtagcounts-methods                   html  
    fragmentlength-methods                  html  
    frip-methods                            html  
    mapped-methods                          html  
    peaks-methods                           html  
    plotCC-methods                          html  
    plotCorHeatmap-methods                  html  
    plotCoverageHist-methods                html  
    plotFribl-methods                       html  
    plotFrip-methods                        html  
    plotPeakProfile-methods                 html  
    plotPrincomp-methods                    html  
    plotRap-methods                         html  
    plotRegi-methods                        html  
    plotSSD-methods                         html  
    readlength-methods                      html  
    reads-methods                           html  
    regi-methods                            html  
    ribl-methods                            html  
    rip-methods                             html  
    ssd-methods                             html  
** building package indices
** installing vignettes
** testing if installed package can be loaded from temporary location
** testing if installed package can be loaded from final location
** testing if installed package keeps a record of temporary installation path
install for x64
* installing *source* package 'ChIPQC' ...
** testing if installed package can be loaded
* MD5 sums
packaged installation of 'ChIPQC' as ChIPQC_1.26.0.zip
* DONE (ChIPQC)