| Back to Multiple platform build/check report for BioC 3.12 |
|
This page was generated on 2021-05-06 12:27:05 -0400 (Thu, 06 May 2021).
|
To the developers/maintainers of the CellNOptR package: Please make sure to use the following settings in order to reproduce any error or warning you see on this page. |
| Package 256/1974 | Hostname | OS / Arch | INSTALL | BUILD | CHECK | BUILD BIN | ||||||||
| CellNOptR 1.36.0 (landing page) A.Gabor
| malbec1 | Linux (Ubuntu 18.04.5 LTS) / x86_64 | OK | OK | WARNINGS | |||||||||
| tokay1 | Windows Server 2012 R2 Standard / x64 | OK | OK | WARNINGS | OK | |||||||||
| merida1 | macOS 10.14.6 Mojave / x86_64 | OK | OK | WARNINGS | OK | |||||||||
| Package: CellNOptR |
| Version: 1.36.0 |
| Command: /home/biocbuild/bbs-3.12-bioc/R/bin/R CMD INSTALL CellNOptR |
| StartedAt: 2021-05-05 16:18:22 -0400 (Wed, 05 May 2021) |
| EndedAt: 2021-05-05 16:18:39 -0400 (Wed, 05 May 2021) |
| EllapsedTime: 17.4 seconds |
| RetCode: 0 |
| Status: OK |
##############################################################################
##############################################################################
###
### Running command:
###
### /home/biocbuild/bbs-3.12-bioc/R/bin/R CMD INSTALL CellNOptR
###
##############################################################################
##############################################################################
* installing to library ‘/home/biocbuild/bbs-3.12-bioc/R/library’
* installing *source* package ‘CellNOptR’ ...
** using staged installation
** libs
gcc -I"/home/biocbuild/bbs-3.12-bioc/R/include" -DNDEBUG -I/usr/local/include -I./include -fpic -g -O2 -Wall -c getFit.c -o getFit.o
getFit.c: In function ‘getFit’:
getFit.c:47:6: warning: unused variable ‘nReacs’ [-Wunused-variable]
int nReacs = INTEGER(nReacs_in)[0];
^~~~~~
getFit.c:42:6: warning: unused variable ‘selCounter’ [-Wunused-variable]
int selCounter = 0;
^~~~~~~~~~
getFit.c:41:6: warning: unused variable ‘selection’ [-Wunused-variable]
int selection[40];
^~~~~~~~~
getFit.c:40:6: warning: unused variable ‘or_max’ [-Wunused-variable]
int or_max = 0;
^~~~~~
getFit.c:39:6: warning: unused variable ‘curr_max’ [-Wunused-variable]
int curr_max = 0;
^~~~~~~~
gcc -I"/home/biocbuild/bbs-3.12-bioc/R/include" -DNDEBUG -I/usr/local/include -I./include -fpic -g -O2 -Wall -c simulatorT1.c -o simulatorT1.o
simulatorT1.c: In function ‘simulatorT1’:
simulatorT1.c:502:20: warning: suggest parentheses around comparison in operand of ‘&’ [-Wparentheses]
if (MA[i][j]<0.95 & MA[i][j]>0.05) // actually we could check if they are exatly 0 or 1
~~~~~~~~^~~~~
gcc -I"/home/biocbuild/bbs-3.12-bioc/R/include" -DNDEBUG -I/usr/local/include -I./include -fpic -g -O2 -Wall -c simulatorTN.c -o simulatorTN.o
gcc -shared -L/home/biocbuild/bbs-3.12-bioc/R/lib -L/usr/local/lib -o CellNOptR.so getFit.o simulatorT1.o simulatorTN.o -L/home/biocbuild/bbs-3.12-bioc/R/lib -lR
installing to /home/biocbuild/bbs-3.12-bioc/R/library/00LOCK-CellNOptR/00new/CellNOptR/libs
** R
** data
** inst
** byte-compile and prepare package for lazy loading
** help
*** installing help indices
** building package indices
** installing vignettes
** testing if installed package can be loaded from temporary location
** checking absolute paths in shared objects and dynamic libraries
** testing if installed package can be loaded from final location
** testing if installed package keeps a record of temporary installation path
* DONE (CellNOptR)