| Back to Multiple platform build/check report for BioC 3.12 |
|
This page was generated on 2021-05-06 12:30:09 -0400 (Thu, 06 May 2021).
|
To the developers/maintainers of the CellMapper package: Please make sure to use the following settings in order to reproduce any error or warning you see on this page. |
| Package 254/1974 | Hostname | OS / Arch | INSTALL | BUILD | CHECK | BUILD BIN | ||||||||
| CellMapper 1.16.0 (landing page) Brad Nelms
| malbec1 | Linux (Ubuntu 18.04.5 LTS) / x86_64 | OK | OK | WARNINGS | |||||||||
| tokay1 | Windows Server 2012 R2 Standard / x64 | OK | OK | WARNINGS | OK | |||||||||
| merida1 | macOS 10.14.6 Mojave / x86_64 | OK | OK | WARNINGS | OK | |||||||||
| Package: CellMapper |
| Version: 1.16.0 |
| Command: C:\cygwin\bin\curl.exe -O http://172.29.0.3/BBS/3.12/bioc/src/contrib/CellMapper_1.16.0.tar.gz && rm -rf CellMapper.buildbin-libdir && mkdir CellMapper.buildbin-libdir && C:\Users\biocbuild\bbs-3.12-bioc\R\bin\R.exe CMD INSTALL --merge-multiarch --build --library=CellMapper.buildbin-libdir CellMapper_1.16.0.tar.gz && C:\Users\biocbuild\bbs-3.12-bioc\R\bin\R.exe CMD INSTALL CellMapper_1.16.0.zip && rm CellMapper_1.16.0.tar.gz CellMapper_1.16.0.zip |
| StartedAt: 2021-05-05 16:57:11 -0400 (Wed, 05 May 2021) |
| EndedAt: 2021-05-05 16:57:40 -0400 (Wed, 05 May 2021) |
| EllapsedTime: 28.8 seconds |
| RetCode: 0 |
| Status: OK |
##############################################################################
##############################################################################
###
### Running command:
###
### C:\cygwin\bin\curl.exe -O http://172.29.0.3/BBS/3.12/bioc/src/contrib/CellMapper_1.16.0.tar.gz && rm -rf CellMapper.buildbin-libdir && mkdir CellMapper.buildbin-libdir && C:\Users\biocbuild\bbs-3.12-bioc\R\bin\R.exe CMD INSTALL --merge-multiarch --build --library=CellMapper.buildbin-libdir CellMapper_1.16.0.tar.gz && C:\Users\biocbuild\bbs-3.12-bioc\R\bin\R.exe CMD INSTALL CellMapper_1.16.0.zip && rm CellMapper_1.16.0.tar.gz CellMapper_1.16.0.zip
###
##############################################################################
##############################################################################
% Total % Received % Xferd Average Speed Time Time Time Current
Dload Upload Total Spent Left Speed
0 0 0 0 0 0 0 0 --:--:-- --:--:-- --:--:-- 0
100 20179 100 20179 0 0 1081k 0 --:--:-- --:--:-- --:--:-- 1159k
install for i386
* installing *source* package 'CellMapper' ...
** using staged installation
** R
** data
** inst
** byte-compile and prepare package for lazy loading
Warning: replacing previous import 'stats::sd' by 'S4Vectors::sd' when loading 'CellMapper'
Warning: replacing previous import 'stats::var' by 'S4Vectors::var' when loading 'CellMapper'
** help
*** installing help indices
converting help for package 'CellMapper'
finding HTML links ... done
CMprep html
Rd warning: C:/Users/biocbuild/bbs-3.12-bioc/tmpdir/RtmpENcYbL/R.INSTALLdb81d9f7c76/CellMapper/man/CMprep.Rd:51: file link 'ExpressionSet' in package 'Biobase' does not exist and so has been treated as a topic
Rd warning: C:/Users/biocbuild/bbs-3.12-bioc/tmpdir/RtmpENcYbL/R.INSTALLdb81d9f7c76/CellMapper/man/CMprep.Rd:52: file link 'CellMapperData' in package 'CellMapperData' does not exist and so has been treated as a topic
CMsearch html
Rd warning: C:/Users/biocbuild/bbs-3.12-bioc/tmpdir/RtmpENcYbL/R.INSTALLdb81d9f7c76/CellMapper/man/CMsearch.Rd:74: file link 'CellMapperData' in package 'CellMapperData' does not exist and so has been treated as a topic
CellMapperList-class html
ExampleGeneLists html
Rd warning: C:/Users/biocbuild/bbs-3.12-bioc/tmpdir/RtmpENcYbL/R.INSTALLdb81d9f7c76/CellMapper/man/ExampleGeneLists.Rd:51: file link 'CellMapperData' in package 'CellMapperData' does not exist and so has been treated as a topic
Rd warning: C:/Users/biocbuild/bbs-3.12-bioc/tmpdir/RtmpENcYbL/R.INSTALLdb81d9f7c76/CellMapper/man/ExampleGeneLists.Rd:52: file link 'ExperimentHub' in package 'ExperimentHub' does not exist and so has been treated as a topic
ReplicateManuscript html
Rd warning: C:/Users/biocbuild/bbs-3.12-bioc/tmpdir/RtmpENcYbL/R.INSTALLdb81d9f7c76/CellMapper/man/ReplicateManuscript.Rd:33: file link 'CellMapperData' in package 'CellMapperData' does not exist and so has been treated as a topic
Rd warning: C:/Users/biocbuild/bbs-3.12-bioc/tmpdir/RtmpENcYbL/R.INSTALLdb81d9f7c76/CellMapper/man/ReplicateManuscript.Rd:34: file link 'ExperimentHub' in package 'ExperimentHub' does not exist and so has been treated as a topic
** building package indices
** installing vignettes
** testing if installed package can be loaded from temporary location
Warning: replacing previous import 'stats::sd' by 'S4Vectors::sd' when loading 'CellMapper'
Warning: replacing previous import 'stats::var' by 'S4Vectors::var' when loading 'CellMapper'
** testing if installed package can be loaded from final location
Warning: replacing previous import 'stats::sd' by 'S4Vectors::sd' when loading 'CellMapper'
Warning: replacing previous import 'stats::var' by 'S4Vectors::var' when loading 'CellMapper'
** testing if installed package keeps a record of temporary installation path
install for x64
* installing *source* package 'CellMapper' ...
** testing if installed package can be loaded
Warning: replacing previous import 'stats::sd' by 'S4Vectors::sd' when loading 'CellMapper'
Warning: replacing previous import 'stats::var' by 'S4Vectors::var' when loading 'CellMapper'
* MD5 sums
packaged installation of 'CellMapper' as CellMapper_1.16.0.zip
* DONE (CellMapper)
* installing to library 'C:/Users/biocbuild/bbs-3.12-bioc/R/library'
package 'CellMapper' successfully unpacked and MD5 sums checked