| Back to Multiple platform build/check report for BioC 3.12 |
|
This page was generated on 2021-05-06 12:30:07 -0400 (Thu, 06 May 2021).
|
To the developers/maintainers of the CancerMutationAnalysis package: Please make sure to use the following settings in order to reproduce any error or warning you see on this page. |
| Package 230/1974 | Hostname | OS / Arch | INSTALL | BUILD | CHECK | BUILD BIN | ||||||||
| CancerMutationAnalysis 1.32.0 (landing page) Simina M. Boca
| malbec1 | Linux (Ubuntu 18.04.5 LTS) / x86_64 | OK | OK | OK | |||||||||
| tokay1 | Windows Server 2012 R2 Standard / x64 | OK | OK | OK | OK | |||||||||
| merida1 | macOS 10.14.6 Mojave / x86_64 | OK | OK | OK | OK | |||||||||
| Package: CancerMutationAnalysis |
| Version: 1.32.0 |
| Command: C:\cygwin\bin\curl.exe -O http://172.29.0.3/BBS/3.12/bioc/src/contrib/CancerMutationAnalysis_1.32.0.tar.gz && rm -rf CancerMutationAnalysis.buildbin-libdir && mkdir CancerMutationAnalysis.buildbin-libdir && C:\Users\biocbuild\bbs-3.12-bioc\R\bin\R.exe CMD INSTALL --merge-multiarch --build --library=CancerMutationAnalysis.buildbin-libdir CancerMutationAnalysis_1.32.0.tar.gz && C:\Users\biocbuild\bbs-3.12-bioc\R\bin\R.exe CMD INSTALL CancerMutationAnalysis_1.32.0.zip && rm CancerMutationAnalysis_1.32.0.tar.gz CancerMutationAnalysis_1.32.0.zip |
| StartedAt: 2021-05-05 17:24:59 -0400 (Wed, 05 May 2021) |
| EndedAt: 2021-05-05 17:26:18 -0400 (Wed, 05 May 2021) |
| EllapsedTime: 79.4 seconds |
| RetCode: 0 |
| Status: OK |
##############################################################################
##############################################################################
###
### Running command:
###
### C:\cygwin\bin\curl.exe -O http://172.29.0.3/BBS/3.12/bioc/src/contrib/CancerMutationAnalysis_1.32.0.tar.gz && rm -rf CancerMutationAnalysis.buildbin-libdir && mkdir CancerMutationAnalysis.buildbin-libdir && C:\Users\biocbuild\bbs-3.12-bioc\R\bin\R.exe CMD INSTALL --merge-multiarch --build --library=CancerMutationAnalysis.buildbin-libdir CancerMutationAnalysis_1.32.0.tar.gz && C:\Users\biocbuild\bbs-3.12-bioc\R\bin\R.exe CMD INSTALL CancerMutationAnalysis_1.32.0.zip && rm CancerMutationAnalysis_1.32.0.tar.gz CancerMutationAnalysis_1.32.0.zip
###
##############################################################################
##############################################################################
% Total % Received % Xferd Average Speed Time Time Time Current
Dload Upload Total Spent Left Speed
0 0 0 0 0 0 0 0 --:--:-- --:--:-- --:--:-- 0
100 8104k 100 8104k 0 0 64.5M 0 --:--:-- --:--:-- --:--:-- 64.8M
install for i386
* installing *source* package 'CancerMutationAnalysis' ...
** using staged installation
** libs
"C:/rtools40/mingw32/bin/"gcc -I"C:/Users/BIOCBU~1/BBS-3~1.12-/R/include" -DNDEBUG -I"C:/extsoft/include" -O2 -Wall -std=gnu99 -mfpmath=sse -msse2 -mstackrealign -c get.cdf.het.berns.c -o get.cdf.het.berns.o
C:/rtools40/mingw32/bin/gcc -shared -s -static-libgcc -o CancerMutationAnalysis.dll tmp.def get.cdf.het.berns.o -LC:/extsoft/lib/i386 -LC:/extsoft/lib -LC:/Users/BIOCBU~1/BBS-3~1.12-/R/bin/i386 -lR
installing to C:/Users/biocbuild/bbs-3.12-bioc/meat/CancerMutationAnalysis.buildbin-libdir/00LOCK-CancerMutationAnalysis/00new/CancerMutationAnalysis/libs/i386
** R
** data
** inst
** byte-compile and prepare package for lazy loading
** help
*** installing help indices
converting help for package 'CancerMutationAnalysis'
finding HTML links ... done
BackRatesBreast html
BackRatesColon html
BackRatesGBM html
BackRatesMB html
BackRatesPancreas html
EntrezID2Name html
GeneAlterBreast html
GeneAlterColon html
GeneAlterGBM html
GeneAlterMB html
GeneAlterPancreas html
GeneCovBreast html
GeneCovColon html
GeneCovGBM html
GeneCovMB html
GeneCovPancreas html
GeneID2Name11 html
GeneSampBreast html
GeneSampColon html
GeneSampGBM html
GeneSampMB html
GeneSampPancreas html
SetMethodsSims-class html
cma.fdr html
cma.scores html
cma.set.sim html
cma.set.stat html
combine.sims html
extract.sims.method html
** building package indices
** installing vignettes
** testing if installed package can be loaded from temporary location
** testing if installed package can be loaded from final location
** testing if installed package keeps a record of temporary installation path
install for x64
* installing *source* package 'CancerMutationAnalysis' ...
** libs
"C:/rtools40/mingw64/bin/"gcc -I"C:/Users/BIOCBU~1/BBS-3~1.12-/R/include" -DNDEBUG -I"C:/extsoft/include" -O2 -Wall -std=gnu99 -mfpmath=sse -msse2 -mstackrealign -c get.cdf.het.berns.c -o get.cdf.het.berns.o
C:/rtools40/mingw64/bin/gcc -shared -s -static-libgcc -o CancerMutationAnalysis.dll tmp.def get.cdf.het.berns.o -LC:/extsoft/lib/x64 -LC:/extsoft/lib -LC:/Users/BIOCBU~1/BBS-3~1.12-/R/bin/x64 -lR
installing to C:/Users/biocbuild/bbs-3.12-bioc/meat/CancerMutationAnalysis.buildbin-libdir/CancerMutationAnalysis/libs/x64
** testing if installed package can be loaded
* MD5 sums
packaged installation of 'CancerMutationAnalysis' as CancerMutationAnalysis_1.32.0.zip
* DONE (CancerMutationAnalysis)
* installing to library 'C:/Users/biocbuild/bbs-3.12-bioc/R/library'
package 'CancerMutationAnalysis' successfully unpacked and MD5 sums checked