| Back to Multiple platform build/check report for BioC 3.12 |
|
This page was generated on 2021-05-06 12:27:16 -0400 (Thu, 06 May 2021).
|
To the developers/maintainers of the CSAR package: Please make sure to use the following settings in order to reproduce any error or warning you see on this page. |
| Package 401/1974 | Hostname | OS / Arch | INSTALL | BUILD | CHECK | BUILD BIN | ||||||||
| CSAR 1.42.0 (landing page) Jose M Muino
| malbec1 | Linux (Ubuntu 18.04.5 LTS) / x86_64 | OK | OK | OK | |||||||||
| tokay1 | Windows Server 2012 R2 Standard / x64 | OK | OK | OK | OK | |||||||||
| merida1 | macOS 10.14.6 Mojave / x86_64 | OK | OK | OK | OK | |||||||||
| Package: CSAR |
| Version: 1.42.0 |
| Command: /home/biocbuild/bbs-3.12-bioc/R/bin/R CMD build --keep-empty-dirs --no-resave-data CSAR |
| StartedAt: 2021-05-05 18:29:16 -0400 (Wed, 05 May 2021) |
| EndedAt: 2021-05-05 18:29:47 -0400 (Wed, 05 May 2021) |
| EllapsedTime: 30.6 seconds |
| RetCode: 0 |
| Status: OK |
| PackageFile: CSAR_1.42.0.tar.gz |
| PackageFileSize: 171.4 KiB |
############################################################################## ############################################################################## ### ### Running command: ### ### /home/biocbuild/bbs-3.12-bioc/R/bin/R CMD build --keep-empty-dirs --no-resave-data CSAR ### ############################################################################## ############################################################################## * checking for file ‘CSAR/DESCRIPTION’ ... OK * preparing ‘CSAR’: * checking DESCRIPTION meta-information ... OK * cleaning src * installing the package to build vignettes * creating vignettes ... OK * cleaning src * checking for LF line-endings in source and make files and shell scripts * checking for empty or unneeded directories * building ‘CSAR_1.42.0.tar.gz’