Back to Multiple platform build/check report for BioC 3.12 |
|
This page was generated on 2021-05-06 12:34:34 -0400 (Thu, 06 May 2021).
To the developers/maintainers of the CNTools package: Please make sure to use the following settings in order to reproduce any error or warning you see on this page. |
Package 338/1974 | Hostname | OS / Arch | INSTALL | BUILD | CHECK | BUILD BIN | ||||||||
CNTools 1.46.0 (landing page) J. Zhang
| malbec1 | Linux (Ubuntu 18.04.5 LTS) / x86_64 | OK | OK | OK | |||||||||
tokay1 | Windows Server 2012 R2 Standard / x64 | OK | OK | OK | OK | |||||||||
merida1 | macOS 10.14.6 Mojave / x86_64 | OK | OK | OK | OK | |||||||||
Package: CNTools |
Version: 1.46.0 |
Command: rm -rf CNTools.buildbin-libdir && mkdir CNTools.buildbin-libdir && /Users/biocbuild/BBS/utils/build-universal.sh CNTools_1.46.0.tar.gz /Library/Frameworks/R.framework/Versions/Current/Resources/bin/R CNTools.buildbin-libdir |
StartedAt: 2021-05-06 08:15:11 -0400 (Thu, 06 May 2021) |
EndedAt: 2021-05-06 08:16:15 -0400 (Thu, 06 May 2021) |
EllapsedTime: 63.9 seconds |
RetCode: 0 |
Status: OK |
PackageFile: CNTools_1.46.0.tgz |
PackageFileSize: 1.099 MiB |
############################################################################## ############################################################################## ### ### Running command: ### ### rm -rf CNTools.buildbin-libdir && mkdir CNTools.buildbin-libdir && /Users/biocbuild/BBS/utils/build-universal.sh CNTools_1.46.0.tar.gz /Library/Frameworks/R.framework/Versions/Current/Resources/bin/R CNTools.buildbin-libdir ### ############################################################################## ############################################################################## >>>>>>> >>>>>>> INSTALLATION WITH 'R CMD INSTALL --preclean --no-multiarch --library=CNTools.buildbin-libdir CNTools_1.46.0.tar.gz' >>>>>>> * installing *source* package ‘CNTools’ ... ** using staged installation ** libs clang -mmacosx-version-min=10.13 -I"/Library/Frameworks/R.framework/Resources/include" -DNDEBUG -I/usr/local/include -fPIC -Wall -g -O2 -c getratios.c -o getratios.o clang -mmacosx-version-min=10.13 -dynamiclib -Wl,-headerpad_max_install_names -undefined dynamic_lookup -single_module -multiply_defined suppress -L/Library/Frameworks/R.framework/Resources/lib -L/usr/local/lib -o CNTools.so getratios.o -F/Library/Frameworks/R.framework/.. -framework R -Wl,-framework -Wl,CoreFoundation installing to /Users/biocbuild/bbs-3.12-bioc/meat/CNTools.buildbin-libdir/00LOCK-CNTools/00new/CNTools/libs ** R ** data ** inst ** byte-compile and prepare package for lazy loading Creating a new generic function for ‘start’ in package ‘CNTools’ Creating a new generic function for ‘end’ in package ‘CNTools’ Creating a generic function for ‘genefilter’ from package ‘genefilter’ in package ‘CNTools’ ** help *** installing help indices ** building package indices ** installing vignettes ** testing if installed package can be loaded from temporary location ** checking absolute paths in shared objects and dynamic libraries ** testing if installed package can be loaded from final location ** testing if installed package keeps a record of temporary installation path * DONE (CNTools) >>>>>>> >>>>>>> FIXING LINKS FOR CNTools.buildbin-libdir/CNTools/libs/CNTools.so >>>>>>> install_name_tool -change "/usr/local/lib/libgcc_s.1.dylib" "/Library/Frameworks/R.framework/Versions/4.0/Resources/lib/libgcc_s.1.dylib" "CNTools.buildbin-libdir/CNTools/libs/CNTools.so" install_name_tool -change "/usr/local/lib/libgfortran.5.dylib" "/Library/Frameworks/R.framework/Versions/4.0/Resources/lib/libgfortran.5.dylib" "CNTools.buildbin-libdir/CNTools/libs/CNTools.so" install_name_tool -change "/usr/local/lib/libquadmath.0.dylib" "/Library/Frameworks/R.framework/Versions/4.0/Resources/lib/libquadmath.0.dylib" "CNTools.buildbin-libdir/CNTools/libs/CNTools.so"