| Back to Multiple platform build/check report for BioC 3.12 | 
  | 
This page was generated on 2021-05-06 12:34:34 -0400 (Thu, 06 May 2021).
| 
To the developers/maintainers of the CNORode package: Please make sure to use the following settings in order to reproduce any error or warning you see on this page.  | 
| Package 337/1974 | Hostname | OS / Arch | INSTALL | BUILD | CHECK | BUILD BIN | ||||||||
| CNORode 1.32.0  (landing page) Enio Gjerga 
  | malbec1 | Linux (Ubuntu 18.04.5 LTS) / x86_64 | OK | OK | WARNINGS | |||||||||
| tokay1 | Windows Server 2012 R2 Standard / x64 | OK | OK | WARNINGS | OK | |||||||||
| merida1 | macOS 10.14.6 Mojave / x86_64 | OK | OK | WARNINGS | OK | |||||||||
| Package: CNORode | 
| Version: 1.32.0 | 
| Command: /Library/Frameworks/R.framework/Versions/Current/Resources/bin/R CMD build --keep-empty-dirs --no-resave-data CNORode | 
| StartedAt: 2021-05-05 18:48:55 -0400 (Wed, 05 May 2021) | 
| EndedAt: 2021-05-05 18:50:21 -0400 (Wed, 05 May 2021) | 
| EllapsedTime: 86.1 seconds | 
| RetCode: 0 | 
| Status: OK | 
| PackageFile: CNORode_1.32.0.tar.gz | 
| PackageFileSize: 730 KiB | 
############################################################################## ############################################################################## ### ### Running command: ### ### /Library/Frameworks/R.framework/Versions/Current/Resources/bin/R CMD build --keep-empty-dirs --no-resave-data CNORode ### ############################################################################## ############################################################################## * checking for file ‘CNORode/DESCRIPTION’ ... OK * preparing ‘CNORode’: * checking DESCRIPTION meta-information ... OK * cleaning src * installing the package to build vignettes * creating vignettes ... OK * cleaning src * checking for LF line-endings in source and make files and shell scripts * checking for empty or unneeded directories * looking to see if a ‘data/datalist’ file should be added * building ‘CNORode_1.32.0.tar.gz’