| Back to Multiple platform build/check report for BioC 3.12 |
|
This page was generated on 2021-05-06 12:30:05 -0400 (Thu, 06 May 2021).
|
To the developers/maintainers of the BridgeDbR package: Please make sure to use the following settings in order to reproduce any error or warning you see on this page. |
| Package 210/1974 | Hostname | OS / Arch | INSTALL | BUILD | CHECK | BUILD BIN | ||||||||
| BridgeDbR 2.0.2 (landing page) Egon Willighagen
| malbec1 | Linux (Ubuntu 18.04.5 LTS) / x86_64 | OK | OK | OK | |||||||||
| tokay1 | Windows Server 2012 R2 Standard / x64 | OK | OK | OK | OK | |||||||||
| merida1 | macOS 10.14.6 Mojave / x86_64 | OK | OK | OK | OK | |||||||||
| Package: BridgeDbR |
| Version: 2.0.2 |
| Command: rm -rf BridgeDbR.buildbin-libdir && mkdir BridgeDbR.buildbin-libdir && C:\Users\biocbuild\bbs-3.12-bioc\R\bin\R.exe --arch x64 CMD INSTALL --no-multiarch --build --library=BridgeDbR.buildbin-libdir BridgeDbR_2.0.2.tar.gz |
| StartedAt: 2021-05-06 08:35:49 -0400 (Thu, 06 May 2021) |
| EndedAt: 2021-05-06 08:36:05 -0400 (Thu, 06 May 2021) |
| EllapsedTime: 16.0 seconds |
| RetCode: 0 |
| Status: OK |
| PackageFile: BridgeDbR_2.0.2.zip |
| PackageFileSize: 2.632 MiB |
##############################################################################
##############################################################################
###
### Running command:
###
### rm -rf BridgeDbR.buildbin-libdir && mkdir BridgeDbR.buildbin-libdir && C:\Users\biocbuild\bbs-3.12-bioc\R\bin\R.exe --arch x64 CMD INSTALL --no-multiarch --build --library=BridgeDbR.buildbin-libdir BridgeDbR_2.0.2.tar.gz
###
##############################################################################
##############################################################################
* installing *source* package 'BridgeDbR' ...
** using staged installation
** R
** inst
** byte-compile and prepare package for lazy loading
** help
*** installing help indices
converting help for package 'BridgeDbR'
finding HTML links ... done
BridgeDbR html
fullNameExists html
getAttributes html
getBridgeNames html
getDataSource html
getDatabase html
getFullName html
getMatchingSources html
getOrganismCode html
getProperties html
getSystemCode html
loadDatabase html
map html
maps html
registerDataSource html
systemCodeExists html
** building package indices
** installing vignettes
** testing if installed package can be loaded from temporary location
** testing if installed package can be loaded from final location
** testing if installed package keeps a record of temporary installation path
* MD5 sums
packaged installation of 'BridgeDbR' as BridgeDbR_2.0.2.zip
* DONE (BridgeDbR)