| Back to Multiple platform build/check report for BioC 3.12 | 
  | 
This page was generated on 2021-05-06 12:30:02 -0400 (Thu, 06 May 2021).
| 
To the developers/maintainers of the BiocWorkflowTools package: Please make sure to use the following settings in order to reproduce any error or warning you see on this page.  | 
| Package 175/1974 | Hostname | OS / Arch | INSTALL | BUILD | CHECK | BUILD BIN | ||||||||
| BiocWorkflowTools 1.16.0  (landing page) Mike Smith 
  | malbec1 | Linux (Ubuntu 18.04.5 LTS) / x86_64 | OK | OK | OK | |||||||||
| tokay1 | Windows Server 2012 R2 Standard / x64 | OK | OK | OK | OK | |||||||||
| merida1 | macOS 10.14.6 Mojave / x86_64 | OK | OK | OK | OK | |||||||||
| Package: BiocWorkflowTools | 
| Version: 1.16.0 | 
| Command: rm -rf BiocWorkflowTools.buildbin-libdir && mkdir BiocWorkflowTools.buildbin-libdir && C:\Users\biocbuild\bbs-3.12-bioc\R\bin\R.exe CMD INSTALL --merge-multiarch --build --library=BiocWorkflowTools.buildbin-libdir BiocWorkflowTools_1.16.0.tar.gz | 
| StartedAt: 2021-05-06 08:33:32 -0400 (Thu, 06 May 2021) | 
| EndedAt: 2021-05-06 08:34:16 -0400 (Thu, 06 May 2021) | 
| EllapsedTime: 43.9 seconds | 
| RetCode: 0 | 
| Status: OK | 
| PackageFile: BiocWorkflowTools_1.16.0.zip | 
| PackageFileSize: 699.1 KiB | 
##############################################################################
##############################################################################
###
### Running command:
###
###   rm -rf BiocWorkflowTools.buildbin-libdir && mkdir BiocWorkflowTools.buildbin-libdir && C:\Users\biocbuild\bbs-3.12-bioc\R\bin\R.exe CMD INSTALL --merge-multiarch --build --library=BiocWorkflowTools.buildbin-libdir BiocWorkflowTools_1.16.0.tar.gz
###
##############################################################################
##############################################################################
install for i386
* installing *source* package 'BiocWorkflowTools' ...
** using staged installation
** R
** inst
** byte-compile and prepare package for lazy loading
** help
*** installing help indices
  converting help for package 'BiocWorkflowTools'
    finding HTML links ... done
    createBiocWorkflow                      html  
    finding level-2 HTML links ... done
    f1000_article                           html  
    uploadToOverleaf                        html  
** building package indices
** installing vignettes
** testing if installed package can be loaded from temporary location
** testing if installed package can be loaded from final location
** testing if installed package keeps a record of temporary installation path
install for x64
* installing *source* package 'BiocWorkflowTools' ...
** testing if installed package can be loaded
* MD5 sums
packaged installation of 'BiocWorkflowTools' as BiocWorkflowTools_1.16.0.zip
* DONE (BiocWorkflowTools)