| Back to Multiple platform build/check report for BioC 3.12 |
|
This page was generated on 2021-05-06 12:30:03 -0400 (Thu, 06 May 2021).
|
To the developers/maintainers of the BioTIP package: Please make sure to use the following settings in order to reproduce any error or warning you see on this page. |
| Package 188/1974 | Hostname | OS / Arch | INSTALL | BUILD | CHECK | BUILD BIN | ||||||||
| BioTIP 1.4.0 (landing page) Yuxi (Jennifer) Sun
| malbec1 | Linux (Ubuntu 18.04.5 LTS) / x86_64 | OK | OK | WARNINGS | |||||||||
| tokay1 | Windows Server 2012 R2 Standard / x64 | OK | OK | WARNINGS | OK | |||||||||
| merida1 | macOS 10.14.6 Mojave / x86_64 | OK | OK | WARNINGS | OK | |||||||||
| Package: BioTIP |
| Version: 1.4.0 |
| Command: rm -rf BioTIP.buildbin-libdir && mkdir BioTIP.buildbin-libdir && C:\Users\biocbuild\bbs-3.12-bioc\R\bin\R.exe CMD INSTALL --merge-multiarch --build --library=BioTIP.buildbin-libdir BioTIP_1.4.0.tar.gz |
| StartedAt: 2021-05-06 08:34:21 -0400 (Thu, 06 May 2021) |
| EndedAt: 2021-05-06 08:35:14 -0400 (Thu, 06 May 2021) |
| EllapsedTime: 53.1 seconds |
| RetCode: 0 |
| Status: OK |
| PackageFile: BioTIP_1.4.0.zip |
| PackageFileSize: 6.514 MiB |
##############################################################################
##############################################################################
###
### Running command:
###
### rm -rf BioTIP.buildbin-libdir && mkdir BioTIP.buildbin-libdir && C:\Users\biocbuild\bbs-3.12-bioc\R\bin\R.exe CMD INSTALL --merge-multiarch --build --library=BioTIP.buildbin-libdir BioTIP_1.4.0.tar.gz
###
##############################################################################
##############################################################################
install for i386
* installing *source* package 'BioTIP' ...
** using staged installation
** R
** data
*** moving datasets to lazyload DB
** inst
** byte-compile and prepare package for lazy loading
** help
*** installing help indices
converting help for package 'BioTIP'
finding HTML links ... done
BioTIP-package html
GSE6136_cli html
GSE6136_matrix html
ILEF html
avg.cor.shrink html
cod html
cor.shrink html
gencode html
getBiotypes html
getCTS html
getCluster_methods html
getIc html
getIc.new html
getMCI html
finding level-2 HTML links ... done
getMCI_inner html
getMaxMCImember html
getMaxStats html
getNetwork html
getReadthrough html
intron html
optimize.sd_selection html
plotBar_MCI html
plotIc html
plotMaxMCI html
plot_Ic_Simulation html
plot_MCI_Simulation html
plot_SS_Simulation html
sd_selection html
simulationMCI html
simulation_Ic html
simulation_Ic_sample html
** building package indices
** installing vignettes
** testing if installed package can be loaded from temporary location
** testing if installed package can be loaded from final location
** testing if installed package keeps a record of temporary installation path
install for x64
* installing *source* package 'BioTIP' ...
** testing if installed package can be loaded
* MD5 sums
packaged installation of 'BioTIP' as BioTIP_1.4.0.zip
* DONE (BioTIP)