| Back to Multiple platform build/check report for BioC 3.12 | 
  | 
This page was generated on 2021-05-06 12:30:03 -0400 (Thu, 06 May 2021).
| 
To the developers/maintainers of the BioMVCClass package: Please make sure to use the following settings in order to reproduce any error or warning you see on this page.  | 
| Package 180/1974 | Hostname | OS / Arch | INSTALL | BUILD | CHECK | BUILD BIN | ||||||||
| BioMVCClass 1.58.0  (landing page) Elizabeth Whalen 
  | malbec1 | Linux (Ubuntu 18.04.5 LTS) / x86_64 | OK | OK | OK | |||||||||
| tokay1 | Windows Server 2012 R2 Standard / x64 | OK | OK | OK | OK | |||||||||
| merida1 | macOS 10.14.6 Mojave / x86_64 | OK | OK | OK | OK | |||||||||
| Package: BioMVCClass | 
| Version: 1.58.0 | 
| Command: rm -rf BioMVCClass.buildbin-libdir && mkdir BioMVCClass.buildbin-libdir && C:\Users\biocbuild\bbs-3.12-bioc\R\bin\R.exe CMD INSTALL --merge-multiarch --build --library=BioMVCClass.buildbin-libdir BioMVCClass_1.58.0.tar.gz | 
| StartedAt: 2021-05-06 08:33:51 -0400 (Thu, 06 May 2021) | 
| EndedAt: 2021-05-06 08:34:47 -0400 (Thu, 06 May 2021) | 
| EllapsedTime: 55.1 seconds | 
| RetCode: 0 | 
| Status: OK | 
| PackageFile: BioMVCClass_1.58.0.zip | 
| PackageFileSize: 193.9 KiB | 
##############################################################################
##############################################################################
###
### Running command:
###
###   rm -rf BioMVCClass.buildbin-libdir && mkdir BioMVCClass.buildbin-libdir && C:\Users\biocbuild\bbs-3.12-bioc\R\bin\R.exe CMD INSTALL --merge-multiarch --build --library=BioMVCClass.buildbin-libdir BioMVCClass_1.58.0.tar.gz
###
##############################################################################
##############################################################################
install for i386
* installing *source* package 'BioMVCClass' ...
** using staged installation
** R
** inst
** byte-compile and prepare package for lazy loading
** help
*** installing help indices
  converting help for package 'BioMVCClass'
    finding HTML links ... done
    GSE-class                               html  
    exprModel-class                         html  
    graphModel-class                        html  
    graphView-class                         html  
    gseModel-class                          html  
    heatmapView-class                       html  
** building package indices
** installing vignettes
** testing if installed package can be loaded from temporary location
** testing if installed package can be loaded from final location
** testing if installed package keeps a record of temporary installation path
install for x64
* installing *source* package 'BioMVCClass' ...
** testing if installed package can be loaded
* MD5 sums
packaged installation of 'BioMVCClass' as BioMVCClass_1.58.0.zip
* DONE (BioMVCClass)