| Back to Multiple platform build/check report for BioC 3.12 |
|
This page was generated on 2021-05-06 12:26:56 -0400 (Thu, 06 May 2021).
|
To the developers/maintainers of the Basic4Cseq package: Please make sure to use the following settings in order to reproduce any error or warning you see on this page. |
| Package 118/1974 | Hostname | OS / Arch | INSTALL | BUILD | CHECK | BUILD BIN | ||||||||
| Basic4Cseq 1.26.0 (landing page) Carolin Walter
| malbec1 | Linux (Ubuntu 18.04.5 LTS) / x86_64 | OK | OK | OK | |||||||||
| tokay1 | Windows Server 2012 R2 Standard / x64 | OK | OK | OK | OK | |||||||||
| merida1 | macOS 10.14.6 Mojave / x86_64 | OK | OK | OK | OK | |||||||||
| Package: Basic4Cseq |
| Version: 1.26.0 |
| Command: /home/biocbuild/bbs-3.12-bioc/R/bin/R CMD check --install=check:Basic4Cseq.install-out.txt --library=/home/biocbuild/bbs-3.12-bioc/R/library --no-vignettes --timings Basic4Cseq_1.26.0.tar.gz |
| StartedAt: 2021-05-05 23:13:20 -0400 (Wed, 05 May 2021) |
| EndedAt: 2021-05-05 23:17:40 -0400 (Wed, 05 May 2021) |
| EllapsedTime: 259.4 seconds |
| RetCode: 0 |
| Status: OK |
| CheckDir: Basic4Cseq.Rcheck |
| Warnings: 0 |
##############################################################################
##############################################################################
###
### Running command:
###
### /home/biocbuild/bbs-3.12-bioc/R/bin/R CMD check --install=check:Basic4Cseq.install-out.txt --library=/home/biocbuild/bbs-3.12-bioc/R/library --no-vignettes --timings Basic4Cseq_1.26.0.tar.gz
###
##############################################################################
##############################################################################
* using log directory ‘/home/biocbuild/bbs-3.12-bioc/meat/Basic4Cseq.Rcheck’
* using R version 4.0.5 (2021-03-31)
* using platform: x86_64-pc-linux-gnu (64-bit)
* using session charset: UTF-8
* using option ‘--no-vignettes’
* checking for file ‘Basic4Cseq/DESCRIPTION’ ... OK
* checking extension type ... Package
* this is package ‘Basic4Cseq’ version ‘1.26.0’
* checking package namespace information ... OK
* checking package dependencies ... OK
* checking if this is a source package ... OK
* checking if there is a namespace ... OK
* checking for hidden files and directories ... OK
* checking for portable file names ... OK
* checking for sufficient/correct file permissions ... OK
* checking whether package ‘Basic4Cseq’ can be installed ... OK
* checking installed package size ... OK
* checking package directory ... OK
* checking ‘build’ directory ... OK
* checking DESCRIPTION meta-information ... OK
* checking top-level files ... OK
* checking for left-over files ... OK
* checking index information ... OK
* checking package subdirectories ... OK
* checking R files for non-ASCII characters ... OK
* checking R files for syntax errors ... OK
* checking whether the package can be loaded ... OK
* checking whether the package can be loaded with stated dependencies ... OK
* checking whether the package can be unloaded cleanly ... OK
* checking whether the namespace can be loaded with stated dependencies ... OK
* checking whether the namespace can be unloaded cleanly ... OK
* checking dependencies in R code ... OK
* checking S3 generic/method consistency ... OK
* checking replacement functions ... OK
* checking foreign function calls ... OK
* checking R code for possible problems ... OK
* checking Rd files ... OK
* checking Rd metadata ... OK
* checking Rd cross-references ... OK
* checking for missing documentation entries ... OK
* checking for code/documentation mismatches ... OK
* checking Rd \usage sections ... OK
* checking Rd contents ... OK
* checking for unstated dependencies in examples ... OK
* checking contents of ‘data’ directory ... OK
* checking data for non-ASCII characters ... OK
* checking data for ASCII and uncompressed saves ... OK
* checking files in ‘vignettes’ ... OK
* checking examples ... OK
Examples with CPU (user + system) or elapsed time > 5s
user system elapsed
readsToFragments 5.476 1.548 7.04
* checking for unstated dependencies in vignettes ... OK
* checking package vignettes in ‘inst/doc’ ... OK
* checking running R code from vignettes ... SKIPPED
* checking re-building of vignette outputs ... SKIPPED
* checking PDF version of manual ... OK
* DONE
Status: OK
Basic4Cseq.Rcheck/00install.out
############################################################################## ############################################################################## ### ### Running command: ### ### /home/biocbuild/bbs-3.12-bioc/R/bin/R CMD INSTALL Basic4Cseq ### ############################################################################## ############################################################################## * installing to library ‘/home/biocbuild/bbs-3.12-bioc/R/library’ * installing *source* package ‘Basic4Cseq’ ... ** using staged installation ** R ** data ** inst ** byte-compile and prepare package for lazy loading ** help *** installing help indices ** building package indices ** installing vignettes ** testing if installed package can be loaded from temporary location ** testing if installed package can be loaded from final location ** testing if installed package keeps a record of temporary installation path * DONE (Basic4Cseq)
Basic4Cseq.Rcheck/Basic4Cseq-Ex.timings
| name | user | system | elapsed | |
| Data4Cseq-class | 0.004 | 0.000 | 0.002 | |
| Data4Cseq | 0.148 | 0.000 | 0.162 | |
| checkRestrictionEnzymeSequence | 0.004 | 0.000 | 0.000 | |
| chooseNearCisFragments | 0.016 | 0.000 | 0.016 | |
| createVirtualFragmentLibrary | 0.000 | 0.000 | 0.001 | |
| drawDigestionFragmentHistogram | 0.008 | 0.000 | 0.009 | |
| drawHeatmap | 0 | 0 | 0 | |
| exportVisualizationFragmentData | 0 | 0 | 0 | |
| getReadDistribution | 0.240 | 0.004 | 0.244 | |
| giveEnzymeSequence | 0.004 | 0.000 | 0.023 | |
| importVisualizationFragmentData | 0.004 | 0.004 | 0.013 | |
| liverData | 0.004 | 0.000 | 0.003 | |
| liverDataRaw | 0.004 | 0.000 | 0.003 | |
| normalizeFragmentData | 0.008 | 0.000 | 0.006 | |
| plotTransInteractions | 0.000 | 0.000 | 0.001 | |
| prepare4CseqData | 0 | 0 | 0 | |
| printBEDFragmentLibrary | 0 | 0 | 0 | |
| printWigFile | 0 | 0 | 0 | |
| readPointsOfInterestFile | 0.000 | 0.000 | 0.003 | |
| readsToFragments | 5.476 | 1.548 | 7.040 | |
| simulateDigestion | 0.004 | 0.000 | 0.003 | |
| visualizeViewpoint | 0.068 | 0.000 | 0.066 | |