| Back to Multiple platform build/check report for BioC 3.12 |
|
This page was generated on 2021-05-06 12:29:58 -0400 (Thu, 06 May 2021).
|
To the developers/maintainers of the BaseSpaceR package: Please make sure to use the following settings in order to reproduce any error or warning you see on this page. |
| Package 117/1974 | Hostname | OS / Arch | INSTALL | BUILD | CHECK | BUILD BIN | ||||||||
| BaseSpaceR 1.34.0 (landing page) Jared O'Connell
| malbec1 | Linux (Ubuntu 18.04.5 LTS) / x86_64 | OK | OK | OK | |||||||||
| tokay1 | Windows Server 2012 R2 Standard / x64 | OK | OK | OK | OK | |||||||||
| merida1 | macOS 10.14.6 Mojave / x86_64 | OK | OK | OK | OK | |||||||||
| Package: BaseSpaceR |
| Version: 1.34.0 |
| Command: rm -rf BaseSpaceR.buildbin-libdir && mkdir BaseSpaceR.buildbin-libdir && C:\Users\biocbuild\bbs-3.12-bioc\R\bin\R.exe CMD INSTALL --merge-multiarch --build --library=BaseSpaceR.buildbin-libdir BaseSpaceR_1.34.0.tar.gz |
| StartedAt: 2021-05-06 08:29:33 -0400 (Thu, 06 May 2021) |
| EndedAt: 2021-05-06 08:29:53 -0400 (Thu, 06 May 2021) |
| EllapsedTime: 20.7 seconds |
| RetCode: 0 |
| Status: OK |
| PackageFile: BaseSpaceR_1.34.0.zip |
| PackageFileSize: 587.1 KiB |
##############################################################################
##############################################################################
###
### Running command:
###
### rm -rf BaseSpaceR.buildbin-libdir && mkdir BaseSpaceR.buildbin-libdir && C:\Users\biocbuild\bbs-3.12-bioc\R\bin\R.exe CMD INSTALL --merge-multiarch --build --library=BaseSpaceR.buildbin-libdir BaseSpaceR_1.34.0.tar.gz
###
##############################################################################
##############################################################################
install for i386
* installing *source* package 'BaseSpaceR' ...
** using staged installation
** R
** data
** inst
** byte-compile and prepare package for lazy loading
** help
*** installing help indices
converting help for package 'BaseSpaceR'
finding HTML links ... done
AppAuth-class html
AppResults-class html
AppSessionAuth html
AppSessions-class html
BaseSpaceR-package html
Coverage html
Error html
Files-class html
FilesExtra html
Genomes-class html
Projects-class html
Response-class html
Runs-class html
Samples-class html
ServiceURI-class html
Users-class html
Variants html
data-aAuth html
private_methods html
** building package indices
** installing vignettes
** testing if installed package can be loaded from temporary location
** testing if installed package can be loaded from final location
** testing if installed package keeps a record of temporary installation path
install for x64
* installing *source* package 'BaseSpaceR' ...
** testing if installed package can be loaded
* MD5 sums
packaged installation of 'BaseSpaceR' as BaseSpaceR_1.34.0.zip
* DONE (BaseSpaceR)