Back to Multiple platform build/check report for BioC 3.12 |
|
This page was generated on 2021-05-06 12:26:57 -0400 (Thu, 06 May 2021).
To the developers/maintainers of the BEAT package: Please make sure to use the following settings in order to reproduce any error or warning you see on this page. |
Package 138/1974 | Hostname | OS / Arch | INSTALL | BUILD | CHECK | BUILD BIN | ||||||||
BEAT 1.28.0 (landing page) Kemal Akman
| malbec1 | Linux (Ubuntu 18.04.5 LTS) / x86_64 | OK | OK | OK | |||||||||
tokay1 | Windows Server 2012 R2 Standard / x64 | OK | OK | OK | OK | |||||||||
merida1 | macOS 10.14.6 Mojave / x86_64 | OK | OK | OK | OK | |||||||||
Package: BEAT |
Version: 1.28.0 |
Command: /home/biocbuild/bbs-3.12-bioc/R/bin/R CMD build --keep-empty-dirs --no-resave-data BEAT |
StartedAt: 2021-05-05 17:46:10 -0400 (Wed, 05 May 2021) |
EndedAt: 2021-05-05 17:48:26 -0400 (Wed, 05 May 2021) |
EllapsedTime: 136.3 seconds |
RetCode: 0 |
Status: OK |
PackageFile: BEAT_1.28.0.tar.gz |
PackageFileSize: 3.132 MiB |
############################################################################## ############################################################################## ### ### Running command: ### ### /home/biocbuild/bbs-3.12-bioc/R/bin/R CMD build --keep-empty-dirs --no-resave-data BEAT ### ############################################################################## ############################################################################## * checking for file ‘BEAT/DESCRIPTION’ ... OK * preparing ‘BEAT’: * checking DESCRIPTION meta-information ... OK * installing the package to build vignettes * creating vignettes ... OK * checking for LF line-endings in source and make files and shell scripts * checking for empty or unneeded directories * looking to see if a ‘data/datalist’ file should be added * building ‘BEAT_1.28.0.tar.gz’