| Back to Multiple platform build/check report for BioC 3.12 | 
  | 
This page was generated on 2021-05-06 12:26:56 -0400 (Thu, 06 May 2021).
| 
To the developers/maintainers of the BANDITS package: Please make sure to use the following settings in order to reproduce any error or warning you see on this page.  | 
| Package 114/1974 | Hostname | OS / Arch | INSTALL | BUILD | CHECK | BUILD BIN | ||||||||
| BANDITS 1.6.0  (landing page) Simone Tiberi 
  | malbec1 | Linux (Ubuntu 18.04.5 LTS) / x86_64 | OK | OK | OK | |||||||||
| tokay1 | Windows Server 2012 R2 Standard / x64 | OK | OK | OK | OK | |||||||||
| merida1 | macOS 10.14.6 Mojave / x86_64 | OK | OK | OK | OK | |||||||||
| Package: BANDITS | 
| Version: 1.6.0 | 
| Command: /home/biocbuild/bbs-3.12-bioc/R/bin/R CMD build --keep-empty-dirs --no-resave-data BANDITS | 
| StartedAt: 2021-05-05 17:42:09 -0400 (Wed, 05 May 2021) | 
| EndedAt: 2021-05-05 17:45:45 -0400 (Wed, 05 May 2021) | 
| EllapsedTime: 216.3 seconds | 
| RetCode: 0 | 
| Status: OK | 
| PackageFile: BANDITS_1.6.0.tar.gz | 
| PackageFileSize: 1.194 MiB | 
############################################################################## ############################################################################## ### ### Running command: ### ### /home/biocbuild/bbs-3.12-bioc/R/bin/R CMD build --keep-empty-dirs --no-resave-data BANDITS ### ############################################################################## ############################################################################## * checking for file ‘BANDITS/DESCRIPTION’ ... OK * preparing ‘BANDITS’: * checking DESCRIPTION meta-information ... OK * cleaning src * installing the package to process help pages * saving partial Rd database * creating vignettes ... OK * cleaning src * checking for LF line-endings in source and make files and shell scripts * checking for empty or unneeded directories * looking to see if a ‘data/datalist’ file should be added * building ‘BANDITS_1.6.0.tar.gz’