| Back to Multiple platform build/check report for BioC 3.12 | 
  | 
This page was generated on 2021-05-06 12:34:20 -0400 (Thu, 06 May 2021).
| 
To the developers/maintainers of the AssessORF package: Please make sure to use the following settings in order to reproduce any error or warning you see on this page.  | 
| Package 96/1974 | Hostname | OS / Arch | INSTALL | BUILD | CHECK | BUILD BIN | ||||||||
| AssessORF 1.8.0  (landing page) Deepank Korandla 
  | malbec1 | Linux (Ubuntu 18.04.5 LTS) / x86_64 | OK | OK | OK | |||||||||
| tokay1 | Windows Server 2012 R2 Standard / x64 | OK | OK | OK | OK | |||||||||
| merida1 | macOS 10.14.6 Mojave / x86_64 | OK | OK | OK | OK | |||||||||
| Package: AssessORF | 
| Version: 1.8.0 | 
| Command: /Library/Frameworks/R.framework/Versions/Current/Resources/bin/R CMD build --keep-empty-dirs --no-resave-data AssessORF | 
| StartedAt: 2021-05-05 18:11:28 -0400 (Wed, 05 May 2021) | 
| EndedAt: 2021-05-05 18:12:26 -0400 (Wed, 05 May 2021) | 
| EllapsedTime: 58.4 seconds | 
| RetCode: 0 | 
| Status: OK | 
| PackageFile: AssessORF_1.8.0.tar.gz | 
| PackageFileSize: 4.633 MiB | 
############################################################################## ############################################################################## ### ### Running command: ### ### /Library/Frameworks/R.framework/Versions/Current/Resources/bin/R CMD build --keep-empty-dirs --no-resave-data AssessORF ### ############################################################################## ############################################################################## * checking for file ‘AssessORF/DESCRIPTION’ ... OK * preparing ‘AssessORF’: * checking DESCRIPTION meta-information ... OK * installing the package to build vignettes * creating vignettes ... OK * checking for LF line-endings in source and make files and shell scripts * checking for empty or unneeded directories * building ‘AssessORF_1.8.0.tar.gz’