| Back to Multiple platform build/check report for BioC 3.12 | 
 | 
This page was generated on 2021-05-06 12:29:54 -0400 (Thu, 06 May 2021).
| To the developers/maintainers of the AnnotationHubData package: Please make sure to use the following settings in order to reproduce any error or warning you see on this page. | 
| Package 67/1974 | Hostname | OS / Arch | INSTALL | BUILD | CHECK | BUILD BIN | ||||||||
| AnnotationHubData 1.20.2  (landing page) Bioconductor Package Maintainer 
 | malbec1 | Linux (Ubuntu 18.04.5 LTS) / x86_64 | OK | OK | WARNINGS |  | ||||||||
| tokay1 | Windows Server 2012 R2 Standard / x64 | OK | OK | WARNINGS | OK |  | ||||||||
| merida1 | macOS 10.14.6 Mojave / x86_64 | OK | OK | WARNINGS | OK |  | ||||||||
| Package: AnnotationHubData | 
| Version: 1.20.2 | 
| Command: C:\cygwin\bin\curl.exe -O http://172.29.0.3/BBS/3.12/bioc/src/contrib/AnnotationHubData_1.20.2.tar.gz && rm -rf AnnotationHubData.buildbin-libdir && mkdir AnnotationHubData.buildbin-libdir && C:\Users\biocbuild\bbs-3.12-bioc\R\bin\R.exe CMD INSTALL --merge-multiarch --build --library=AnnotationHubData.buildbin-libdir AnnotationHubData_1.20.2.tar.gz && C:\Users\biocbuild\bbs-3.12-bioc\R\bin\R.exe CMD INSTALL AnnotationHubData_1.20.2.zip && rm AnnotationHubData_1.20.2.tar.gz AnnotationHubData_1.20.2.zip | 
| StartedAt: 2021-05-05 17:59:50 -0400 (Wed, 05 May 2021) | 
| EndedAt: 2021-05-05 18:01:12 -0400 (Wed, 05 May 2021) | 
| EllapsedTime: 81.5 seconds | 
| RetCode: 0 | 
| Status: OK | 
##############################################################################
##############################################################################
###
### Running command:
###
###   C:\cygwin\bin\curl.exe -O http://172.29.0.3/BBS/3.12/bioc/src/contrib/AnnotationHubData_1.20.2.tar.gz && rm -rf AnnotationHubData.buildbin-libdir && mkdir AnnotationHubData.buildbin-libdir && C:\Users\biocbuild\bbs-3.12-bioc\R\bin\R.exe CMD INSTALL --merge-multiarch --build --library=AnnotationHubData.buildbin-libdir AnnotationHubData_1.20.2.tar.gz && C:\Users\biocbuild\bbs-3.12-bioc\R\bin\R.exe CMD INSTALL AnnotationHubData_1.20.2.zip && rm AnnotationHubData_1.20.2.tar.gz AnnotationHubData_1.20.2.zip
###
##############################################################################
##############################################################################
  % Total    % Received % Xferd  Average Speed   Time    Time     Time  Current
                                 Dload  Upload   Total   Spent    Left  Speed
  0     0    0     0    0     0      0      0 --:--:-- --:--:-- --:--:--     0
  7  191k    7 14357    0     0   222k      0 --:--:-- --:--:-- --:--:--  222k
100  191k  100  191k    0     0  2994k      0 --:--:-- --:--:-- --:--:-- 2986k
install for i386
* installing *source* package 'AnnotationHubData' ...
** using staged installation
** R
** inst
** byte-compile and prepare package for lazy loading
** help
*** installing help indices
  converting help for package 'AnnotationHubData'
    finding HTML links ... done
    AnnotationHubData-package               html  
    AnnotationHubMetadata-class             html  
    ImportPreparer-class                    html  
    flog                                    html  
    makeAnnotationHubMetadata               html  
    makeEnsemblFasta                        html  
    makeGencodeFasta                        html  
    makeStandardOrgDbs                      html  
    updateResources                         html  
    upload_to_S3                            html  
    validationFunctions                     html  
** building package indices
** installing vignettes
** testing if installed package can be loaded from temporary location
** testing if installed package can be loaded from final location
** testing if installed package keeps a record of temporary installation path
install for x64
* installing *source* package 'AnnotationHubData' ...
** testing if installed package can be loaded
* MD5 sums
packaged installation of 'AnnotationHubData' as AnnotationHubData_1.20.2.zip
* DONE (AnnotationHubData)
* installing to library 'C:/Users/biocbuild/bbs-3.12-bioc/R/library'
package 'AnnotationHubData' successfully unpacked and MD5 sums checked