| Back to Multiple platform build/check report for BioC 3.12 |
|
This page was generated on 2021-05-06 12:29:57 -0400 (Thu, 06 May 2021).
|
To the developers/maintainers of the AWFisher package: Please make sure to use the following settings in order to reproduce any error or warning you see on this page. |
| Package 104/1974 | Hostname | OS / Arch | INSTALL | BUILD | CHECK | BUILD BIN | ||||||||
| AWFisher 1.4.0 (landing page) Zhiguang Huo
| malbec1 | Linux (Ubuntu 18.04.5 LTS) / x86_64 | OK | OK | OK | |||||||||
| tokay1 | Windows Server 2012 R2 Standard / x64 | OK | OK | OK | OK | |||||||||
| merida1 | macOS 10.14.6 Mojave / x86_64 | OK | OK | OK | OK | |||||||||
| Package: AWFisher |
| Version: 1.4.0 |
| Command: rm -rf AWFisher.buildbin-libdir && mkdir AWFisher.buildbin-libdir && C:\Users\biocbuild\bbs-3.12-bioc\R\bin\R.exe CMD INSTALL --merge-multiarch --build --library=AWFisher.buildbin-libdir AWFisher_1.4.0.tar.gz |
| StartedAt: 2021-05-06 08:28:40 -0400 (Thu, 06 May 2021) |
| EndedAt: 2021-05-06 08:29:17 -0400 (Thu, 06 May 2021) |
| EllapsedTime: 37.2 seconds |
| RetCode: 0 |
| Status: OK |
| PackageFile: AWFisher_1.4.0.zip |
| PackageFileSize: 1.411 MiB |
##############################################################################
##############################################################################
###
### Running command:
###
### rm -rf AWFisher.buildbin-libdir && mkdir AWFisher.buildbin-libdir && C:\Users\biocbuild\bbs-3.12-bioc\R\bin\R.exe CMD INSTALL --merge-multiarch --build --library=AWFisher.buildbin-libdir AWFisher_1.4.0.tar.gz
###
##############################################################################
##############################################################################
install for i386
* installing *source* package 'AWFisher' ...
** using staged installation
** libs
"C:/rtools40/mingw32/bin/"g++ -std=gnu++11 -I"C:/Users/BIOCBU~1/BBS-3~1.12-/R/include" -DNDEBUG -I"C:/extsoft/include" -O2 -Wall -mfpmath=sse -msse2 -mstackrealign -c AWFisher.cpp -o AWFisher.o
C:/rtools40/mingw32/bin/g++ -std=gnu++11 -shared -s -static-libgcc -o AWFisher.dll tmp.def AWFisher.o -LC:/extsoft/lib/i386 -LC:/extsoft/lib -LC:/Users/BIOCBU~1/BBS-3~1.12-/R/bin/i386 -lR
installing to C:/Users/biocbuild/bbs-3.12-bioc/meat/AWFisher.buildbin-libdir/00LOCK-AWFisher/00new/AWFisher/libs/i386
** R
** data
** inst
** byte-compile and prepare package for lazy loading
** help
*** installing help indices
converting help for package 'AWFisher'
finding HTML links ... done
AWFisher_pvalue html
biomarkerCategorization html
data_mouseMetabolism html
function_edgeR html
function_limma html
variabilityIndex html
** building package indices
** installing vignettes
** testing if installed package can be loaded from temporary location
** testing if installed package can be loaded from final location
** testing if installed package keeps a record of temporary installation path
install for x64
* installing *source* package 'AWFisher' ...
** libs
"C:/rtools40/mingw64/bin/"g++ -std=gnu++11 -I"C:/Users/BIOCBU~1/BBS-3~1.12-/R/include" -DNDEBUG -I"C:/extsoft/include" -O2 -Wall -mfpmath=sse -msse2 -mstackrealign -c AWFisher.cpp -o AWFisher.o
C:/rtools40/mingw64/bin/g++ -std=gnu++11 -shared -s -static-libgcc -o AWFisher.dll tmp.def AWFisher.o -LC:/extsoft/lib/x64 -LC:/extsoft/lib -LC:/Users/BIOCBU~1/BBS-3~1.12-/R/bin/x64 -lR
installing to C:/Users/biocbuild/bbs-3.12-bioc/meat/AWFisher.buildbin-libdir/AWFisher/libs/x64
** testing if installed package can be loaded
* MD5 sums
packaged installation of 'AWFisher' as AWFisher_1.4.0.zip
* DONE (AWFisher)