| Back to Multiple platform build/check report for BioC 3.12 |
|
This page was generated on 2021-05-06 12:29:57 -0400 (Thu, 06 May 2021).
|
To the developers/maintainers of the ATACseqQC package: Please make sure to use the following settings in order to reproduce any error or warning you see on this page. |
| Package 99/1974 | Hostname | OS / Arch | INSTALL | BUILD | CHECK | BUILD BIN | ||||||||
| ATACseqQC 1.14.4 (landing page) Jianhong Ou
| malbec1 | Linux (Ubuntu 18.04.5 LTS) / x86_64 | OK | OK | OK | |||||||||
| tokay1 | Windows Server 2012 R2 Standard / x64 | OK | OK | OK | OK | |||||||||
| merida1 | macOS 10.14.6 Mojave / x86_64 | OK | OK | OK | OK | |||||||||
| Package: ATACseqQC |
| Version: 1.14.4 |
| Command: rm -rf ATACseqQC.buildbin-libdir && mkdir ATACseqQC.buildbin-libdir && C:\Users\biocbuild\bbs-3.12-bioc\R\bin\R.exe CMD INSTALL --merge-multiarch --build --library=ATACseqQC.buildbin-libdir ATACseqQC_1.14.4.tar.gz |
| StartedAt: 2021-05-06 08:28:17 -0400 (Thu, 06 May 2021) |
| EndedAt: 2021-05-06 08:29:58 -0400 (Thu, 06 May 2021) |
| EllapsedTime: 101.2 seconds |
| RetCode: 0 |
| Status: OK |
| PackageFile: ATACseqQC_1.14.4.zip |
| PackageFileSize: 11.94 MiB |
##############################################################################
##############################################################################
###
### Running command:
###
### rm -rf ATACseqQC.buildbin-libdir && mkdir ATACseqQC.buildbin-libdir && C:\Users\biocbuild\bbs-3.12-bioc\R\bin\R.exe CMD INSTALL --merge-multiarch --build --library=ATACseqQC.buildbin-libdir ATACseqQC_1.14.4.tar.gz
###
##############################################################################
##############################################################################
install for i386
* installing *source* package 'ATACseqQC' ...
** using staged installation
** R
** inst
** byte-compile and prepare package for lazy loading
** help
*** installing help indices
converting help for package 'ATACseqQC'
finding HTML links ... done
ATACseqQC-package html
DB html
NFRscore html
PTscore html
TSSEscore html
bamQC html
distanceDyad html
enrichedFragments html
estimateLibComplexity html
factorFootprints html
footprintsScanner html
fragSizeDist html
peakdet html
plotCorrelation html
plotFootprints html
pwmscores html
readBamFile html
finding level-2 HTML links ... done
readsDupFreq html
saturationPlot html
shiftGAlignments html
shiftGAlignmentsList html
shiftReads html
splitBam html
splitGAlignmentsByCut html
vPlot html
writeListOfGAlignments html
** building package indices
** installing vignettes
** testing if installed package can be loaded from temporary location
** testing if installed package can be loaded from final location
** testing if installed package keeps a record of temporary installation path
install for x64
* installing *source* package 'ATACseqQC' ...
** testing if installed package can be loaded
* MD5 sums
packaged installation of 'ATACseqQC' as ATACseqQC_1.14.4.zip
* DONE (ATACseqQC)