| Back to Multiple platform build/check report for BioC 3.12 | 
 | 
This page was generated on 2021-05-06 12:29:56 -0400 (Thu, 06 May 2021).
| To the developers/maintainers of the ASGSCA package: Please make sure to use the following settings in order to reproduce any error or warning you see on this page. | 
| Package 92/1974 | Hostname | OS / Arch | INSTALL | BUILD | CHECK | BUILD BIN | ||||||||
| ASGSCA 1.24.0  (landing page) Hela Romdhani 
 | malbec1 | Linux (Ubuntu 18.04.5 LTS) / x86_64 | OK | OK | OK |  | ||||||||
| tokay1 | Windows Server 2012 R2 Standard / x64 | OK | OK | OK | OK |  | ||||||||
| merida1 | macOS 10.14.6 Mojave / x86_64 | OK | OK | OK | OK |  | ||||||||
| Package: ASGSCA | 
| Version: 1.24.0 | 
| Command: chmod a+r ASGSCA -R && C:\Users\biocbuild\bbs-3.12-bioc\R\bin\R.exe CMD build --keep-empty-dirs --no-resave-data ASGSCA | 
| StartedAt: 2021-05-05 19:36:58 -0400 (Wed, 05 May 2021) | 
| EndedAt: 2021-05-05 19:40:04 -0400 (Wed, 05 May 2021) | 
| EllapsedTime: 186.0 seconds | 
| RetCode: 0 | 
| Status: OK | 
| PackageFile: ASGSCA_1.24.0.tar.gz | 
| PackageFileSize: 1.22 MiB | 
############################################################################## ############################################################################## ### ### Running command: ### ### chmod a+r ASGSCA -R && C:\Users\biocbuild\bbs-3.12-bioc\R\bin\R.exe CMD build --keep-empty-dirs --no-resave-data ASGSCA ### ############################################################################## ############################################################################## * checking for file 'ASGSCA/DESCRIPTION' ... OK * preparing 'ASGSCA': * checking DESCRIPTION meta-information ... OK * installing the package to build vignettes * creating vignettes ... OK * checking for LF line-endings in source and make files and shell scripts * checking for empty or unneeded directories * looking to see if a 'data/datalist' file should be added * building 'ASGSCA_1.24.0.tar.gz'