| Back to Multiple platform build/check report for BioC 3.12 | 
 | 
This page was generated on 2021-05-06 12:34:18 -0400 (Thu, 06 May 2021).
| To the developers/maintainers of the APAlyzer package: Please make sure to use the following settings in order to reproduce any error or warning you see on this page. | 
| Package 76/1974 | Hostname | OS / Arch | INSTALL | BUILD | CHECK | BUILD BIN | ||||||||
| APAlyzer 1.4.0  (landing page) Ruijia Wang 
 | malbec1 | Linux (Ubuntu 18.04.5 LTS) / x86_64 | OK | OK | OK |  | ||||||||
| tokay1 | Windows Server 2012 R2 Standard / x64 | OK | OK | OK | OK |  | ||||||||
| merida1 | macOS 10.14.6 Mojave / x86_64 | OK | OK | OK | OK |  | ||||||||
| Package: APAlyzer | 
| Version: 1.4.0 | 
| Command: /Library/Frameworks/R.framework/Versions/Current/Resources/bin/R CMD build --keep-empty-dirs --no-resave-data APAlyzer | 
| StartedAt: 2021-05-05 18:09:00 -0400 (Wed, 05 May 2021) | 
| EndedAt: 2021-05-05 18:10:59 -0400 (Wed, 05 May 2021) | 
| EllapsedTime: 118.5 seconds | 
| RetCode: 0 | 
| Status: OK | 
| PackageFile: APAlyzer_1.4.0.tar.gz | 
| PackageFileSize: 3.894 MiB | 
############################################################################## ############################################################################## ### ### Running command: ### ### /Library/Frameworks/R.framework/Versions/Current/Resources/bin/R CMD build --keep-empty-dirs --no-resave-data APAlyzer ### ############################################################################## ############################################################################## * checking for file ‘APAlyzer/DESCRIPTION’ ... OK * preparing ‘APAlyzer’: * checking DESCRIPTION meta-information ... OK * installing the package to build vignettes * creating vignettes ... OK * checking for LF line-endings in source and make files and shell scripts * checking for empty or unneeded directories * building ‘APAlyzer_1.4.0.tar.gz’