Back to Workflows build report for BioC 3.11 |
This page was generated on 2019-12-03 18:30:08 -0500 (Tue, 03 Dec 2019).
Package 3/27 | Hostname | OS / Arch | INSTALL | BUILD | ||||||
BgeeCall 1.3.0 Julien Wollbrett
| malbec2 | Linux (Ubuntu 18.04.3 LTS) / x86_64 | [ OK ] | OK | ![]() |
Package: BgeeCall |
Version: 1.3.0 |
Command: /home/biocbuild/bbs-3.11-bioc/R/bin/R CMD INSTALL BgeeCall |
StartedAt: 2019-12-03 11:00:10 -0500 (Tue, 03 Dec 2019) |
EndedAt: 2019-12-03 11:00:37 -0500 (Tue, 03 Dec 2019) |
EllapsedTime: 26.2 seconds |
RetCode: 0 |
Status: OK |
############################################################################## ############################################################################## ### ### Running command: ### ### /home/biocbuild/bbs-3.11-bioc/R/bin/R CMD INSTALL BgeeCall ### ############################################################################## ############################################################################## * installing to library ‘/home/biocbuild/bbs-3.11-bioc/R/library’ * installing *source* package ‘BgeeCall’ ... ** using staged installation ** R ** inst ** byte-compile and prepare package for lazy loading ** help *** installing help indices ** building package indices ** installing vignettes ** testing if installed package can be loaded from temporary location ** testing if installed package can be loaded from final location ** testing if installed package keeps a record of temporary installation path * DONE (BgeeCall)