| Back to Workflows build report for BioC 3.11 |
This page was generated on 2020-10-16 17:00:14 -0400 (Fri, 16 Oct 2020).
| TO THE DEVELOPERS/MAINTAINERS OF THE CAGEWorkflow PACKAGE: Please make sure to use the following settings in order to reproduce any error or warning you see on this page. |
| Package 4/27 | Hostname | OS / Arch | INSTALL | BUILD | ||||||
| CAGEWorkflow 1.4.0 Malte Thodberg
| malbec2 | Linux (Ubuntu 18.04.4 LTS) / x86_64 | OK | [ OK ] |
| Package: CAGEWorkflow |
| Version: 1.4.0 |
| Command: /home/biocbuild/bbs-3.11-bioc/R/bin/R CMD build --keep-empty-dirs --no-resave-data CAGEWorkflow |
| StartedAt: 2020-10-16 09:04:06 -0400 (Fri, 16 Oct 2020) |
| EndedAt: 2020-10-16 09:14:33 -0400 (Fri, 16 Oct 2020) |
| EllapsedTime: 626.9 seconds |
| RetCode: 0 |
| Status: OK |
| PackageFile: CAGEWorkflow_1.4.0.tar.gz |
| PackageFileSize: 733.4 KiB |
############################################################################## ############################################################################## ### ### Running command: ### ### /home/biocbuild/bbs-3.11-bioc/R/bin/R CMD build --keep-empty-dirs --no-resave-data CAGEWorkflow ### ############################################################################## ############################################################################## * checking for file ‘CAGEWorkflow/DESCRIPTION’ ... OK * preparing ‘CAGEWorkflow’: * checking DESCRIPTION meta-information ... OK * installing the package to build vignettes * creating vignettes ... OK * checking for LF line-endings in source and make files and shell scripts * checking for empty or unneeded directories * building ‘CAGEWorkflow_1.4.0.tar.gz’