| Back to Build/check report for BioC 3.11 experimental data | 
This page was generated on 2020-10-15 20:46:02 -0400 (Thu, 15 Oct 2020).
| TO THE DEVELOPERS/MAINTAINERS OF THE waveTilingData PACKAGE: Please make sure to use the following settings in order to reproduce any error or warning you see on this page. | 
| Package 380/391 | Hostname | OS / Arch | INSTALL | BUILD | CHECK | ||||||
| waveTilingData 1.24.0 Kristof De Beuf 
 | malbec2 | Linux (Ubuntu 18.04.4 LTS) / x86_64 | OK | [ OK ] | WARNINGS |  | 
| Package: waveTilingData | 
| Version: 1.24.0 | 
| Command: /home/biocbuild/bbs-3.11-bioc/R/bin/R CMD build --keep-empty-dirs --no-resave-data waveTilingData | 
| StartedAt: 2020-10-15 12:45:33 -0400 (Thu, 15 Oct 2020) | 
| EndedAt: 2020-10-15 12:45:55 -0400 (Thu, 15 Oct 2020) | 
| EllapsedTime: 22.0 seconds | 
| RetCode: 0 | 
| Status: OK | 
| PackageFile: waveTilingData_1.24.0.tar.gz | 
| PackageFileSize: 240.3 MiB | 
############################################################################## ############################################################################## ### ### Running command: ### ### /home/biocbuild/bbs-3.11-bioc/R/bin/R CMD build --keep-empty-dirs --no-resave-data waveTilingData ### ############################################################################## ############################################################################## * checking for file ‘waveTilingData/DESCRIPTION’ ... OK * preparing ‘waveTilingData’: * checking DESCRIPTION meta-information ... OK * checking for LF line-endings in source and make files and shell scripts * checking for empty or unneeded directories * looking to see if a ‘data/datalist’ file should be added * building ‘waveTilingData_1.24.0.tar.gz’