Back to Build/check report for BioC 3.11 experimental data |
This page was generated on 2020-10-15 20:46:00 -0400 (Thu, 15 Oct 2020).
TO THE DEVELOPERS/MAINTAINERS OF THE scTHI.data PACKAGE: Please make sure to use the following settings in order to reproduce any error or warning you see on this page. |
Package 330/391 | Hostname | OS / Arch | INSTALL | BUILD | CHECK | ||||||
scTHI.data 1.0.0 Michele Ceccarelli
| malbec2 | Linux (Ubuntu 18.04.4 LTS) / x86_64 | OK | [ OK ] | OK |
Package: scTHI.data |
Version: 1.0.0 |
Command: /home/biocbuild/bbs-3.11-bioc/R/bin/R CMD build --keep-empty-dirs --no-resave-data scTHI.data |
StartedAt: 2020-10-15 12:33:01 -0400 (Thu, 15 Oct 2020) |
EndedAt: 2020-10-15 12:33:19 -0400 (Thu, 15 Oct 2020) |
EllapsedTime: 17.6 seconds |
RetCode: 0 |
Status: OK |
PackageFile: scTHI.data_1.0.0.tar.gz |
PackageFileSize: 24.17 MiB |
############################################################################## ############################################################################## ### ### Running command: ### ### /home/biocbuild/bbs-3.11-bioc/R/bin/R CMD build --keep-empty-dirs --no-resave-data scTHI.data ### ############################################################################## ############################################################################## * checking for file ‘scTHI.data/DESCRIPTION’ ... OK * preparing ‘scTHI.data’: * checking DESCRIPTION meta-information ... OK * checking for LF line-endings in source and make files and shell scripts * checking for empty or unneeded directories * looking to see if a ‘data/datalist’ file should be added * building ‘scTHI.data_1.0.0.tar.gz’