Back to Build/check report for BioC 3.11 experimental data |
This page was generated on 2020-10-15 20:45:55 -0400 (Thu, 15 Oct 2020).
TO THE DEVELOPERS/MAINTAINERS OF THE prostateCancerGrasso PACKAGE: Please make sure to use the following settings in order to reproduce any error or warning you see on this page. |
Package 279/391 | Hostname | OS / Arch | INSTALL | BUILD | CHECK | ||||||
prostateCancerGrasso 1.16.0 Mark Dunning
| malbec2 | Linux (Ubuntu 18.04.4 LTS) / x86_64 | OK | [ OK ] | OK |
Package: prostateCancerGrasso |
Version: 1.16.0 |
Command: /home/biocbuild/bbs-3.11-bioc/R/bin/R CMD build --keep-empty-dirs --no-resave-data prostateCancerGrasso |
StartedAt: 2020-10-15 12:12:11 -0400 (Thu, 15 Oct 2020) |
EndedAt: 2020-10-15 12:12:37 -0400 (Thu, 15 Oct 2020) |
EllapsedTime: 26.5 seconds |
RetCode: 0 |
Status: OK |
PackageFile: prostateCancerGrasso_1.16.0.tar.gz |
PackageFileSize: 25.23 MiB |
############################################################################## ############################################################################## ### ### Running command: ### ### /home/biocbuild/bbs-3.11-bioc/R/bin/R CMD build --keep-empty-dirs --no-resave-data prostateCancerGrasso ### ############################################################################## ############################################################################## * checking for file ‘prostateCancerGrasso/DESCRIPTION’ ... OK * preparing ‘prostateCancerGrasso’: * checking DESCRIPTION meta-information ... OK * installing the package to build vignettes * creating vignettes ... OK * checking for LF line-endings in source and make files and shell scripts * checking for empty or unneeded directories * building ‘prostateCancerGrasso_1.16.0.tar.gz’