| Back to Build/check report for BioC 3.11 experimental data |
This page was generated on 2020-10-15 20:45:54 -0400 (Thu, 15 Oct 2020).
| TO THE DEVELOPERS/MAINTAINERS OF THE pRolocdata PACKAGE: Please make sure to use the following settings in order to reproduce any error or warning you see on this page. |
| Package 277/391 | Hostname | OS / Arch | INSTALL | BUILD | CHECK | ||||||
| pRolocdata 1.26.0 Laurent Gatto
| malbec2 | Linux (Ubuntu 18.04.4 LTS) / x86_64 | OK | OK | [ OK ] |
| Package: pRolocdata |
| Version: 1.26.0 |
| Command: /home/biocbuild/bbs-3.11-bioc/R/bin/R CMD check --install=check:pRolocdata.install-out.txt --library=/home/biocbuild/bbs-3.11-bioc/R/library --no-vignettes --timings pRolocdata_1.26.0.tar.gz |
| StartedAt: 2020-10-15 13:56:18 -0400 (Thu, 15 Oct 2020) |
| EndedAt: 2020-10-15 14:01:01 -0400 (Thu, 15 Oct 2020) |
| EllapsedTime: 282.6 seconds |
| RetCode: 0 |
| Status: OK |
| CheckDir: pRolocdata.Rcheck |
| Warnings: 0 |
##############################################################################
##############################################################################
###
### Running command:
###
### /home/biocbuild/bbs-3.11-bioc/R/bin/R CMD check --install=check:pRolocdata.install-out.txt --library=/home/biocbuild/bbs-3.11-bioc/R/library --no-vignettes --timings pRolocdata_1.26.0.tar.gz
###
##############################################################################
##############################################################################
* using log directory ‘/home/biocbuild/bbs-3.11-data-experiment/meat/pRolocdata.Rcheck’
* using R version 4.0.3 (2020-10-10)
* using platform: x86_64-pc-linux-gnu (64-bit)
* using session charset: UTF-8
* using option ‘--no-vignettes’
* checking for file ‘pRolocdata/DESCRIPTION’ ... OK
* checking extension type ... Package
* this is package ‘pRolocdata’ version ‘1.26.0’
* package encoding: UTF-8
* checking package namespace information ... OK
* checking package dependencies ... OK
* checking if this is a source package ... OK
* checking if there is a namespace ... OK
* checking for hidden files and directories ... OK
* checking for portable file names ... OK
* checking for sufficient/correct file permissions ... OK
* checking whether package ‘pRolocdata’ can be installed ... OK
* checking installed package size ... NOTE
installed size is 300.1Mb
sub-directories of 1Mb or more:
data 69.9Mb
extdata 229.7Mb
* checking package directory ... OK
* checking DESCRIPTION meta-information ... OK
* checking top-level files ... OK
* checking for left-over files ... OK
* checking index information ... OK
* checking package subdirectories ... OK
* checking R files for non-ASCII characters ... OK
* checking R files for syntax errors ... OK
* checking whether the package can be loaded ... OK
* checking whether the package can be loaded with stated dependencies ... OK
* checking whether the package can be unloaded cleanly ... OK
* checking whether the namespace can be loaded with stated dependencies ... OK
* checking whether the namespace can be unloaded cleanly ... OK
* checking dependencies in R code ... OK
* checking S3 generic/method consistency ... OK
* checking replacement functions ... OK
* checking foreign function calls ... OK
* checking R code for possible problems ... OK
* checking Rd files ... OK
* checking Rd metadata ... OK
* checking Rd cross-references ... OK
* checking for missing documentation entries ... OK
* checking for code/documentation mismatches ... OK
* checking Rd \usage sections ... OK
* checking Rd contents ... OK
* checking for unstated dependencies in examples ... OK
* checking contents of ‘data’ directory ... OK
* checking data for non-ASCII characters ... OK
* checking data for ASCII and uncompressed saves ... OK
* checking examples ... OK
Examples with CPU (user + system) or elapsed time > 5s
user system elapsed
krahmer2018pcp 10.278 0.240 10.518
Shin2020 5.998 0.194 12.050
* checking for unstated dependencies in ‘tests’ ... OK
* checking tests ...
Running ‘testthat.R’
OK
* checking PDF version of manual ... OK
* DONE
Status: 1 NOTE
See
‘/home/biocbuild/bbs-3.11-data-experiment/meat/pRolocdata.Rcheck/00check.log’
for details.
pRolocdata.Rcheck/00install.out
############################################################################## ############################################################################## ### ### Running command: ### ### /home/biocbuild/bbs-3.11-bioc/R/bin/R CMD INSTALL pRolocdata ### ############################################################################## ############################################################################## * installing to library ‘/home/biocbuild/bbs-3.11-bioc/R/library’ * installing *source* package ‘pRolocdata’ ... ** using staged installation ** R ** data ** inst ** byte-compile and prepare package for lazy loading ** help *** installing help indices ** building package indices ** testing if installed package can be loaded from temporary location ** testing if installed package can be loaded from final location ** testing if installed package keeps a record of temporary installation path * DONE (pRolocdata)
pRolocdata.Rcheck/tests/testthat.Rout
R version 4.0.3 (2020-10-10) -- "Bunny-Wunnies Freak Out"
Copyright (C) 2020 The R Foundation for Statistical Computing
Platform: x86_64-pc-linux-gnu (64-bit)
R is free software and comes with ABSOLUTELY NO WARRANTY.
You are welcome to redistribute it under certain conditions.
Type 'license()' or 'licence()' for distribution details.
R is a collaborative project with many contributors.
Type 'contributors()' for more information and
'citation()' on how to cite R or R packages in publications.
Type 'demo()' for some demos, 'help()' for on-line help, or
'help.start()' for an HTML browser interface to help.
Type 'q()' to quit R.
> # setting R_TESTS to empty string because of
> # https://github.com/hadley/testthat/issues/144
> # revert this when that issue in R is fixed.
> Sys.setenv("R_TESTS" = "")
> library(testthat)
> library(MSnbase)
Loading required package: BiocGenerics
Loading required package: parallel
Attaching package: 'BiocGenerics'
The following objects are masked from 'package:parallel':
clusterApply, clusterApplyLB, clusterCall, clusterEvalQ,
clusterExport, clusterMap, parApply, parCapply, parLapply,
parLapplyLB, parRapply, parSapply, parSapplyLB
The following objects are masked from 'package:stats':
IQR, mad, sd, var, xtabs
The following objects are masked from 'package:base':
Filter, Find, Map, Position, Reduce, anyDuplicated, append,
as.data.frame, basename, cbind, colnames, dirname, do.call,
duplicated, eval, evalq, get, grep, grepl, intersect, is.unsorted,
lapply, mapply, match, mget, order, paste, pmax, pmax.int, pmin,
pmin.int, rank, rbind, rownames, sapply, setdiff, sort, table,
tapply, union, unique, unsplit, which, which.max, which.min
Loading required package: Biobase
Welcome to Bioconductor
Vignettes contain introductory material; view with
'browseVignettes()'. To cite Bioconductor, see
'citation("Biobase")', and for packages 'citation("pkgname")'.
Loading required package: mzR
Loading required package: Rcpp
Loading required package: S4Vectors
Loading required package: stats4
Attaching package: 'S4Vectors'
The following object is masked from 'package:base':
expand.grid
Loading required package: ProtGenerics
Attaching package: 'ProtGenerics'
The following object is masked from 'package:stats':
smooth
This is MSnbase version 2.14.2
Visit https://lgatto.github.io/MSnbase/ to get started.
Attaching package: 'MSnbase'
The following object is masked from 'package:base':
trimws
> library(pRolocdata)
This is pRolocdata version 1.26.0.
Use 'pRolocdata()' to list available data sets.
>
> test_check("pRolocdata")
══ testthat results ═══════════════════════════════════════════════════════════
[ OK: 105 | SKIPPED: 0 | WARNINGS: 0 | FAILED: 0 ]
>
> proc.time()
user system elapsed
17.221 0.492 17.699
pRolocdata.Rcheck/pRolocdata-Ex.timings
| name | user | system | elapsed | |
| E14TG2a | 0.058 | 0.001 | 0.058 | |
| Shin2020 | 5.998 | 0.194 | 12.050 | |
| ToxoLopit | 1.082 | 0.008 | 1.089 | |
| andreyev2010 | 0.612 | 0.024 | 0.637 | |
| andy2011 | 0.055 | 0.004 | 0.060 | |
| at_chloro | 0.109 | 0.000 | 0.109 | |
| baers2018 | 0.382 | 0.004 | 0.386 | |
| beltran2016 | 0.589 | 0.001 | 0.590 | |
| davies2018 | 0.304 | 0.000 | 0.303 | |
| dunkley2006 | 0.012 | 0.000 | 0.012 | |
| fabre2015 | 0.318 | 0.004 | 0.321 | |
| foster2006 | 0.033 | 0.000 | 0.033 | |
| groen2014 | 2.074 | 0.024 | 2.098 | |
| hall2009 | 0.168 | 0.000 | 0.167 | |
| havugimana2012 | 0.161 | 0.008 | 0.170 | |
| hirst2018 | 1.034 | 0.008 | 1.042 | |
| hyperLOPIT2015 | 3.916 | 0.036 | 3.952 | |
| hyperLOPITU2OS2017 | 1.326 | 0.020 | 1.373 | |
| itzhak2016 | 0.663 | 0.000 | 0.663 | |
| itzhak2017 | 1.829 | 0.024 | 1.853 | |
| itzhak2017dynamic | 1.31 | 0.02 | 1.33 | |
| kirkwood2013 | 0.061 | 0.000 | 0.061 | |
| krahmer2018pcp | 10.278 | 0.240 | 10.518 | |
| kristensen2012 | 0.023 | 0.000 | 0.023 | |
| lopimsSyn2 | 0.667 | 0.008 | 0.675 | |
| mulvey2015 | 2.765 | 0.040 | 2.820 | |
| nikolovski2012 | 0.342 | 0.012 | 0.354 | |
| nikolovski2014 | 0.395 | 0.016 | 0.411 | |
| orre2019 | 0.491 | 0.016 | 0.507 | |
| pRolocdata | 0.012 | 0.063 | 0.161 | |
| pRolocmetadata | 0.021 | 0.000 | 0.021 | |
| rodriguez2012r1 | 0.748 | 0.036 | 0.792 | |
| stekhoven2014 | 0.371 | 0.028 | 0.399 | |
| tan2009 | 0.017 | 0.000 | 0.017 | |
| trotter2010 | 0.337 | 0.012 | 0.349 | |
| yeast | 0.395 | 0.004 | 0.399 | |