| Back to Build/check report for BioC 3.11 experimental data | 
This page was generated on 2020-10-15 20:45:51 -0400 (Thu, 15 Oct 2020).
| TO THE DEVELOPERS/MAINTAINERS OF THE minfiDataEPIC PACKAGE: Please make sure to use the following settings in order to reproduce any error or warning you see on this page. | 
| Package 225/391 | Hostname | OS / Arch | INSTALL | BUILD | CHECK | ||||||
| minfiDataEPIC 1.14.0 Kasper Daniel Hansen 
 | malbec2 | Linux (Ubuntu 18.04.4 LTS) / x86_64 | [ OK ] | OK | OK |  | 
| Package: minfiDataEPIC | 
| Version: 1.14.0 | 
| Command: /home/biocbuild/bbs-3.11-bioc/R/bin/R CMD INSTALL minfiDataEPIC | 
| StartedAt: 2020-10-15 09:43:37 -0400 (Thu, 15 Oct 2020) | 
| EndedAt: 2020-10-15 09:45:36 -0400 (Thu, 15 Oct 2020) | 
| EllapsedTime: 118.9 seconds | 
| RetCode: 0 | 
| Status: OK | 
############################################################################## ############################################################################## ### ### Running command: ### ### /home/biocbuild/bbs-3.11-bioc/R/bin/R CMD INSTALL minfiDataEPIC ### ############################################################################## ############################################################################## * installing to library ‘/home/biocbuild/bbs-3.11-bioc/R/library’ * installing *source* package ‘minfiDataEPIC’ ... ** using staged installation ** data *** moving datasets to lazyload DB ** inst ** help *** installing help indices ** building package indices ** testing if installed package can be loaded from temporary location ** testing if installed package can be loaded from final location ** testing if installed package keeps a record of temporary installation path * DONE (minfiDataEPIC)