| Back to Build/check report for BioC 3.11 experimental data |
This page was generated on 2020-10-15 20:45:50 -0400 (Thu, 15 Oct 2020).
| TO THE DEVELOPERS/MAINTAINERS OF THE mcsurvdata PACKAGE: Please make sure to use the following settings in order to reproduce any error or warning you see on this page. |
| Package 213/391 | Hostname | OS / Arch | INSTALL | BUILD | CHECK | ||||||
| mcsurvdata 1.6.0 Adria Caballe Mestres
| malbec2 | Linux (Ubuntu 18.04.4 LTS) / x86_64 | OK | OK | [ OK ] |
| Package: mcsurvdata |
| Version: 1.6.0 |
| Command: /home/biocbuild/bbs-3.11-bioc/R/bin/R CMD check --install=check:mcsurvdata.install-out.txt --library=/home/biocbuild/bbs-3.11-bioc/R/library --no-vignettes --timings mcsurvdata_1.6.0.tar.gz |
| StartedAt: 2020-10-15 13:38:30 -0400 (Thu, 15 Oct 2020) |
| EndedAt: 2020-10-15 13:39:40 -0400 (Thu, 15 Oct 2020) |
| EllapsedTime: 70.6 seconds |
| RetCode: 0 |
| Status: OK |
| CheckDir: mcsurvdata.Rcheck |
| Warnings: 0 |
##############################################################################
##############################################################################
###
### Running command:
###
### /home/biocbuild/bbs-3.11-bioc/R/bin/R CMD check --install=check:mcsurvdata.install-out.txt --library=/home/biocbuild/bbs-3.11-bioc/R/library --no-vignettes --timings mcsurvdata_1.6.0.tar.gz
###
##############################################################################
##############################################################################
* using log directory ‘/home/biocbuild/bbs-3.11-data-experiment/meat/mcsurvdata.Rcheck’
* using R version 4.0.3 (2020-10-10)
* using platform: x86_64-pc-linux-gnu (64-bit)
* using session charset: UTF-8
* using option ‘--no-vignettes’
* checking for file ‘mcsurvdata/DESCRIPTION’ ... OK
* checking extension type ... Package
* this is package ‘mcsurvdata’ version ‘1.6.0’
* checking package namespace information ... OK
* checking package dependencies ... OK
* checking if this is a source package ... OK
* checking if there is a namespace ... OK
* checking for hidden files and directories ... OK
* checking for portable file names ... OK
* checking for sufficient/correct file permissions ... OK
* checking whether package ‘mcsurvdata’ can be installed ... OK
* checking installed package size ... OK
* checking package directory ... OK
* checking ‘build’ directory ... OK
* checking DESCRIPTION meta-information ... OK
* checking top-level files ... OK
* checking for left-over files ... OK
* checking index information ... OK
* checking package subdirectories ... OK
* checking whether the package can be loaded ... OK
* checking whether the package can be loaded with stated dependencies ... OK
* checking whether the package can be unloaded cleanly ... OK
* checking whether the namespace can be loaded with stated dependencies ... OK
* checking whether the namespace can be unloaded cleanly ... OK
* checking Rd files ... OK
* checking Rd metadata ... OK
* checking Rd cross-references ... OK
* checking for code/documentation mismatches ... OK
* checking Rd \usage sections ... OK
* checking Rd contents ... OK
* checking for unstated dependencies in examples ... OK
* checking files in ‘vignettes’ ... OK
* checking examples ... OK
Examples with CPU (user + system) or elapsed time > 5s
user system elapsed
mcsurvdata 18.837 0.404 22.810
nda.crc 6.796 0.172 7.163
nda.brca 6.461 0.104 6.779
* checking for unstated dependencies in vignettes ... OK
* checking package vignettes in ‘inst/doc’ ... OK
* checking running R code from vignettes ... SKIPPED
* checking re-building of vignette outputs ... SKIPPED
* checking PDF version of manual ... OK
* DONE
Status: OK
mcsurvdata.Rcheck/00install.out
############################################################################## ############################################################################## ### ### Running command: ### ### /home/biocbuild/bbs-3.11-bioc/R/bin/R CMD INSTALL mcsurvdata ### ############################################################################## ############################################################################## * installing to library ‘/home/biocbuild/bbs-3.11-bioc/R/library’ * installing *source* package ‘mcsurvdata’ ... ** using staged installation ** inst ** help *** installing help indices ** building package indices ** installing vignettes ** testing if installed package can be loaded from temporary location ** testing if installed package can be loaded from final location ** testing if installed package keeps a record of temporary installation path * DONE (mcsurvdata)
mcsurvdata.Rcheck/mcsurvdata-Ex.timings
| name | user | system | elapsed | |
| mcsurvdata | 18.837 | 0.404 | 22.810 | |
| nda.brca | 6.461 | 0.104 | 6.779 | |
| nda.crc | 6.796 | 0.172 | 7.163 | |