| Back to Build/check report for BioC 3.11 experimental data |
This page was generated on 2020-10-15 20:45:45 -0400 (Thu, 15 Oct 2020).
| TO THE DEVELOPERS/MAINTAINERS OF THE bronchialIL13 PACKAGE: Please make sure to use the following settings in order to reproduce any error or warning you see on this page. |
| Package 42/391 | Hostname | OS / Arch | INSTALL | BUILD | CHECK | ||||||
| bronchialIL13 1.26.0 Vince Carey
| malbec2 | Linux (Ubuntu 18.04.4 LTS) / x86_64 | OK | OK | [ OK ] |
| Package: bronchialIL13 |
| Version: 1.26.0 |
| Command: /home/biocbuild/bbs-3.11-bioc/R/bin/R CMD check --install=check:bronchialIL13.install-out.txt --library=/home/biocbuild/bbs-3.11-bioc/R/library --no-vignettes --timings bronchialIL13_1.26.0.tar.gz |
| StartedAt: 2020-10-15 13:00:17 -0400 (Thu, 15 Oct 2020) |
| EndedAt: 2020-10-15 13:00:51 -0400 (Thu, 15 Oct 2020) |
| EllapsedTime: 33.7 seconds |
| RetCode: 0 |
| Status: OK |
| CheckDir: bronchialIL13.Rcheck |
| Warnings: 0 |
##############################################################################
##############################################################################
###
### Running command:
###
### /home/biocbuild/bbs-3.11-bioc/R/bin/R CMD check --install=check:bronchialIL13.install-out.txt --library=/home/biocbuild/bbs-3.11-bioc/R/library --no-vignettes --timings bronchialIL13_1.26.0.tar.gz
###
##############################################################################
##############################################################################
* using log directory ‘/home/biocbuild/bbs-3.11-data-experiment/meat/bronchialIL13.Rcheck’
* using R version 4.0.3 (2020-10-10)
* using platform: x86_64-pc-linux-gnu (64-bit)
* using session charset: UTF-8
* using option ‘--no-vignettes’
* checking for file ‘bronchialIL13/DESCRIPTION’ ... OK
* this is package ‘bronchialIL13’ version ‘1.26.0’
* checking package namespace information ... OK
* checking package dependencies ... OK
* checking if this is a source package ... OK
* checking if there is a namespace ... OK
* checking for hidden files and directories ... OK
* checking for portable file names ... OK
* checking for sufficient/correct file permissions ... OK
* checking whether package ‘bronchialIL13’ can be installed ... OK
* checking installed package size ... NOTE
installed size is 69.2Mb
sub-directories of 1Mb or more:
cel 53.5Mb
data 15.7Mb
* checking package directory ... OK
* checking DESCRIPTION meta-information ... NOTE
Malformed Description field: should contain one or more complete sentences.
* checking top-level files ... OK
* checking for left-over files ... OK
* checking index information ... OK
* checking package subdirectories ... OK
* checking whether the package can be loaded ... OK
* checking whether the package can be loaded with stated dependencies ... OK
* checking whether the package can be unloaded cleanly ... OK
* checking whether the namespace can be loaded with stated dependencies ... OK
* checking whether the namespace can be unloaded cleanly ... OK
* checking Rd files ... OK
* checking Rd metadata ... OK
* checking Rd cross-references ... OK
* checking for missing documentation entries ... OK
* checking for code/documentation mismatches ... OK
* checking Rd \usage sections ... OK
* checking Rd contents ... OK
* checking for unstated dependencies in examples ... OK
* checking contents of ‘data’ directory ... OK
* checking data for non-ASCII characters ... OK
* checking data for ASCII and uncompressed saves ... OK
* checking examples ... OK
* checking PDF version of manual ... OK
* DONE
Status: 2 NOTEs
See
‘/home/biocbuild/bbs-3.11-data-experiment/meat/bronchialIL13.Rcheck/00check.log’
for details.
bronchialIL13.Rcheck/00install.out
############################################################################## ############################################################################## ### ### Running command: ### ### /home/biocbuild/bbs-3.11-bioc/R/bin/R CMD INSTALL bronchialIL13 ### ############################################################################## ############################################################################## * installing to library ‘/home/biocbuild/bbs-3.11-bioc/R/library’ * installing *source* package ‘bronchialIL13’ ... ** using staged installation ** data ** inst ** help *** installing help indices ** building package indices ** testing if installed package can be loaded from temporary location ** testing if installed package can be loaded from final location ** testing if installed package keeps a record of temporary installation path * DONE (bronchialIL13)
bronchialIL13.Rcheck/bronchialIL13-Ex.timings
| name | user | system | elapsed | |
| il13tc | 0.073 | 0.000 | 0.073 | |