| Back to Build/check report for BioC 3.11 experimental data |
This page was generated on 2020-10-15 20:45:43 -0400 (Thu, 15 Oct 2020).
| TO THE DEVELOPERS/MAINTAINERS OF THE adductData PACKAGE: Please make sure to use the following settings in order to reproduce any error or warning you see on this page. |
| Package 2/391 | Hostname | OS / Arch | INSTALL | BUILD | CHECK | ||||||
| adductData 1.4.0 Josie Hayes
| malbec2 | Linux (Ubuntu 18.04.4 LTS) / x86_64 | OK | [ OK ] | OK |
| Package: adductData |
| Version: 1.4.0 |
| Command: /home/biocbuild/bbs-3.11-bioc/R/bin/R CMD build --keep-empty-dirs --no-resave-data adductData |
| StartedAt: 2020-10-15 09:47:22 -0400 (Thu, 15 Oct 2020) |
| EndedAt: 2020-10-15 09:47:35 -0400 (Thu, 15 Oct 2020) |
| EllapsedTime: 12.8 seconds |
| RetCode: 0 |
| Status: OK |
| PackageFile: adductData_1.4.0.tar.gz |
| PackageFileSize: 7.734 KiB |
############################################################################## ############################################################################## ### ### Running command: ### ### /home/biocbuild/bbs-3.11-bioc/R/bin/R CMD build --keep-empty-dirs --no-resave-data adductData ### ############################################################################## ############################################################################## * checking for file ‘adductData/DESCRIPTION’ ... OK * preparing ‘adductData’: * checking DESCRIPTION meta-information ... OK * installing the package to build vignettes * creating vignettes ... OK * checking for LF line-endings in source and make files and shell scripts * checking for empty or unneeded directories * building ‘adductData_1.4.0.tar.gz’