Back to Build/check report for BioC 3.11 experimental data |
This page was generated on 2020-10-15 20:46:02 -0400 (Thu, 15 Oct 2020).
TO THE DEVELOPERS/MAINTAINERS OF THE TCGAWorkflowData PACKAGE: Please make sure to use the following settings in order to reproduce any error or warning you see on this page. |
Package 366/391 | Hostname | OS / Arch | INSTALL | BUILD | CHECK | ||||||
TCGAWorkflowData 1.12.0 Tiago Chedraoui Silva
| malbec2 | Linux (Ubuntu 18.04.4 LTS) / x86_64 | OK | [ OK ] | WARNINGS |
Package: TCGAWorkflowData |
Version: 1.12.0 |
Command: /home/biocbuild/bbs-3.11-bioc/R/bin/R CMD build --keep-empty-dirs --no-resave-data TCGAWorkflowData |
StartedAt: 2020-10-15 12:42:02 -0400 (Thu, 15 Oct 2020) |
EndedAt: 2020-10-15 12:45:04 -0400 (Thu, 15 Oct 2020) |
EllapsedTime: 182.3 seconds |
RetCode: 0 |
Status: OK |
PackageFile: TCGAWorkflowData_1.12.0.tar.gz |
PackageFileSize: 77.52 MiB |
############################################################################## ############################################################################## ### ### Running command: ### ### /home/biocbuild/bbs-3.11-bioc/R/bin/R CMD build --keep-empty-dirs --no-resave-data TCGAWorkflowData ### ############################################################################## ############################################################################## * checking for file ‘TCGAWorkflowData/DESCRIPTION’ ... OK * preparing ‘TCGAWorkflowData’: * checking DESCRIPTION meta-information ... OK * installing the package to build vignettes * creating vignettes ... OK * checking for LF line-endings in source and make files and shell scripts * checking for empty or unneeded directories * looking to see if a ‘data/datalist’ file should be added NB: this package now depends on R (>= 3.5.0) WARNING: Added dependency on R >= 3.5.0 because serialized objects in serialize/load version 3 cannot be read in older versions of R. File(s) containing such objects: ‘TCGAWorkflowData/data/CNV.hg19.bypos.111213.rda’ * building ‘TCGAWorkflowData_1.12.0.tar.gz’