| Back to Build/check report for BioC 3.11 experimental data |
This page was generated on 2020-10-15 20:46:02 -0400 (Thu, 15 Oct 2020).
| TO THE DEVELOPERS/MAINTAINERS OF THE TBX20BamSubset PACKAGE: Please make sure to use the following settings in order to reproduce any error or warning you see on this page. |
| Package 360/391 | Hostname | OS / Arch | INSTALL | BUILD | CHECK | ||||||
| TBX20BamSubset 1.24.0 D. Bindreither
| malbec2 | Linux (Ubuntu 18.04.4 LTS) / x86_64 | OK | OK | [ OK ] |
| Package: TBX20BamSubset |
| Version: 1.24.0 |
| Command: /home/biocbuild/bbs-3.11-bioc/R/bin/R CMD check --install=check:TBX20BamSubset.install-out.txt --library=/home/biocbuild/bbs-3.11-bioc/R/library --no-vignettes --timings TBX20BamSubset_1.24.0.tar.gz |
| StartedAt: 2020-10-15 14:15:50 -0400 (Thu, 15 Oct 2020) |
| EndedAt: 2020-10-15 14:16:58 -0400 (Thu, 15 Oct 2020) |
| EllapsedTime: 68.4 seconds |
| RetCode: 0 |
| Status: OK |
| CheckDir: TBX20BamSubset.Rcheck |
| Warnings: 0 |
##############################################################################
##############################################################################
###
### Running command:
###
### /home/biocbuild/bbs-3.11-bioc/R/bin/R CMD check --install=check:TBX20BamSubset.install-out.txt --library=/home/biocbuild/bbs-3.11-bioc/R/library --no-vignettes --timings TBX20BamSubset_1.24.0.tar.gz
###
##############################################################################
##############################################################################
* using log directory ‘/home/biocbuild/bbs-3.11-data-experiment/meat/TBX20BamSubset.Rcheck’
* using R version 4.0.3 (2020-10-10)
* using platform: x86_64-pc-linux-gnu (64-bit)
* using session charset: UTF-8
* using option ‘--no-vignettes’
* checking for file ‘TBX20BamSubset/DESCRIPTION’ ... OK
* this is package ‘TBX20BamSubset’ version ‘1.24.0’
* checking package namespace information ... OK
* checking package dependencies ... OK
* checking if this is a source package ... OK
* checking if there is a namespace ... OK
* checking for hidden files and directories ... OK
* checking for portable file names ... OK
* checking for sufficient/correct file permissions ... OK
* checking whether package ‘TBX20BamSubset’ can be installed ... OK
* checking installed package size ... NOTE
installed size is 98.2Mb
sub-directories of 1Mb or more:
extdata 98.1Mb
* checking package directory ... OK
* checking ‘build’ directory ... OK
* checking DESCRIPTION meta-information ... OK
* checking top-level files ... OK
* checking for left-over files ... OK
* checking index information ... OK
* checking package subdirectories ... OK
* checking R files for non-ASCII characters ... OK
* checking R files for syntax errors ... OK
* checking whether the package can be loaded ... OK
* checking whether the package can be loaded with stated dependencies ... OK
* checking whether the package can be unloaded cleanly ... OK
* checking whether the namespace can be loaded with stated dependencies ... OK
* checking whether the namespace can be unloaded cleanly ... OK
* checking dependencies in R code ... NOTE
Namespace in Imports field not imported from: ‘xtable’
All declared Imports should be used.
Package in Depends field not imported from: ‘Rsamtools’
These packages need to be imported from (in the NAMESPACE file)
for when this namespace is loaded but not attached.
* checking S3 generic/method consistency ... OK
* checking replacement functions ... OK
* checking foreign function calls ... OK
* checking R code for possible problems ... OK
* checking Rd files ... OK
* checking Rd metadata ... OK
* checking Rd cross-references ... OK
* checking for missing documentation entries ... OK
* checking for code/documentation mismatches ... OK
* checking Rd \usage sections ... OK
* checking Rd contents ... OK
* checking for unstated dependencies in examples ... OK
* checking files in ‘vignettes’ ... OK
* checking examples ... OK
* checking for unstated dependencies in vignettes ... OK
* checking package vignettes in ‘inst/doc’ ... OK
* checking running R code from vignettes ... SKIPPED
* checking re-building of vignette outputs ... SKIPPED
* checking PDF version of manual ... OK
* DONE
Status: 2 NOTEs
See
‘/home/biocbuild/bbs-3.11-data-experiment/meat/TBX20BamSubset.Rcheck/00check.log’
for details.
TBX20BamSubset.Rcheck/00install.out
############################################################################## ############################################################################## ### ### Running command: ### ### /home/biocbuild/bbs-3.11-bioc/R/bin/R CMD INSTALL TBX20BamSubset ### ############################################################################## ############################################################################## * installing to library ‘/home/biocbuild/bbs-3.11-bioc/R/library’ * installing *source* package ‘TBX20BamSubset’ ... ** using staged installation ** R ** inst ** byte-compile and prepare package for lazy loading ** help *** installing help indices ** building package indices ** installing vignettes ** testing if installed package can be loaded from temporary location ** testing if installed package can be loaded from final location ** testing if installed package keeps a record of temporary installation path * DONE (TBX20BamSubset)
TBX20BamSubset.Rcheck/TBX20BamSubset-Ex.timings
| name | user | system | elapsed | |
| TBX20BamSubset-package | 0.002 | 0.001 | 0.002 | |
| getBamFileList | 0.003 | 0.000 | 0.002 | |