| Back to Build/check report for BioC 3.11 experimental data | 
This page was generated on 2020-10-15 20:46:01 -0400 (Thu, 15 Oct 2020).
| TO THE DEVELOPERS/MAINTAINERS OF THE SpikeInSubset PACKAGE: Please make sure to use the following settings in order to reproduce any error or warning you see on this page. | 
| Package 349/391 | Hostname | OS / Arch | INSTALL | BUILD | CHECK | ||||||
| SpikeInSubset 1.28.0 Rafael A. Irizarry 
 | malbec2 | Linux (Ubuntu 18.04.4 LTS) / x86_64 | OK | [ OK ] | WARNINGS |  | 
| Package: SpikeInSubset | 
| Version: 1.28.0 | 
| Command: /home/biocbuild/bbs-3.11-bioc/R/bin/R CMD build --keep-empty-dirs --no-resave-data SpikeInSubset | 
| StartedAt: 2020-10-15 12:37:46 -0400 (Thu, 15 Oct 2020) | 
| EndedAt: 2020-10-15 12:37:54 -0400 (Thu, 15 Oct 2020) | 
| EllapsedTime: 8.0 seconds | 
| RetCode: 0 | 
| Status: OK | 
| PackageFile: SpikeInSubset_1.28.0.tar.gz | 
| PackageFileSize: 17.99 MiB | 
############################################################################## ############################################################################## ### ### Running command: ### ### /home/biocbuild/bbs-3.11-bioc/R/bin/R CMD build --keep-empty-dirs --no-resave-data SpikeInSubset ### ############################################################################## ############################################################################## * checking for file ‘SpikeInSubset/DESCRIPTION’ ... OK * preparing ‘SpikeInSubset’: * checking DESCRIPTION meta-information ... OK * checking for LF line-endings in source and make files and shell scripts * checking for empty or unneeded directories * looking to see if a ‘data/datalist’ file should be added * building ‘SpikeInSubset_1.28.0.tar.gz’