| Back to Build/check report for BioC 3.11 experimental data |
This page was generated on 2020-10-15 20:45:58 -0400 (Thu, 15 Oct 2020).
| TO THE DEVELOPERS/MAINTAINERS OF THE RforProteomics PACKAGE: Please make sure to use the following settings in order to reproduce any error or warning you see on this page. |
| Package 298/391 | Hostname | OS / Arch | INSTALL | BUILD | CHECK | ||||||
| RforProteomics 1.26.0 Laurent Gatto
| malbec2 | Linux (Ubuntu 18.04.4 LTS) / x86_64 | [ OK ] | ERROR | skipped |
| Package: RforProteomics |
| Version: 1.26.0 |
| Command: /home/biocbuild/bbs-3.11-bioc/R/bin/R CMD INSTALL RforProteomics |
| StartedAt: 2020-10-15 09:45:51 -0400 (Thu, 15 Oct 2020) |
| EndedAt: 2020-10-15 09:46:12 -0400 (Thu, 15 Oct 2020) |
| EllapsedTime: 21.2 seconds |
| RetCode: 0 |
| Status: OK |
##############################################################################
##############################################################################
###
### Running command:
###
### /home/biocbuild/bbs-3.11-bioc/R/bin/R CMD INSTALL RforProteomics
###
##############################################################################
##############################################################################
* installing to library ‘/home/biocbuild/bbs-3.11-bioc/R/library’
* installing *source* package ‘RforProteomics’ ...
** using staged installation
** R
** data
** inst
** byte-compile and prepare package for lazy loading
Warning: replacing previous import ‘MSnbase::plot’ by ‘graphics::plot’ when loading ‘RforProteomics’
Note: possible error in 'plotOutput("plotma", ': unused argument (clickId = "plotma_click")
** help
*** installing help indices
** building package indices
** installing vignettes
** testing if installed package can be loaded from temporary location
Warning: replacing previous import ‘MSnbase::plot’ by ‘graphics::plot’ when loading ‘RforProteomics’
** testing if installed package can be loaded from final location
Warning: replacing previous import ‘MSnbase::plot’ by ‘graphics::plot’ when loading ‘RforProteomics’
** testing if installed package keeps a record of temporary installation path
* DONE (RforProteomics)