| Back to Build/check report for BioC 3.11 experimental data | 
This page was generated on 2020-10-15 20:45:56 -0400 (Thu, 15 Oct 2020).
| TO THE DEVELOPERS/MAINTAINERS OF THE QDNAseq.mm10 PACKAGE: Please make sure to use the following settings in order to reproduce any error or warning you see on this page. | 
| Package 290/391 | Hostname | OS / Arch | INSTALL | BUILD | CHECK | ||||||
| QDNAseq.mm10 1.18.0 Daoud Sie 
 | malbec2 | Linux (Ubuntu 18.04.4 LTS) / x86_64 | OK | [ OK ] | OK |  | 
| Package: QDNAseq.mm10 | 
| Version: 1.18.0 | 
| Command: /home/biocbuild/bbs-3.11-bioc/R/bin/R CMD build --keep-empty-dirs --no-resave-data QDNAseq.mm10 | 
| StartedAt: 2020-10-15 12:13:18 -0400 (Thu, 15 Oct 2020) | 
| EndedAt: 2020-10-15 12:13:26 -0400 (Thu, 15 Oct 2020) | 
| EllapsedTime: 7.5 seconds | 
| RetCode: 0 | 
| Status: OK | 
| PackageFile: QDNAseq.mm10_1.18.0.tar.gz | 
| PackageFileSize: 31.18 MiB | 
############################################################################## ############################################################################## ### ### Running command: ### ### /home/biocbuild/bbs-3.11-bioc/R/bin/R CMD build --keep-empty-dirs --no-resave-data QDNAseq.mm10 ### ############################################################################## ############################################################################## * checking for file ‘QDNAseq.mm10/DESCRIPTION’ ... OK * preparing ‘QDNAseq.mm10’: * checking DESCRIPTION meta-information ... OK * checking for LF line-endings in source and make files and shell scripts * checking for empty or unneeded directories * looking to see if a ‘data/datalist’ file should be added * building ‘QDNAseq.mm10_1.18.0.tar.gz’