| Back to Build/check report for BioC 3.11 experimental data |
This page was generated on 2020-10-15 20:45:54 -0400 (Thu, 15 Oct 2020).
| TO THE DEVELOPERS/MAINTAINERS OF THE PepsNMRData PACKAGE: Please make sure to use the following settings in order to reproduce any error or warning you see on this page. |
| Package 270/391 | Hostname | OS / Arch | INSTALL | BUILD | CHECK | ||||||
| PepsNMRData 1.6.0 Manon Martin
| malbec2 | Linux (Ubuntu 18.04.4 LTS) / x86_64 | OK | OK | [ OK ] |
| Package: PepsNMRData |
| Version: 1.6.0 |
| Command: /home/biocbuild/bbs-3.11-bioc/R/bin/R CMD check --install=check:PepsNMRData.install-out.txt --library=/home/biocbuild/bbs-3.11-bioc/R/library --no-vignettes --timings PepsNMRData_1.6.0.tar.gz |
| StartedAt: 2020-10-15 13:54:46 -0400 (Thu, 15 Oct 2020) |
| EndedAt: 2020-10-15 13:55:12 -0400 (Thu, 15 Oct 2020) |
| EllapsedTime: 26.2 seconds |
| RetCode: 0 |
| Status: OK |
| CheckDir: PepsNMRData.Rcheck |
| Warnings: 0 |
##############################################################################
##############################################################################
###
### Running command:
###
### /home/biocbuild/bbs-3.11-bioc/R/bin/R CMD check --install=check:PepsNMRData.install-out.txt --library=/home/biocbuild/bbs-3.11-bioc/R/library --no-vignettes --timings PepsNMRData_1.6.0.tar.gz
###
##############################################################################
##############################################################################
* using log directory ‘/home/biocbuild/bbs-3.11-data-experiment/meat/PepsNMRData.Rcheck’
* using R version 4.0.3 (2020-10-10)
* using platform: x86_64-pc-linux-gnu (64-bit)
* using session charset: UTF-8
* using option ‘--no-vignettes’
* checking for file ‘PepsNMRData/DESCRIPTION’ ... OK
* checking extension type ... Package
* this is package ‘PepsNMRData’ version ‘1.6.0’
* package encoding: UTF-8
* checking package namespace information ... OK
* checking package dependencies ... OK
* checking if this is a source package ... OK
* checking if there is a namespace ... OK
* checking for hidden files and directories ... OK
* checking for portable file names ... OK
* checking for sufficient/correct file permissions ... OK
* checking whether package ‘PepsNMRData’ can be installed ... OK
* checking installed package size ... NOTE
installed size is 57.2Mb
sub-directories of 1Mb or more:
data 47.8Mb
extdata 9.3Mb
* checking package directory ... OK
* checking DESCRIPTION meta-information ... OK
* checking top-level files ... OK
* checking for left-over files ... OK
* checking index information ... OK
* checking package subdirectories ... OK
* checking whether the package can be loaded ... OK
* checking whether the package can be loaded with stated dependencies ... OK
* checking whether the package can be unloaded cleanly ... OK
* checking whether the namespace can be loaded with stated dependencies ... OK
* checking whether the namespace can be unloaded cleanly ... OK
* checking Rd files ... OK
* checking Rd metadata ... OK
* checking Rd cross-references ... OK
* checking for missing documentation entries ... OK
* checking for code/documentation mismatches ... OK
* checking Rd \usage sections ... OK
* checking Rd contents ... OK
* checking for unstated dependencies in examples ... OK
* checking contents of ‘data’ directory ... OK
* checking data for non-ASCII characters ... OK
* checking data for ASCII and uncompressed saves ... OK
* checking examples ... OK
* checking PDF version of manual ... OK
* DONE
Status: 1 NOTE
See
‘/home/biocbuild/bbs-3.11-data-experiment/meat/PepsNMRData.Rcheck/00check.log’
for details.
PepsNMRData.Rcheck/00install.out
############################################################################## ############################################################################## ### ### Running command: ### ### /home/biocbuild/bbs-3.11-bioc/R/bin/R CMD INSTALL PepsNMRData ### ############################################################################## ############################################################################## * installing to library ‘/home/biocbuild/bbs-3.11-bioc/R/library’ * installing *source* package ‘PepsNMRData’ ... ** using staged installation ** data *** moving datasets to lazyload DB ** inst ** help *** installing help indices ** building package indices ** testing if installed package can be loaded from temporary location ** testing if installed package can be loaded from final location ** testing if installed package keeps a record of temporary installation path * DONE (PepsNMRData)
PepsNMRData.Rcheck/PepsNMRData-Ex.timings
| name | user | system | elapsed | |
| Data_HS_sp | 0.501 | 0.052 | 0.791 | |
| Data_HU_sp | 0.406 | 0.076 | 0.604 | |
| FidData_HS | 0.237 | 0.000 | 0.257 | |
| FidData_HU | 0.16 | 0.00 | 0.17 | |
| FidInfo_HS | 0.001 | 0.000 | 0.001 | |
| FidInfo_HS_sp | 0.001 | 0.000 | 0.000 | |
| FidInfo_HU | 0.001 | 0.000 | 0.001 | |
| FidInfo_HU_sp | 0.001 | 0.000 | 0.001 | |
| FinalSpecta_HS | 0.048 | 0.000 | 0.137 | |
| FinalSpecta_HU | 0.005 | 0.000 | 0.005 | |
| Group_HS | 0.001 | 0.000 | 0.001 | |
| Group_HU | 0 | 0 | 0 | |
| PEPSNMRData-package | 0.003 | 0.000 | 0.003 | |
| RawFidData_HS | 0.006 | 0.000 | 0.006 | |