| Back to Build/check report for BioC 3.11 experimental data | 
This page was generated on 2020-10-15 20:45:52 -0400 (Thu, 15 Oct 2020).
| TO THE DEVELOPERS/MAINTAINERS OF THE MSstatsBioData PACKAGE: Please make sure to use the following settings in order to reproduce any error or warning you see on this page. | 
| Package 241/391 | Hostname | OS / Arch | INSTALL | BUILD | CHECK | ||||||
| MSstatsBioData 1.10.0 Meena Choi 
 | malbec2 | Linux (Ubuntu 18.04.4 LTS) / x86_64 | OK | [ OK ] | WARNINGS |  | 
| Package: MSstatsBioData | 
| Version: 1.10.0 | 
| Command: /home/biocbuild/bbs-3.11-bioc/R/bin/R CMD build --keep-empty-dirs --no-resave-data MSstatsBioData | 
| StartedAt: 2020-10-15 12:03:26 -0400 (Thu, 15 Oct 2020) | 
| EndedAt: 2020-10-15 12:04:24 -0400 (Thu, 15 Oct 2020) | 
| EllapsedTime: 57.9 seconds | 
| RetCode: 0 | 
| Status: OK | 
| PackageFile: MSstatsBioData_1.10.0.tar.gz | 
| PackageFileSize: 2.807 MiB | 
############################################################################## ############################################################################## ### ### Running command: ### ### /home/biocbuild/bbs-3.11-bioc/R/bin/R CMD build --keep-empty-dirs --no-resave-data MSstatsBioData ### ############################################################################## ############################################################################## * checking for file ‘MSstatsBioData/DESCRIPTION’ ... OK * preparing ‘MSstatsBioData’: * checking DESCRIPTION meta-information ... OK * installing the package to build vignettes * creating vignettes ... OK * checking for LF line-endings in source and make files and shell scripts * checking for empty or unneeded directories * building ‘MSstatsBioData_1.10.0.tar.gz’