| Back to Build/check report for BioC 3.11 experimental data |
This page was generated on 2020-10-15 20:45:48 -0400 (Thu, 15 Oct 2020).
| TO THE DEVELOPERS/MAINTAINERS OF THE KEGGandMetacoreDzPathwaysGEO PACKAGE: Please make sure to use the following settings in order to reproduce any error or warning you see on this page. |
| Package 191/391 | Hostname | OS / Arch | INSTALL | BUILD | CHECK | ||||||
| KEGGandMetacoreDzPathwaysGEO 1.8.0 Gaurav Bhatti
| malbec2 | Linux (Ubuntu 18.04.4 LTS) / x86_64 | OK | OK | [ OK ] |
| Package: KEGGandMetacoreDzPathwaysGEO |
| Version: 1.8.0 |
| Command: /home/biocbuild/bbs-3.11-bioc/R/bin/R CMD check --install=check:KEGGandMetacoreDzPathwaysGEO.install-out.txt --library=/home/biocbuild/bbs-3.11-bioc/R/library --no-vignettes --timings KEGGandMetacoreDzPathwaysGEO_1.8.0.tar.gz |
| StartedAt: 2020-10-15 13:34:49 -0400 (Thu, 15 Oct 2020) |
| EndedAt: 2020-10-15 13:35:57 -0400 (Thu, 15 Oct 2020) |
| EllapsedTime: 68.0 seconds |
| RetCode: 0 |
| Status: OK |
| CheckDir: KEGGandMetacoreDzPathwaysGEO.Rcheck |
| Warnings: 0 |
##############################################################################
##############################################################################
###
### Running command:
###
### /home/biocbuild/bbs-3.11-bioc/R/bin/R CMD check --install=check:KEGGandMetacoreDzPathwaysGEO.install-out.txt --library=/home/biocbuild/bbs-3.11-bioc/R/library --no-vignettes --timings KEGGandMetacoreDzPathwaysGEO_1.8.0.tar.gz
###
##############################################################################
##############################################################################
* using log directory ‘/home/biocbuild/bbs-3.11-data-experiment/meat/KEGGandMetacoreDzPathwaysGEO.Rcheck’
* using R version 4.0.3 (2020-10-10)
* using platform: x86_64-pc-linux-gnu (64-bit)
* using session charset: UTF-8
* using option ‘--no-vignettes’
* checking for file ‘KEGGandMetacoreDzPathwaysGEO/DESCRIPTION’ ... OK
* checking extension type ... Package
* this is package ‘KEGGandMetacoreDzPathwaysGEO’ version ‘1.8.0’
* checking package namespace information ... OK
* checking package dependencies ... OK
* checking if this is a source package ... OK
* checking if there is a namespace ... OK
* checking for hidden files and directories ... OK
* checking for portable file names ... OK
* checking for sufficient/correct file permissions ... OK
* checking whether package ‘KEGGandMetacoreDzPathwaysGEO’ can be installed ... OK
* checking installed package size ... NOTE
installed size is 98.7Mb
sub-directories of 1Mb or more:
data 98.5Mb
* checking package directory ... OK
* checking ‘build’ directory ... OK
* checking DESCRIPTION meta-information ... OK
* checking top-level files ... OK
* checking for left-over files ... OK
* checking index information ... OK
* checking package subdirectories ... OK
* checking whether the package can be loaded ... OK
* checking whether the package can be loaded with stated dependencies ... OK
* checking whether the package can be unloaded cleanly ... OK
* checking whether the namespace can be loaded with stated dependencies ... OK
* checking whether the namespace can be unloaded cleanly ... OK
* checking Rd files ... OK
* checking Rd metadata ... OK
* checking Rd cross-references ... OK
* checking for missing documentation entries ... OK
* checking for code/documentation mismatches ... OK
* checking Rd \usage sections ... OK
* checking Rd contents ... OK
* checking for unstated dependencies in examples ... OK
* checking contents of ‘data’ directory ... OK
* checking data for non-ASCII characters ... OK
* checking data for ASCII and uncompressed saves ... OK
* checking files in ‘vignettes’ ... OK
* checking examples ... OK
* checking for unstated dependencies in vignettes ... OK
* checking package vignettes in ‘inst/doc’ ... OK
* checking running R code from vignettes ... SKIPPED
* checking re-building of vignette outputs ... SKIPPED
* checking PDF version of manual ... OK
* DONE
Status: 1 NOTE
See
‘/home/biocbuild/bbs-3.11-data-experiment/meat/KEGGandMetacoreDzPathwaysGEO.Rcheck/00check.log’
for details.
KEGGandMetacoreDzPathwaysGEO.Rcheck/00install.out
############################################################################## ############################################################################## ### ### Running command: ### ### /home/biocbuild/bbs-3.11-bioc/R/bin/R CMD INSTALL KEGGandMetacoreDzPathwaysGEO ### ############################################################################## ############################################################################## * installing to library ‘/home/biocbuild/bbs-3.11-bioc/R/library’ * installing *source* package ‘KEGGandMetacoreDzPathwaysGEO’ ... ** using staged installation ** data ** help *** installing help indices ** building package indices ** installing vignettes ** testing if installed package can be loaded from temporary location ** testing if installed package can be loaded from final location ** testing if installed package keeps a record of temporary installation path * DONE (KEGGandMetacoreDzPathwaysGEO)
KEGGandMetacoreDzPathwaysGEO.Rcheck/KEGGandMetacoreDzPathwaysGEO-Ex.timings
| name | user | system | elapsed | |
| GSE1145 | 0.325 | 0.008 | 0.333 | |
| GSE11906 | 2.690 | 0.048 | 2.738 | |
| GSE14924_CD4 | 0.217 | 0.008 | 0.225 | |
| GSE14924_CD8 | 0.228 | 0.004 | 0.232 | |
| GSE16759 | 0.309 | 0.000 | 0.309 | |
| GSE19420 | 0.239 | 0.008 | 0.246 | |
| GSE20164 | 0.085 | 0.004 | 0.088 | |
| GSE22780 | 0.311 | 0.016 | 0.328 | |
| GSE23878 | 0.783 | 0.008 | 0.792 | |
| GSE24739_G0 | 0.407 | 0.004 | 0.411 | |
| GSE24739_G1 | 0.402 | 0.012 | 0.413 | |
| GSE30153 | 0.514 | 0.008 | 0.521 | |
| GSE32676 | 0.635 | 0.020 | 0.654 | |
| GSE38666_epithelia | 0.268 | 0.012 | 0.280 | |
| GSE38666_stroma | 0.184 | 0.000 | 0.184 | |
| GSE4183 | 0.212 | 0.004 | 0.215 | |
| GSE42057 | 0.839 | 0.012 | 0.851 | |
| GSE7305 | 0.612 | 0.004 | 0.616 | |
| KEGGandMetacoreDzPathwaysGEO-package | 0.557 | 0.028 | 0.622 | |