| Back to Build/check report for BioC 3.11 experimental data |
This page was generated on 2020-10-15 20:45:47 -0400 (Thu, 15 Oct 2020).
| TO THE DEVELOPERS/MAINTAINERS OF THE HDCytoData PACKAGE: Please make sure to use the following settings in order to reproduce any error or warning you see on this page. |
| Package 164/391 | Hostname | OS / Arch | INSTALL | BUILD | CHECK | ||||||
| HDCytoData 1.8.0 Lukas M. Weber
| malbec2 | Linux (Ubuntu 18.04.4 LTS) / x86_64 | OK | OK | [ OK ] |
| Package: HDCytoData |
| Version: 1.8.0 |
| Command: /home/biocbuild/bbs-3.11-bioc/R/bin/R CMD check --install=check:HDCytoData.install-out.txt --library=/home/biocbuild/bbs-3.11-bioc/R/library --no-vignettes --timings HDCytoData_1.8.0.tar.gz |
| StartedAt: 2020-10-15 13:29:07 -0400 (Thu, 15 Oct 2020) |
| EndedAt: 2020-10-15 13:34:42 -0400 (Thu, 15 Oct 2020) |
| EllapsedTime: 335.3 seconds |
| RetCode: 0 |
| Status: OK |
| CheckDir: HDCytoData.Rcheck |
| Warnings: 0 |
##############################################################################
##############################################################################
###
### Running command:
###
### /home/biocbuild/bbs-3.11-bioc/R/bin/R CMD check --install=check:HDCytoData.install-out.txt --library=/home/biocbuild/bbs-3.11-bioc/R/library --no-vignettes --timings HDCytoData_1.8.0.tar.gz
###
##############################################################################
##############################################################################
* using log directory ‘/home/biocbuild/bbs-3.11-data-experiment/meat/HDCytoData.Rcheck’
* using R version 4.0.3 (2020-10-10)
* using platform: x86_64-pc-linux-gnu (64-bit)
* using session charset: UTF-8
* using option ‘--no-vignettes’
* checking for file ‘HDCytoData/DESCRIPTION’ ... OK
* this is package ‘HDCytoData’ version ‘1.8.0’
* checking package namespace information ... OK
* checking package dependencies ... OK
* checking if this is a source package ... OK
* checking if there is a namespace ... OK
* checking for hidden files and directories ... OK
* checking for portable file names ... OK
* checking for sufficient/correct file permissions ... OK
* checking whether package ‘HDCytoData’ can be installed ... OK
* checking installed package size ... OK
* checking package directory ... OK
* checking ‘build’ directory ... OK
* checking DESCRIPTION meta-information ... OK
* checking top-level files ... OK
* checking for left-over files ... OK
* checking index information ... OK
* checking package subdirectories ... OK
* checking R files for non-ASCII characters ... OK
* checking R files for syntax errors ... OK
* checking whether the package can be loaded ... OK
* checking whether the package can be loaded with stated dependencies ... OK
* checking whether the package can be unloaded cleanly ... OK
* checking whether the namespace can be loaded with stated dependencies ... OK
* checking whether the namespace can be unloaded cleanly ... OK
* checking dependencies in R code ... OK
* checking S3 generic/method consistency ... OK
* checking replacement functions ... OK
* checking foreign function calls ... OK
* checking R code for possible problems ... OK
* checking Rd files ... OK
* checking Rd metadata ... OK
* checking Rd cross-references ... OK
* checking for missing documentation entries ... OK
* checking for code/documentation mismatches ... OK
* checking Rd \usage sections ... OK
* checking Rd contents ... OK
* checking for unstated dependencies in examples ... OK
* checking files in ‘vignettes’ ... OK
* checking examples ... OK
Examples with CPU (user + system) or elapsed time > 5s
user system elapsed
Samusik_all_SE 12.806 0.412 15.654
Bodenmiller_BCR_XL_SE 7.810 0.160 13.817
Levine_32dim_SE 6.252 0.136 7.179
Weber_AML_sim_main_5pc_SE 6.105 0.168 7.284
Mosmann_rare_SE 5.853 0.147 14.520
Samusik_01_SE 5.357 0.088 5.963
Nilsson_rare_SE 5.315 0.076 6.016
Krieg_Anti_PD_1_SE 5.256 0.116 6.592
Levine_13dim_SE 4.884 0.064 5.548
Weber_BCR_XL_sim_main_SE 4.420 0.092 5.199
* checking for unstated dependencies in vignettes ... OK
* checking package vignettes in ‘inst/doc’ ... OK
* checking running R code from vignettes ... SKIPPED
* checking re-building of vignette outputs ... SKIPPED
* checking PDF version of manual ... OK
* DONE
Status: OK
HDCytoData.Rcheck/00install.out
############################################################################## ############################################################################## ### ### Running command: ### ### /home/biocbuild/bbs-3.11-bioc/R/bin/R CMD INSTALL HDCytoData ### ############################################################################## ############################################################################## * installing to library ‘/home/biocbuild/bbs-3.11-bioc/R/library’ * installing *source* package ‘HDCytoData’ ... ** using staged installation ** R ** inst ** byte-compile and prepare package for lazy loading ** help *** installing help indices ** building package indices ** installing vignettes ** testing if installed package can be loaded from temporary location snapshotDate(): 2020-04-27 ** testing if installed package can be loaded from final location snapshotDate(): 2020-04-27 ** testing if installed package keeps a record of temporary installation path * DONE (HDCytoData)
HDCytoData.Rcheck/HDCytoData-Ex.timings
| name | user | system | elapsed | |
| Bodenmiller_BCR_XL_SE | 7.810 | 0.160 | 13.817 | |
| Krieg_Anti_PD_1_SE | 5.256 | 0.116 | 6.592 | |
| Levine_13dim_SE | 4.884 | 0.064 | 5.548 | |
| Levine_32dim_SE | 6.252 | 0.136 | 7.179 | |
| Mosmann_rare_SE | 5.853 | 0.147 | 14.520 | |
| Nilsson_rare_SE | 5.315 | 0.076 | 6.016 | |
| Samusik_01_SE | 5.357 | 0.088 | 5.963 | |
| Samusik_all_SE | 12.806 | 0.412 | 15.654 | |
| Weber_AML_sim_main_5pc_SE | 6.105 | 0.168 | 7.284 | |
| Weber_BCR_XL_sim_main_SE | 4.420 | 0.092 | 5.199 | |