| Back to Build/check report for BioC 3.11 experimental data |
This page was generated on 2020-10-15 20:45:46 -0400 (Thu, 15 Oct 2020).
| TO THE DEVELOPERS/MAINTAINERS OF THE FANTOM3and4CAGE PACKAGE: Please make sure to use the following settings in order to reproduce any error or warning you see on this page. |
| Package 114/391 | Hostname | OS / Arch | INSTALL | BUILD | CHECK | ||||||
| FANTOM3and4CAGE 1.24.0 Vanja Haberle
| malbec2 | Linux (Ubuntu 18.04.4 LTS) / x86_64 | OK | OK | [ OK ] |
| Package: FANTOM3and4CAGE |
| Version: 1.24.0 |
| Command: /home/biocbuild/bbs-3.11-bioc/R/bin/R CMD check --install=check:FANTOM3and4CAGE.install-out.txt --library=/home/biocbuild/bbs-3.11-bioc/R/library --no-vignettes --timings FANTOM3and4CAGE_1.24.0.tar.gz |
| StartedAt: 2020-10-15 13:19:54 -0400 (Thu, 15 Oct 2020) |
| EndedAt: 2020-10-15 13:20:56 -0400 (Thu, 15 Oct 2020) |
| EllapsedTime: 61.2 seconds |
| RetCode: 0 |
| Status: OK |
| CheckDir: FANTOM3and4CAGE.Rcheck |
| Warnings: 0 |
##############################################################################
##############################################################################
###
### Running command:
###
### /home/biocbuild/bbs-3.11-bioc/R/bin/R CMD check --install=check:FANTOM3and4CAGE.install-out.txt --library=/home/biocbuild/bbs-3.11-bioc/R/library --no-vignettes --timings FANTOM3and4CAGE_1.24.0.tar.gz
###
##############################################################################
##############################################################################
* using log directory ‘/home/biocbuild/bbs-3.11-data-experiment/meat/FANTOM3and4CAGE.Rcheck’
* using R version 4.0.3 (2020-10-10)
* using platform: x86_64-pc-linux-gnu (64-bit)
* using session charset: UTF-8
* using option ‘--no-vignettes’
* checking for file ‘FANTOM3and4CAGE/DESCRIPTION’ ... OK
* this is package ‘FANTOM3and4CAGE’ version ‘1.24.0’
* checking package namespace information ... OK
* checking package dependencies ... OK
* checking if this is a source package ... OK
* checking if there is a namespace ... OK
* checking for hidden files and directories ... OK
* checking for portable file names ... OK
* checking for sufficient/correct file permissions ... OK
* checking whether package ‘FANTOM3and4CAGE’ can be installed ... OK
* checking installed package size ... NOTE
installed size is 34.4Mb
sub-directories of 1Mb or more:
data 34.3Mb
* checking package directory ... OK
* checking ‘build’ directory ... OK
* checking DESCRIPTION meta-information ... OK
* checking top-level files ... OK
* checking for left-over files ... OK
* checking index information ... OK
* checking package subdirectories ... OK
* checking whether the package can be loaded ... OK
* checking whether the package can be loaded with stated dependencies ... OK
* checking whether the package can be unloaded cleanly ... OK
* checking whether the namespace can be loaded with stated dependencies ... OK
* checking whether the namespace can be unloaded cleanly ... OK
* checking Rd files ... OK
* checking Rd metadata ... OK
* checking Rd cross-references ... OK
* checking for missing documentation entries ... OK
* checking for code/documentation mismatches ... OK
* checking Rd \usage sections ... OK
* checking Rd contents ... OK
* checking for unstated dependencies in examples ... OK
* checking contents of ‘data’ directory ... OK
* checking data for non-ASCII characters ... OK
* checking data for ASCII and uncompressed saves ... OK
* checking files in ‘vignettes’ ... OK
* checking examples ... OK
Examples with CPU (user + system) or elapsed time > 5s
user system elapsed
FANTOMtissueCAGEhuman 7.512 0.241 7.752
* checking for unstated dependencies in vignettes ... OK
* checking package vignettes in ‘inst/doc’ ... OK
* checking running R code from vignettes ... SKIPPED
* checking re-building of vignette outputs ... SKIPPED
* checking PDF version of manual ... OK
* DONE
Status: 1 NOTE
See
‘/home/biocbuild/bbs-3.11-data-experiment/meat/FANTOM3and4CAGE.Rcheck/00check.log’
for details.
FANTOM3and4CAGE.Rcheck/00install.out
############################################################################## ############################################################################## ### ### Running command: ### ### /home/biocbuild/bbs-3.11-bioc/R/bin/R CMD INSTALL FANTOM3and4CAGE ### ############################################################################## ############################################################################## * installing to library ‘/home/biocbuild/bbs-3.11-bioc/R/library’ * installing *source* package ‘FANTOM3and4CAGE’ ... ** using staged installation ** data ** help *** installing help indices ** building package indices ** installing vignettes ** testing if installed package can be loaded from temporary location ** testing if installed package can be loaded from final location ** testing if installed package keeps a record of temporary installation path * DONE (FANTOM3and4CAGE)
FANTOM3and4CAGE.Rcheck/FANTOM3and4CAGE-Ex.timings
| name | user | system | elapsed | |
| FANTOMhumanSamples | 0.017 | 0.001 | 0.017 | |
| FANTOMmouseSamples | 0.000 | 0.002 | 0.002 | |
| FANTOMtimecourseCAGEhuman | 3.387 | 0.120 | 3.507 | |
| FANTOMtimecourseCAGEmouse | 0.265 | 0.023 | 0.288 | |
| FANTOMtissueCAGEhuman | 7.512 | 0.241 | 7.752 | |
| FANTOMtissueCAGEmouse | 2.941 | 0.024 | 2.965 | |